BEGIN:VCALENDAR
VERSION:2.0
PRODID:-//Lombard Swim Club - ECPv6.11.2.1//NONSGML v1.0//EN
CALSCALE:GREGORIAN
METHOD:PUBLISH
X-ORIGINAL-URL:https://www.lombardswimclub.com
X-WR-CALDESC:Events for Lombard Swim Club
REFRESH-INTERVAL;VALUE=DURATION:PT1H
X-Robots-Tag:noindex
X-PUBLISHED-TTL:PT1H
BEGIN:VTIMEZONE
TZID:America/New_York
BEGIN:DAYLIGHT
TZOFFSETFROM:-0500
TZOFFSETTO:-0400
TZNAME:EDT
DTSTART:20260308T070000
END:DAYLIGHT
BEGIN:STANDARD
TZOFFSETFROM:-0400
TZOFFSETTO:-0500
TZNAME:EST
DTSTART:20261101T060000
END:STANDARD
END:VTIMEZONE
BEGIN:VEVENT
DTSTART;TZID=America/New_York:20260805T180000
DTEND;TZID=America/New_York:20260805T190000
DTSTAMP:20260425T063756
CREATED:20250531T175042Z
LAST-MODIFIED:20250531T175042Z
UID:5350-1785952800-1785956400@www.lombardswimclub.com
SUMMARY:Evening Aquacize
DESCRIPTION:Pool.
URL:https://www.lombardswimclub.com/event/evening-aquacize-2/2026-08-05/
END:VEVENT
BEGIN:VEVENT
DTSTART;TZID=America/New_York:20260806T070000
DTEND;TZID=America/New_York:20260806T090000
DTSTAMP:20260425T063756
CREATED:20240528T162847Z
LAST-MODIFIED:20240528T162847Z
UID:5535-1785999600-1786006800@www.lombardswimclub.com
SUMMARY:Lap Clinic
DESCRIPTION:Pool.
URL:https://www.lombardswimclub.com/event/lap-clinic/2026-08-06/
END:VEVENT
BEGIN:VEVENT
DTSTART;TZID=America/New_York:20260806T123000
DTEND;TZID=America/New_York:20260806T133000
DTSTAMP:20260425T063756
CREATED:20230518T184247Z
LAST-MODIFIED:20230518T184247Z
UID:5452-1786019400-1786023000@www.lombardswimclub.com
SUMMARY:Aquacize
DESCRIPTION:Pool.
URL:https://www.lombardswimclub.com/event/aquacize/2026-08-06/
END:VEVENT
BEGIN:VEVENT
DTSTART;TZID=America/New_York:20260806T190000
DTEND;TZID=America/New_York:20260806T200000
DTSTAMP:20260425T063756
CREATED:20230425T170708Z
LAST-MODIFIED:20230425T170708Z
UID:5189-1786042800-1786046400@www.lombardswimclub.com
SUMMARY:Game Night: Trivia by Table
DESCRIPTION:Upper Deck.
URL:https://www.lombardswimclub.com/event/game-night-trivia-by-table/2026-08-06/
END:VEVENT
BEGIN:VEVENT
DTSTART;TZID=America/New_York:20260807T123000
DTEND;TZID=America/New_York:20260807T133000
DTSTAMP:20260425T063756
CREATED:20230518T184247Z
LAST-MODIFIED:20230518T184247Z
UID:5453-1786105800-1786109400@www.lombardswimclub.com
SUMMARY:Aquacize
DESCRIPTION:Pool.
URL:https://www.lombardswimclub.com/event/aquacize/2026-08-07/
END:VEVENT
BEGIN:VEVENT
DTSTART;TZID=America/New_York:20260807T190000
DTEND;TZID=America/New_York:20260807T203000
DTSTAMP:20260425T063756
CREATED:20250527T183028Z
LAST-MODIFIED:20250527T183028Z
UID:5234-1786129200-1786134600@www.lombardswimclub.com
SUMMARY:Movie-in-the-Game-Room
DESCRIPTION:Game Room.
URL:https://www.lombardswimclub.com/event/kids-movie-night/2026-08-07/
LOCATION:Game Room
END:VEVENT
BEGIN:VEVENT
DTSTART;TZID=America/New_York:20260808T123000
DTEND;TZID=America/New_York:20260808T133000
DTSTAMP:20260425T063756
CREATED:20230518T184247Z
LAST-MODIFIED:20230518T184247Z
UID:5454-1786192200-1786195800@www.lombardswimclub.com
SUMMARY:Aquacize
DESCRIPTION:Pool.
URL:https://www.lombardswimclub.com/event/aquacize/2026-08-08/
END:VEVENT
BEGIN:VEVENT
DTSTART;TZID=America/New_York:20260808T200000
DTEND;TZID=America/New_York:20260808T213000
DTSTAMP:20260425T063756
CREATED:20230622T162925Z
LAST-MODIFIED:20230622T162925Z
UID:5246-1786219200-1786224600@www.lombardswimclub.com
SUMMARY:Family Float Night
DESCRIPTION:Pool.
URL:https://www.lombardswimclub.com/event/family-float-night/2026-08-08/
END:VEVENT
BEGIN:VEVENT
DTSTART;TZID=America/New_York:20260809T123000
DTEND;TZID=America/New_York:20260809T133000
DTSTAMP:20260425T063756
CREATED:20230518T184247Z
LAST-MODIFIED:20230518T184247Z
UID:5455-1786278600-1786282200@www.lombardswimclub.com
SUMMARY:Aquacize
DESCRIPTION:Pool.
URL:https://www.lombardswimclub.com/event/aquacize/2026-08-09/
END:VEVENT
BEGIN:VEVENT
DTSTART;TZID=America/New_York:20260809T150000
DTEND;TZID=America/New_York:20260809T153000
DTSTAMP:20260425T063756
CREATED:20230622T164720Z
LAST-MODIFIED:20230622T164720Z
UID:5217-1786287600-1786289400@www.lombardswimclub.com
SUMMARY:Adult Swim
DESCRIPTION:Pool.
URL:https://www.lombardswimclub.com/event/adult-swim-3/2026-08-09/
END:VEVENT
BEGIN:VEVENT
DTSTART;TZID=America/New_York:20260810T070000
DTEND;TZID=America/New_York:20260810T090000
DTSTAMP:20260425T063756
CREATED:20240528T162847Z
LAST-MODIFIED:20240528T162847Z
UID:5536-1786345200-1786352400@www.lombardswimclub.com
SUMMARY:Lap Clinic
DESCRIPTION:Pool.
URL:https://www.lombardswimclub.com/event/lap-clinic/2026-08-10/
END:VEVENT
BEGIN:VEVENT
DTSTART;TZID=America/New_York:20260810T123000
DTEND;TZID=America/New_York:20260810T133000
DTSTAMP:20260425T063756
CREATED:20230518T184247Z
LAST-MODIFIED:20230518T184247Z
UID:5456-1786365000-1786368600@www.lombardswimclub.com
SUMMARY:Aquacize
DESCRIPTION:Pool.
URL:https://www.lombardswimclub.com/event/aquacize/2026-08-10/
END:VEVENT
BEGIN:VEVENT
DTSTART;TZID=America/New_York:20260810T183000
DTEND;TZID=America/New_York:20260810T193000
DTSTAMP:20260425T063756
CREATED:20230621T165236Z
LAST-MODIFIED:20260409T153500Z
UID:2275-1786386600-1786390200@www.lombardswimclub.com
SUMMARY:Coffee & Conversation: Sharon Thompson-Schill
DESCRIPTION:The Advantages of Being Uninhibited.\n\nUpper Deck.
URL:https://www.lombardswimclub.com/event/coffee-conversation-5/
END:VEVENT
BEGIN:VEVENT
DTSTART;TZID=America/New_York:20260811T070000
DTEND;TZID=America/New_York:20260811T090000
DTSTAMP:20260425T063756
CREATED:20240528T162847Z
LAST-MODIFIED:20240528T162847Z
UID:5537-1786431600-1786438800@www.lombardswimclub.com
SUMMARY:Lap Clinic
DESCRIPTION:Pool.
URL:https://www.lombardswimclub.com/event/lap-clinic/2026-08-11/
END:VEVENT
BEGIN:VEVENT
DTSTART;TZID=America/New_York:20260811T123000
DTEND;TZID=America/New_York:20260811T133000
DTSTAMP:20260425T063756
CREATED:20230518T184247Z
LAST-MODIFIED:20230518T184247Z
UID:5457-1786451400-1786455000@www.lombardswimclub.com
SUMMARY:Aquacize
DESCRIPTION:Pool.
URL:https://www.lombardswimclub.com/event/aquacize/2026-08-11/
END:VEVENT
BEGIN:VEVENT
DTSTART;TZID=America/New_York:20260811T180000
DTEND;TZID=America/New_York:20260811T190000
DTSTAMP:20260425T063756
CREATED:20250531T175042Z
LAST-MODIFIED:20250531T175042Z
UID:5351-1786471200-1786474800@www.lombardswimclub.com
SUMMARY:Evening Aquacize
DESCRIPTION:Pool.
URL:https://www.lombardswimclub.com/event/evening-aquacize-2/2026-08-11/
END:VEVENT
BEGIN:VEVENT
DTSTART;TZID=America/New_York:20260812T070000
DTEND;TZID=America/New_York:20260812T090000
DTSTAMP:20260425T063756
CREATED:20240528T162847Z
LAST-MODIFIED:20240528T162847Z
UID:5538-1786518000-1786525200@www.lombardswimclub.com
SUMMARY:Lap Clinic
DESCRIPTION:Pool.
URL:https://www.lombardswimclub.com/event/lap-clinic/2026-08-12/
END:VEVENT
BEGIN:VEVENT
DTSTART;TZID=America/New_York:20260812T123000
DTEND;TZID=America/New_York:20260812T133000
DTSTAMP:20260425T063756
CREATED:20230518T184247Z
LAST-MODIFIED:20230518T184247Z
UID:5458-1786537800-1786541400@www.lombardswimclub.com
SUMMARY:Aquacize
DESCRIPTION:Pool.
URL:https://www.lombardswimclub.com/event/aquacize/2026-08-12/
END:VEVENT
BEGIN:VEVENT
DTSTART;TZID=America/New_York:20260812T180000
DTEND;TZID=America/New_York:20260812T190000
DTSTAMP:20260425T063756
CREATED:20250531T175042Z
LAST-MODIFIED:20250531T175042Z
UID:5352-1786557600-1786561200@www.lombardswimclub.com
SUMMARY:Evening Aquacize
DESCRIPTION:Pool.
URL:https://www.lombardswimclub.com/event/evening-aquacize-2/2026-08-12/
END:VEVENT
BEGIN:VEVENT
DTSTART;TZID=America/New_York:20260813T070000
DTEND;TZID=America/New_York:20260813T090000
DTSTAMP:20260425T063756
CREATED:20240528T162847Z
LAST-MODIFIED:20240528T162847Z
UID:5539-1786604400-1786611600@www.lombardswimclub.com
SUMMARY:Lap Clinic
DESCRIPTION:Pool.
URL:https://www.lombardswimclub.com/event/lap-clinic/2026-08-13/
END:VEVENT
BEGIN:VEVENT
DTSTART;TZID=America/New_York:20260813T123000
DTEND;TZID=America/New_York:20260813T133000
DTSTAMP:20260425T063756
CREATED:20230518T184247Z
LAST-MODIFIED:20230518T184247Z
UID:5459-1786624200-1786627800@www.lombardswimclub.com
SUMMARY:Aquacize
DESCRIPTION:Pool.
URL:https://www.lombardswimclub.com/event/aquacize/2026-08-13/
END:VEVENT
BEGIN:VEVENT
DTSTART;TZID=America/New_York:20260813T190000
DTEND;TZID=America/New_York:20260813T200000
DTSTAMP:20260425T063756
CREATED:20230425T163659Z
LAST-MODIFIED:20230425T163659Z
UID:5185-1786647600-1786651200@www.lombardswimclub.com
SUMMARY:Game Night: Quizzo
DESCRIPTION:Upper Deck.
URL:https://www.lombardswimclub.com/event/game-night-quizzo-with-johnny-goodtimes/2026-08-13/
END:VEVENT
BEGIN:VEVENT
DTSTART;TZID=America/New_York:20260814T123000
DTEND;TZID=America/New_York:20260814T133000
DTSTAMP:20260425T063756
CREATED:20230518T184247Z
LAST-MODIFIED:20230518T184247Z
UID:5460-1786710600-1786714200@www.lombardswimclub.com
SUMMARY:Aquacize
DESCRIPTION:Pool.
URL:https://www.lombardswimclub.com/event/aquacize/2026-08-14/
END:VEVENT
BEGIN:VEVENT
DTSTART;TZID=America/New_York:20260814T190000
DTEND;TZID=America/New_York:20260814T203000
DTSTAMP:20260425T063756
CREATED:20250527T183028Z
LAST-MODIFIED:20250527T183028Z
UID:5235-1786734000-1786739400@www.lombardswimclub.com
SUMMARY:Movie-in-the-Game-Room
DESCRIPTION:Game Room.
URL:https://www.lombardswimclub.com/event/kids-movie-night/2026-08-14/
LOCATION:Game Room
END:VEVENT
BEGIN:VEVENT
DTSTART;TZID=America/New_York:20260814T190000
DTEND;TZID=America/New_York:20260814T210000
DTSTAMP:20260425T063756
CREATED:20250527T165952Z
LAST-MODIFIED:20260330T193342Z
UID:4478-1786734000-1786741200@www.lombardswimclub.com
SUMMARY:Friday Night Live: Maya Buchanan
DESCRIPTION:Upper Deck.
URL:https://www.lombardswimclub.com/event/friday-night-live-erik-kaszynski/
END:VEVENT
BEGIN:VEVENT
DTSTART;TZID=America/New_York:20260815T123000
DTEND;TZID=America/New_York:20260815T133000
DTSTAMP:20260425T063756
CREATED:20230518T184247Z
LAST-MODIFIED:20230518T184247Z
UID:5461-1786797000-1786800600@www.lombardswimclub.com
SUMMARY:Aquacize
DESCRIPTION:Pool.
URL:https://www.lombardswimclub.com/event/aquacize/2026-08-15/
END:VEVENT
BEGIN:VEVENT
DTSTART;TZID=America/New_York:20260815T200000
DTEND;TZID=America/New_York:20260815T213000
DTSTAMP:20260425T063756
CREATED:20230622T162925Z
LAST-MODIFIED:20230622T162925Z
UID:5247-1786824000-1786829400@www.lombardswimclub.com
SUMMARY:Family Float Night
DESCRIPTION:Pool.
URL:https://www.lombardswimclub.com/event/family-float-night/2026-08-15/
END:VEVENT
BEGIN:VEVENT
DTSTART;TZID=America/New_York:20260816T123000
DTEND;TZID=America/New_York:20260816T133000
DTSTAMP:20260425T063756
CREATED:20230518T184247Z
LAST-MODIFIED:20230518T184247Z
UID:5462-1786883400-1786887000@www.lombardswimclub.com
SUMMARY:Aquacize
DESCRIPTION:Pool.
URL:https://www.lombardswimclub.com/event/aquacize/2026-08-16/
END:VEVENT
BEGIN:VEVENT
DTSTART;TZID=America/New_York:20260816T150000
DTEND;TZID=America/New_York:20260816T153000
DTSTAMP:20260425T063756
CREATED:20230622T164720Z
LAST-MODIFIED:20230622T164720Z
UID:5218-1786892400-1786894200@www.lombardswimclub.com
SUMMARY:Adult Swim
DESCRIPTION:Pool.
URL:https://www.lombardswimclub.com/event/adult-swim-3/2026-08-16/
END:VEVENT
BEGIN:VEVENT
DTSTART;TZID=America/New_York:20260817T123000
DTEND;TZID=America/New_York:20260817T133000
DTSTAMP:20260425T063756
CREATED:20230518T184247Z
LAST-MODIFIED:20230518T184247Z
UID:5463-1786969800-1786973400@www.lombardswimclub.com
SUMMARY:Aquacize
DESCRIPTION:Pool.
URL:https://www.lombardswimclub.com/event/aquacize/2026-08-17/
END:VEVENT
END:VCALENDAR