BEGIN:VCALENDAR
VERSION:2.0
PRODID:-//Lombard Swim Club - ECPv6.11.2.1//NONSGML v1.0//EN
CALSCALE:GREGORIAN
METHOD:PUBLISH
X-WR-CALNAME:Lombard Swim Club
X-ORIGINAL-URL:https://www.lombardswimclub.com
X-WR-CALDESC:Events for Lombard Swim Club
REFRESH-INTERVAL;VALUE=DURATION:PT1H
X-Robots-Tag:noindex
X-PUBLISHED-TTL:PT1H
BEGIN:VTIMEZONE
TZID:America/New_York
BEGIN:DAYLIGHT
TZOFFSETFROM:-0500
TZOFFSETTO:-0400
TZNAME:EDT
DTSTART:20260308T070000
END:DAYLIGHT
BEGIN:STANDARD
TZOFFSETFROM:-0400
TZOFFSETTO:-0500
TZNAME:EST
DTSTART:20261101T060000
END:STANDARD
END:VTIMEZONE
BEGIN:VEVENT
DTSTART;VALUE=DATE:20260501
DTEND;VALUE=DATE:20260502
DTSTAMP:20260424T062654
CREATED:20240123T195720Z
LAST-MODIFIED:20251120T202512Z
UID:2966-1777593600-1777679999@www.lombardswimclub.com
SUMMARY:Certificate Applications/Payments Deadline
DESCRIPTION:This deadline is solely for those Certificate Holders who would like to maintain their locker from the previous season.
URL:https://www.lombardswimclub.com/event/certificate-applications-payments-deadline/
END:VEVENT
BEGIN:VEVENT
DTSTART;VALUE=DATE:20260509
DTEND;VALUE=DATE:20260510
DTSTAMP:20260424T062654
CREATED:20221108T200126Z
LAST-MODIFIED:20251030T165626Z
UID:1546-1778284800-1778371199@www.lombardswimclub.com
SUMMARY:Opening Day
DESCRIPTION:
URL:https://www.lombardswimclub.com/event/opening-day/
END:VEVENT
BEGIN:VEVENT
DTSTART;TZID=America/New_York:20260514T190000
DTEND;TZID=America/New_York:20260514T200000
DTSTAMP:20260424T062654
CREATED:20230425T163659Z
LAST-MODIFIED:20260330T192705Z
UID:1644-1778785200-1778788800@www.lombardswimclub.com
SUMMARY:Game Night: Quizzo
DESCRIPTION:Upper Deck.
URL:https://www.lombardswimclub.com/event/game-night-quizzo-with-johnny-goodtimes/2026-05-14/
END:VEVENT
BEGIN:VEVENT
DTSTART;TZID=America/New_York:20260516T150000
DTEND;TZID=America/New_York:20260516T160000
DTSTAMP:20260424T062654
CREATED:20230426T140923Z
LAST-MODIFIED:20260331T182938Z
UID:1784-1778943600-1778947200@www.lombardswimclub.com
SUMMARY:New Member Mingle
DESCRIPTION:Restaurant.
URL:https://www.lombardswimclub.com/event/new-member-mingle/
END:VEVENT
BEGIN:VEVENT
DTSTART;TZID=America/New_York:20260521T190000
DTEND;TZID=America/New_York:20260521T200000
DTSTAMP:20260424T062654
CREATED:20230623T175824Z
LAST-MODIFIED:20260330T193101Z
UID:2348-1779390000-1779393600@www.lombardswimclub.com
SUMMARY:Game Night: Bingo
DESCRIPTION:Upper Deck.
URL:https://www.lombardswimclub.com/event/game-night-bingo-6/2026-05-21/
END:VEVENT
BEGIN:VEVENT
DTSTART;TZID=America/New_York:20260528T190000
DTEND;TZID=America/New_York:20260528T200000
DTSTAMP:20260424T062654
CREATED:20230425T163659Z
LAST-MODIFIED:20230425T163659Z
UID:5180-1779994800-1779998400@www.lombardswimclub.com
SUMMARY:Game Night: Quizzo
DESCRIPTION:Upper Deck.
URL:https://www.lombardswimclub.com/event/game-night-quizzo-with-johnny-goodtimes/2026-05-28/
END:VEVENT
BEGIN:VEVENT
DTSTART;TZID=America/New_York:20260531T150000
DTEND;TZID=America/New_York:20260531T160000
DTSTAMP:20260424T062654
CREATED:20230523T173808Z
LAST-MODIFIED:20260327T182025Z
UID:2220-1780239600-1780243200@www.lombardswimclub.com
SUMMARY:Sunday Funday: Family Bingo
DESCRIPTION:Restaurant
URL:https://www.lombardswimclub.com/event/family-bingo-6/2026-05-31/
END:VEVENT
END:VCALENDAR