BEGIN:VCALENDAR
VERSION:2.0
PRODID:-//Lombard Swim Club - ECPv6.11.2.1//NONSGML v1.0//EN
CALSCALE:GREGORIAN
METHOD:PUBLISH
X-WR-CALNAME:Lombard Swim Club
X-ORIGINAL-URL:https://www.lombardswimclub.com
X-WR-CALDESC:Events for Lombard Swim Club
REFRESH-INTERVAL;VALUE=DURATION:PT1H
X-Robots-Tag:noindex
X-PUBLISHED-TTL:PT1H
BEGIN:VTIMEZONE
TZID:America/New_York
BEGIN:DAYLIGHT
TZOFFSETFROM:-0500
TZOFFSETTO:-0400
TZNAME:EDT
DTSTART:20250309T070000
END:DAYLIGHT
BEGIN:STANDARD
TZOFFSETFROM:-0400
TZOFFSETTO:-0500
TZNAME:EST
DTSTART:20251102T060000
END:STANDARD
END:VTIMEZONE
BEGIN:VEVENT
DTSTART;TZID=America/New_York:20250809T123000
DTEND;TZID=America/New_York:20250809T133000
DTSTAMP:20260420T233151
CREATED:20230518T184247Z
LAST-MODIFIED:20250510T135127Z
UID:4194-1754742600-1754746200@www.lombardswimclub.com
SUMMARY:Aquacize
DESCRIPTION:
URL:https://www.lombardswimclub.com/event/aquacize/2025-08-09/
END:VEVENT
BEGIN:VEVENT
DTSTART;TZID=America/New_York:20250808T190000
DTEND;TZID=America/New_York:20250808T203000
DTSTAMP:20260420T233151
CREATED:20250527T183028Z
LAST-MODIFIED:20250721T143947Z
UID:4559-1754679600-1754685000@www.lombardswimclub.com
SUMMARY:Kids' Movie Night: Hercules
DESCRIPTION:Game Room
URL:https://www.lombardswimclub.com/event/kids-movie-night-2025-08-08/
LOCATION:Game Room
END:VEVENT
BEGIN:VEVENT
DTSTART;TZID=America/New_York:20250808T123000
DTEND;TZID=America/New_York:20250808T133000
DTSTAMP:20260420T233151
CREATED:20230518T184247Z
LAST-MODIFIED:20250510T135127Z
UID:4193-1754656200-1754659800@www.lombardswimclub.com
SUMMARY:Aquacize
DESCRIPTION:
URL:https://www.lombardswimclub.com/event/aquacize/2025-08-08/
END:VEVENT
BEGIN:VEVENT
DTSTART;TZID=America/New_York:20250808T073000
DTEND;TZID=America/New_York:20250808T083000
DTSTAMP:20260420T233151
CREATED:20230518T184714Z
LAST-MODIFIED:20250626T190807Z
UID:4453-1754638200-1754641800@www.lombardswimclub.com
SUMMARY:Yoga
DESCRIPTION:Baby Pool
URL:https://www.lombardswimclub.com/event/yoga-2/2025-08-08/
END:VEVENT
BEGIN:VEVENT
DTSTART;TZID=America/New_York:20250807T190000
DTEND;TZID=America/New_York:20250807T190000
DTSTAMP:20260420T233151
CREATED:20230425T163659Z
LAST-MODIFIED:20250527T171532Z
UID:4093-1754593200-1754593200@www.lombardswimclub.com
SUMMARY:Game Night: Trivia by Table
DESCRIPTION:Upper Deck.
URL:https://www.lombardswimclub.com/event/game-night-quizzo-with-johnny-goodtimes-2025-08-07/
END:VEVENT
BEGIN:VEVENT
DTSTART;TZID=America/New_York:20250807T180000
DTEND;TZID=America/New_York:20250807T190000
DTSTAMP:20260420T233151
CREATED:20250531T175042Z
LAST-MODIFIED:20250531T175042Z
UID:4685-1754589600-1754593200@www.lombardswimclub.com
SUMMARY:Evening Aquacize
DESCRIPTION:
URL:https://www.lombardswimclub.com/event/evening-aquacize-2/2025-08-07/
END:VEVENT
BEGIN:VEVENT
DTSTART;TZID=America/New_York:20250807T123000
DTEND;TZID=America/New_York:20250807T133000
DTSTAMP:20260420T233151
CREATED:20230518T184247Z
LAST-MODIFIED:20250510T135127Z
UID:4192-1754569800-1754573400@www.lombardswimclub.com
SUMMARY:Aquacize
DESCRIPTION:
URL:https://www.lombardswimclub.com/event/aquacize/2025-08-07/
END:VEVENT
BEGIN:VEVENT
DTSTART;TZID=America/New_York:20250807T073000
DTEND;TZID=America/New_York:20250807T083000
DTSTAMP:20260420T233151
CREATED:20230518T184714Z
LAST-MODIFIED:20250626T190806Z
UID:4452-1754551800-1754555400@www.lombardswimclub.com
SUMMARY:Yoga
DESCRIPTION:Baby Pool
URL:https://www.lombardswimclub.com/event/yoga-2/2025-08-07/
END:VEVENT
BEGIN:VEVENT
DTSTART;TZID=America/New_York:20250806T123000
DTEND;TZID=America/New_York:20250806T133000
DTSTAMP:20260420T233151
CREATED:20230518T184247Z
LAST-MODIFIED:20250512T181543Z
UID:4368-1754483400-1754487000@www.lombardswimclub.com
SUMMARY:Deep Water Aquacize
DESCRIPTION:
URL:https://www.lombardswimclub.com/event/aquacize-2024-05-15-2025-05-21/2025-08-06/
END:VEVENT
BEGIN:VEVENT
DTSTART;TZID=America/New_York:20250806T073000
DTEND;TZID=America/New_York:20250806T083000
DTSTAMP:20260420T233151
CREATED:20230518T184714Z
LAST-MODIFIED:20250626T190806Z
UID:4451-1754465400-1754469000@www.lombardswimclub.com
SUMMARY:Yoga
DESCRIPTION:Baby Pool
URL:https://www.lombardswimclub.com/event/yoga-2/2025-08-06/
END:VEVENT
BEGIN:VEVENT
DTSTART;TZID=America/New_York:20250805T180000
DTEND;TZID=America/New_York:20250805T190000
DTSTAMP:20260420T233151
CREATED:20250531T175042Z
LAST-MODIFIED:20250531T175042Z
UID:4684-1754416800-1754420400@www.lombardswimclub.com
SUMMARY:Evening Aquacize
DESCRIPTION:
URL:https://www.lombardswimclub.com/event/evening-aquacize-2/2025-08-05/
END:VEVENT
BEGIN:VEVENT
DTSTART;TZID=America/New_York:20250805T123000
DTEND;TZID=America/New_York:20250805T133000
DTSTAMP:20260420T233151
CREATED:20230518T184247Z
LAST-MODIFIED:20250510T135127Z
UID:4190-1754397000-1754400600@www.lombardswimclub.com
SUMMARY:Aquacize
DESCRIPTION:
URL:https://www.lombardswimclub.com/event/aquacize/2025-08-05/
END:VEVENT
BEGIN:VEVENT
DTSTART;TZID=America/New_York:20250805T073000
DTEND;TZID=America/New_York:20250805T083000
DTSTAMP:20260420T233151
CREATED:20230518T184714Z
LAST-MODIFIED:20250626T190806Z
UID:4450-1754379000-1754382600@www.lombardswimclub.com
SUMMARY:Yoga
DESCRIPTION:Baby Pool
URL:https://www.lombardswimclub.com/event/yoga-2/2025-08-05/
END:VEVENT
BEGIN:VEVENT
DTSTART;TZID=America/New_York:20250804T183000
DTEND;TZID=America/New_York:20250804T183000
DTSTAMP:20260420T233151
CREATED:20240416T144729Z
LAST-MODIFIED:20250603T002506Z
UID:3437-1754332200-1754332200@www.lombardswimclub.com
SUMMARY:Coffee & Conversation: Chad Williams
DESCRIPTION:Creativity in Restaurants and Hospitality\nUpper Deck
URL:https://www.lombardswimclub.com/event/coffee-conversation-elizabeth-alice-laban-nbc-pages/
END:VEVENT
BEGIN:VEVENT
DTSTART;TZID=America/New_York:20250804T123000
DTEND;TZID=America/New_York:20250804T133000
DTSTAMP:20260420T233151
CREATED:20230518T184247Z
LAST-MODIFIED:20230518T184247Z
UID:4843-1754310600-1754314200@www.lombardswimclub.com
SUMMARY:Deep Water Aquacize
DESCRIPTION:
URL:https://www.lombardswimclub.com/event/aquacize-2025-07-14/2025-08-04/
END:VEVENT
BEGIN:VEVENT
DTSTART;TZID=America/New_York:20250804T123000
DTEND;TZID=America/New_York:20250804T133000
DTSTAMP:20260420T233151
CREATED:20230518T184247Z
LAST-MODIFIED:20250510T135127Z
UID:4189-1754310600-1754314200@www.lombardswimclub.com
SUMMARY:Aquacize
DESCRIPTION:
URL:https://www.lombardswimclub.com/event/aquacize/2025-08-04/
END:VEVENT
BEGIN:VEVENT
DTSTART;TZID=America/New_York:20250804T073000
DTEND;TZID=America/New_York:20250804T083000
DTSTAMP:20260420T233151
CREATED:20230518T184714Z
LAST-MODIFIED:20250626T190806Z
UID:4449-1754292600-1754296200@www.lombardswimclub.com
SUMMARY:Yoga
DESCRIPTION:Baby Pool
URL:https://www.lombardswimclub.com/event/yoga-2/2025-08-04/
END:VEVENT
BEGIN:VEVENT
DTSTART;TZID=America/New_York:20250802T130000
DTEND;TZID=America/New_York:20250802T150000
DTSTAMP:20260420T233151
CREATED:20250527T174855Z
LAST-MODIFIED:20250527T174855Z
UID:4567-1754139600-1754146800@www.lombardswimclub.com
SUMMARY:Bridge Club
DESCRIPTION:Upper Deck
URL:https://www.lombardswimclub.com/event/bridge-club/2025-08-02/
END:VEVENT
BEGIN:VEVENT
DTSTART;TZID=America/New_York:20250802T123000
DTEND;TZID=America/New_York:20250802T133000
DTSTAMP:20260420T233151
CREATED:20230518T184247Z
LAST-MODIFIED:20250510T135127Z
UID:4187-1754137800-1754141400@www.lombardswimclub.com
SUMMARY:Aquacize
DESCRIPTION:
URL:https://www.lombardswimclub.com/event/aquacize/2025-08-02/
END:VEVENT
BEGIN:VEVENT
DTSTART;TZID=America/New_York:20250801T190000
DTEND;TZID=America/New_York:20250801T203000
DTSTAMP:20260420T233151
CREATED:20250527T183028Z
LAST-MODIFIED:20250721T143909Z
UID:4558-1754074800-1754080200@www.lombardswimclub.com
SUMMARY:Kids' Movie Night: Inside Out
DESCRIPTION:Game Room
URL:https://www.lombardswimclub.com/event/kids-movie-night-2025-08-01/
LOCATION:Game Room
END:VEVENT
BEGIN:VEVENT
DTSTART;TZID=America/New_York:20250801T123000
DTEND;TZID=America/New_York:20250801T133000
DTSTAMP:20260420T233151
CREATED:20230518T184247Z
LAST-MODIFIED:20250510T135126Z
UID:4186-1754051400-1754055000@www.lombardswimclub.com
SUMMARY:Aquacize
DESCRIPTION:
URL:https://www.lombardswimclub.com/event/aquacize/2025-08-01/
END:VEVENT
BEGIN:VEVENT
DTSTART;TZID=America/New_York:20250801T073000
DTEND;TZID=America/New_York:20250801T083000
DTSTAMP:20260420T233151
CREATED:20230518T184714Z
LAST-MODIFIED:20250626T190806Z
UID:4448-1754033400-1754037000@www.lombardswimclub.com
SUMMARY:Yoga
DESCRIPTION:Baby Pool
URL:https://www.lombardswimclub.com/event/yoga-2/2025-08-01/
END:VEVENT
BEGIN:VEVENT
DTSTART;TZID=America/New_York:20250731T190000
DTEND;TZID=America/New_York:20250731T190000
DTSTAMP:20260420T233151
CREATED:20230425T163659Z
LAST-MODIFIED:20250527T171851Z
UID:4092-1753988400-1753988400@www.lombardswimclub.com
SUMMARY:Game Night: Quizzo with Johnny Goodtimes
DESCRIPTION:Upper Deck.
URL:https://www.lombardswimclub.com/event/game-night-quizzo-with-johnny-goodtimes-2025-07-24/
END:VEVENT
BEGIN:VEVENT
DTSTART;TZID=America/New_York:20250731T180000
DTEND;TZID=America/New_York:20250731T190000
DTSTAMP:20260420T233151
CREATED:20250531T175042Z
LAST-MODIFIED:20250531T175042Z
UID:4683-1753984800-1753988400@www.lombardswimclub.com
SUMMARY:Evening Aquacize
DESCRIPTION:
URL:https://www.lombardswimclub.com/event/evening-aquacize-2/2025-07-31/
END:VEVENT
BEGIN:VEVENT
DTSTART;TZID=America/New_York:20250731T123000
DTEND;TZID=America/New_York:20250731T133000
DTSTAMP:20260420T233151
CREATED:20230518T184247Z
LAST-MODIFIED:20250510T135126Z
UID:4185-1753965000-1753968600@www.lombardswimclub.com
SUMMARY:Aquacize
DESCRIPTION:
URL:https://www.lombardswimclub.com/event/aquacize/2025-07-31/
END:VEVENT
BEGIN:VEVENT
DTSTART;TZID=America/New_York:20250731T073000
DTEND;TZID=America/New_York:20250731T083000
DTSTAMP:20260420T233151
CREATED:20230518T184714Z
LAST-MODIFIED:20250626T190806Z
UID:4447-1753947000-1753950600@www.lombardswimclub.com
SUMMARY:Yoga
DESCRIPTION:Baby Pool
URL:https://www.lombardswimclub.com/event/yoga-2/2025-07-31/
END:VEVENT
BEGIN:VEVENT
DTSTART;TZID=America/New_York:20250730T123000
DTEND;TZID=America/New_York:20250730T133000
DTSTAMP:20260420T233151
CREATED:20230518T184247Z
LAST-MODIFIED:20250512T181543Z
UID:4367-1753878600-1753882200@www.lombardswimclub.com
SUMMARY:Deep Water Aquacize
DESCRIPTION:
URL:https://www.lombardswimclub.com/event/aquacize-2024-05-15-2025-05-21/2025-07-30/
END:VEVENT
BEGIN:VEVENT
DTSTART;TZID=America/New_York:20250730T073000
DTEND;TZID=America/New_York:20250730T083000
DTSTAMP:20260420T233151
CREATED:20230518T184714Z
LAST-MODIFIED:20250626T190806Z
UID:4446-1753860600-1753864200@www.lombardswimclub.com
SUMMARY:Yoga
DESCRIPTION:Baby Pool
URL:https://www.lombardswimclub.com/event/yoga-2/2025-07-30/
END:VEVENT
BEGIN:VEVENT
DTSTART;TZID=America/New_York:20250729T180000
DTEND;TZID=America/New_York:20250729T190000
DTSTAMP:20260420T233151
CREATED:20250531T175042Z
LAST-MODIFIED:20250531T175042Z
UID:4682-1753812000-1753815600@www.lombardswimclub.com
SUMMARY:Evening Aquacize
DESCRIPTION:
URL:https://www.lombardswimclub.com/event/evening-aquacize-2/2025-07-29/
END:VEVENT
BEGIN:VEVENT
DTSTART;TZID=America/New_York:20250729T123000
DTEND;TZID=America/New_York:20250729T133000
DTSTAMP:20260420T233151
CREATED:20230518T184247Z
LAST-MODIFIED:20250510T135126Z
UID:4183-1753792200-1753795800@www.lombardswimclub.com
SUMMARY:Aquacize
DESCRIPTION:
URL:https://www.lombardswimclub.com/event/aquacize/2025-07-29/
END:VEVENT
END:VCALENDAR