BEGIN:VCALENDAR
VERSION:2.0
PRODID:-//Lombard Swim Club - ECPv6.11.2.1//NONSGML v1.0//EN
CALSCALE:GREGORIAN
METHOD:PUBLISH
X-WR-CALNAME:Lombard Swim Club
X-ORIGINAL-URL:https://www.lombardswimclub.com
X-WR-CALDESC:Events for Lombard Swim Club
REFRESH-INTERVAL;VALUE=DURATION:PT1H
X-Robots-Tag:noindex
X-PUBLISHED-TTL:PT1H
BEGIN:VTIMEZONE
TZID:America/New_York
BEGIN:DAYLIGHT
TZOFFSETFROM:-0500
TZOFFSETTO:-0400
TZNAME:EDT
DTSTART:20250309T070000
END:DAYLIGHT
BEGIN:STANDARD
TZOFFSETFROM:-0400
TZOFFSETTO:-0500
TZNAME:EST
DTSTART:20251102T060000
END:STANDARD
END:VTIMEZONE
BEGIN:VEVENT
DTSTART;TZID=America/New_York:20250826T073000
DTEND;TZID=America/New_York:20250826T083000
DTSTAMP:20260421T000543
CREATED:20230518T184714Z
LAST-MODIFIED:20250626T190809Z
UID:4465-1756193400-1756197000@www.lombardswimclub.com
SUMMARY:Yoga
DESCRIPTION:Baby Pool
URL:https://www.lombardswimclub.com/event/yoga-2/2025-08-26/
END:VEVENT
BEGIN:VEVENT
DTSTART;TZID=America/New_York:20250825T183000
DTEND;TZID=America/New_York:20250825T193000
DTSTAMP:20260421T000543
CREATED:20240402T151312Z
LAST-MODIFIED:20250713T180531Z
UID:3005-1756146600-1756150200@www.lombardswimclub.com
SUMMARY:Coffee & Conversation: Sofia Ginzburg & Brian Daly
DESCRIPTION:Kids These Days: An Open-Ended Discussion with a Couple of Child Psychologists on Sex\, Social Media\, Bullying\, and Post-Covid Mental Health\nUpper Deck
URL:https://www.lombardswimclub.com/event/coffee-conversation-joan-becker-life-as-an-artist/
END:VEVENT
BEGIN:VEVENT
DTSTART;TZID=America/New_York:20250825T123000
DTEND;TZID=America/New_York:20250825T133000
DTSTAMP:20260421T000543
CREATED:20230518T184247Z
LAST-MODIFIED:20230518T184247Z
UID:4846-1756125000-1756128600@www.lombardswimclub.com
SUMMARY:Deep Water Aquacize
DESCRIPTION:
URL:https://www.lombardswimclub.com/event/aquacize-2025-07-14/2025-08-25/
END:VEVENT
BEGIN:VEVENT
DTSTART;TZID=America/New_York:20250825T073000
DTEND;TZID=America/New_York:20250825T083000
DTSTAMP:20260421T000543
CREATED:20230518T184714Z
LAST-MODIFIED:20250626T190809Z
UID:4464-1756107000-1756110600@www.lombardswimclub.com
SUMMARY:Yoga
DESCRIPTION:Baby Pool
URL:https://www.lombardswimclub.com/event/yoga-2/2025-08-25/
END:VEVENT
BEGIN:VEVENT
DTSTART;TZID=America/New_York:20250824T123000
DTEND;TZID=America/New_York:20250824T133000
DTSTAMP:20260421T000543
CREATED:20230518T184247Z
LAST-MODIFIED:20250510T135129Z
UID:4209-1756038600-1756042200@www.lombardswimclub.com
SUMMARY:Aquacize
DESCRIPTION:
URL:https://www.lombardswimclub.com/event/aquacize/2025-08-24/
END:VEVENT
BEGIN:VEVENT
DTSTART;TZID=America/New_York:20250823T200000
DTEND;TZID=America/New_York:20250823T213000
DTSTAMP:20260421T000543
CREATED:20240605T183421Z
LAST-MODIFIED:20250531T172654Z
UID:4533-1755979200-1755984600@www.lombardswimclub.com
SUMMARY:Family Float Night
DESCRIPTION:Pool
URL:https://www.lombardswimclub.com/event/family-float-night-2/2025-08-23/
END:VEVENT
BEGIN:VEVENT
DTSTART;TZID=America/New_York:20250823T123000
DTEND;TZID=America/New_York:20250823T133000
DTSTAMP:20260421T000543
CREATED:20230518T184247Z
LAST-MODIFIED:20250510T135129Z
UID:4208-1755952200-1755955800@www.lombardswimclub.com
SUMMARY:Aquacize
DESCRIPTION:
URL:https://www.lombardswimclub.com/event/aquacize/2025-08-23/
END:VEVENT
BEGIN:VEVENT
DTSTART;TZID=America/New_York:20250822T190000
DTEND;TZID=America/New_York:20250822T203000
DTSTAMP:20260421T000543
CREATED:20250527T183028Z
LAST-MODIFIED:20250721T144055Z
UID:4561-1755889200-1755894600@www.lombardswimclub.com
SUMMARY:Kids' Movie Night: Luca
DESCRIPTION:Game Room
URL:https://www.lombardswimclub.com/event/kids-movie-night-2025-08-22/
LOCATION:Game Room
END:VEVENT
BEGIN:VEVENT
DTSTART;TZID=America/New_York:20250822T123000
DTEND;TZID=America/New_York:20250822T133000
DTSTAMP:20260421T000543
CREATED:20230518T184247Z
LAST-MODIFIED:20250510T135129Z
UID:4207-1755865800-1755869400@www.lombardswimclub.com
SUMMARY:Aquacize
DESCRIPTION:
URL:https://www.lombardswimclub.com/event/aquacize/2025-08-22/
END:VEVENT
BEGIN:VEVENT
DTSTART;TZID=America/New_York:20250822T073000
DTEND;TZID=America/New_York:20250822T083000
DTSTAMP:20260421T000543
CREATED:20230518T184714Z
LAST-MODIFIED:20250626T190809Z
UID:4463-1755847800-1755851400@www.lombardswimclub.com
SUMMARY:Yoga
DESCRIPTION:Baby Pool
URL:https://www.lombardswimclub.com/event/yoga-2/2025-08-22/
END:VEVENT
BEGIN:VEVENT
DTSTART;TZID=America/New_York:20250821T190000
DTEND;TZID=America/New_York:20250821T190000
DTSTAMP:20260421T000543
CREATED:20230425T163659Z
LAST-MODIFIED:20250527T171450Z
UID:4094-1755802800-1755802800@www.lombardswimclub.com
SUMMARY:Game Night: Bingo
DESCRIPTION:Upper Deck.
URL:https://www.lombardswimclub.com/event/game-night-quizzo-with-johnny-goodtimes-2025-08-21/
END:VEVENT
BEGIN:VEVENT
DTSTART;TZID=America/New_York:20250821T180000
DTEND;TZID=America/New_York:20250821T190000
DTSTAMP:20260421T000543
CREATED:20250531T175042Z
LAST-MODIFIED:20250531T175042Z
UID:4689-1755799200-1755802800@www.lombardswimclub.com
SUMMARY:Evening Aquacize
DESCRIPTION:
URL:https://www.lombardswimclub.com/event/evening-aquacize-2/2025-08-21/
END:VEVENT
BEGIN:VEVENT
DTSTART;TZID=America/New_York:20250821T123000
DTEND;TZID=America/New_York:20250821T133000
DTSTAMP:20260421T000543
CREATED:20230518T184247Z
LAST-MODIFIED:20250510T135129Z
UID:4206-1755779400-1755783000@www.lombardswimclub.com
SUMMARY:Aquacize
DESCRIPTION:
URL:https://www.lombardswimclub.com/event/aquacize/2025-08-21/
END:VEVENT
BEGIN:VEVENT
DTSTART;TZID=America/New_York:20250821T073000
DTEND;TZID=America/New_York:20250821T083000
DTSTAMP:20260421T000543
CREATED:20230518T184714Z
LAST-MODIFIED:20250626T190808Z
UID:4462-1755761400-1755765000@www.lombardswimclub.com
SUMMARY:Yoga
DESCRIPTION:Baby Pool
URL:https://www.lombardswimclub.com/event/yoga-2/2025-08-21/
END:VEVENT
BEGIN:VEVENT
DTSTART;TZID=America/New_York:20250820T123000
DTEND;TZID=America/New_York:20250820T133000
DTSTAMP:20260421T000543
CREATED:20230518T184247Z
LAST-MODIFIED:20250512T181543Z
UID:4370-1755693000-1755696600@www.lombardswimclub.com
SUMMARY:Deep Water Aquacize
DESCRIPTION:
URL:https://www.lombardswimclub.com/event/aquacize-2024-05-15-2025-05-21/2025-08-20/
END:VEVENT
BEGIN:VEVENT
DTSTART;TZID=America/New_York:20250820T073000
DTEND;TZID=America/New_York:20250820T083000
DTSTAMP:20260421T000543
CREATED:20230518T184714Z
LAST-MODIFIED:20250626T190808Z
UID:4461-1755675000-1755678600@www.lombardswimclub.com
SUMMARY:Yoga
DESCRIPTION:Baby Pool
URL:https://www.lombardswimclub.com/event/yoga-2/2025-08-20/
END:VEVENT
BEGIN:VEVENT
DTSTART;TZID=America/New_York:20250819T180000
DTEND;TZID=America/New_York:20250819T190000
DTSTAMP:20260421T000543
CREATED:20250531T175042Z
LAST-MODIFIED:20250531T175042Z
UID:4688-1755626400-1755630000@www.lombardswimclub.com
SUMMARY:Evening Aquacize
DESCRIPTION:
URL:https://www.lombardswimclub.com/event/evening-aquacize-2/2025-08-19/
END:VEVENT
BEGIN:VEVENT
DTSTART;TZID=America/New_York:20250819T123000
DTEND;TZID=America/New_York:20250819T133000
DTSTAMP:20260421T000543
CREATED:20230518T184247Z
LAST-MODIFIED:20250510T135129Z
UID:4204-1755606600-1755610200@www.lombardswimclub.com
SUMMARY:Aquacize
DESCRIPTION:
URL:https://www.lombardswimclub.com/event/aquacize/2025-08-19/
END:VEVENT
BEGIN:VEVENT
DTSTART;TZID=America/New_York:20250819T073000
DTEND;TZID=America/New_York:20250819T083000
DTSTAMP:20260421T000543
CREATED:20230518T184714Z
LAST-MODIFIED:20250626T190808Z
UID:4460-1755588600-1755592200@www.lombardswimclub.com
SUMMARY:Yoga
DESCRIPTION:Baby Pool
URL:https://www.lombardswimclub.com/event/yoga-2/2025-08-19/
END:VEVENT
BEGIN:VEVENT
DTSTART;TZID=America/New_York:20250818T173000
DTEND;TZID=America/New_York:20250818T193000
DTSTAMP:20260421T000543
CREATED:20250807T192556Z
LAST-MODIFIED:20250807T192556Z
UID:4880-1755538200-1755545400@www.lombardswimclub.com
SUMMARY:Staff Appreciation Dinner
DESCRIPTION:
URL:https://www.lombardswimclub.com/event/staff-appreciation-dinner/
END:VEVENT
BEGIN:VEVENT
DTSTART;TZID=America/New_York:20250818T123000
DTEND;TZID=America/New_York:20250818T133000
DTSTAMP:20260421T000543
CREATED:20230518T184247Z
LAST-MODIFIED:20230518T184247Z
UID:4845-1755520200-1755523800@www.lombardswimclub.com
SUMMARY:Deep Water Aquacize
DESCRIPTION:
URL:https://www.lombardswimclub.com/event/aquacize-2025-07-14/2025-08-18/
END:VEVENT
BEGIN:VEVENT
DTSTART;TZID=America/New_York:20250818T073000
DTEND;TZID=America/New_York:20250818T083000
DTSTAMP:20260421T000543
CREATED:20230518T184714Z
LAST-MODIFIED:20250626T190808Z
UID:4459-1755502200-1755505800@www.lombardswimclub.com
SUMMARY:Yoga
DESCRIPTION:Baby Pool
URL:https://www.lombardswimclub.com/event/yoga-2/2025-08-18/
END:VEVENT
BEGIN:VEVENT
DTSTART;TZID=America/New_York:20250817T150000
DTEND;TZID=America/New_York:20250817T160000
DTSTAMP:20260421T000543
CREATED:20230523T175513Z
LAST-MODIFIED:20260327T181315Z
UID:2226-1755442800-1755446400@www.lombardswimclub.com
SUMMARY:Sunday Funday: Beading
DESCRIPTION:Restaurant
URL:https://www.lombardswimclub.com/event/family-bingo-9/
END:VEVENT
BEGIN:VEVENT
DTSTART;TZID=America/New_York:20250817T123000
DTEND;TZID=America/New_York:20250817T133000
DTSTAMP:20260421T000543
CREATED:20230518T184247Z
LAST-MODIFIED:20250510T135128Z
UID:4202-1755433800-1755437400@www.lombardswimclub.com
SUMMARY:Aquacize
DESCRIPTION:
URL:https://www.lombardswimclub.com/event/aquacize/2025-08-17/
END:VEVENT
BEGIN:VEVENT
DTSTART;TZID=America/New_York:20250816T200000
DTEND;TZID=America/New_York:20250816T213000
DTSTAMP:20260421T000543
CREATED:20240605T183421Z
LAST-MODIFIED:20250531T172652Z
UID:4532-1755374400-1755379800@www.lombardswimclub.com
SUMMARY:Family Float Night
DESCRIPTION:Pool
URL:https://www.lombardswimclub.com/event/family-float-night-2/2025-08-16/
END:VEVENT
BEGIN:VEVENT
DTSTART;TZID=America/New_York:20250816T123000
DTEND;TZID=America/New_York:20250816T133000
DTSTAMP:20260421T000543
CREATED:20230518T184247Z
LAST-MODIFIED:20250510T135128Z
UID:4201-1755347400-1755351000@www.lombardswimclub.com
SUMMARY:Aquacize
DESCRIPTION:
URL:https://www.lombardswimclub.com/event/aquacize/2025-08-16/
END:VEVENT
BEGIN:VEVENT
DTSTART;TZID=America/New_York:20250815T190000
DTEND;TZID=America/New_York:20250815T203000
DTSTAMP:20260421T000543
CREATED:20250527T183028Z
LAST-MODIFIED:20250721T144015Z
UID:4560-1755284400-1755289800@www.lombardswimclub.com
SUMMARY:Kids' Movie Night: Toy Story 4
DESCRIPTION:Game Room
URL:https://www.lombardswimclub.com/event/kids-movie-night-2025-08-15/
LOCATION:Game Room
END:VEVENT
BEGIN:VEVENT
DTSTART;TZID=America/New_York:20250815T123000
DTEND;TZID=America/New_York:20250815T133000
DTSTAMP:20260421T000543
CREATED:20230518T184247Z
LAST-MODIFIED:20250510T135128Z
UID:4200-1755261000-1755264600@www.lombardswimclub.com
SUMMARY:Aquacize
DESCRIPTION:
URL:https://www.lombardswimclub.com/event/aquacize/2025-08-15/
END:VEVENT
BEGIN:VEVENT
DTSTART;TZID=America/New_York:20250815T073000
DTEND;TZID=America/New_York:20250815T083000
DTSTAMP:20260421T000543
CREATED:20230518T184714Z
LAST-MODIFIED:20250626T190808Z
UID:4458-1755243000-1755246600@www.lombardswimclub.com
SUMMARY:Yoga
DESCRIPTION:Baby Pool
URL:https://www.lombardswimclub.com/event/yoga-2/2025-08-15/
END:VEVENT
BEGIN:VEVENT
DTSTART;TZID=America/New_York:20250814T190000
DTEND;TZID=America/New_York:20250814T200000
DTSTAMP:20260421T000543
CREATED:20240516T171240Z
LAST-MODIFIED:20250731T162904Z
UID:3654-1755198000-1755201600@www.lombardswimclub.com
SUMMARY:Game Night: Quizzo with Johnny Goodtimes
DESCRIPTION:Upper Deck
URL:https://www.lombardswimclub.com/event/game-night-quizzo-with-johnny-goodtimes-10/
END:VEVENT
END:VCALENDAR