BEGIN:VCALENDAR
VERSION:2.0
PRODID:-//Lombard Swim Club - ECPv6.11.2.1//NONSGML v1.0//EN
CALSCALE:GREGORIAN
METHOD:PUBLISH
X-WR-CALNAME:Lombard Swim Club
X-ORIGINAL-URL:https://www.lombardswimclub.com
X-WR-CALDESC:Events for Lombard Swim Club
REFRESH-INTERVAL;VALUE=DURATION:PT1H
X-Robots-Tag:noindex
X-PUBLISHED-TTL:PT1H
BEGIN:VTIMEZONE
TZID:America/New_York
BEGIN:DAYLIGHT
TZOFFSETFROM:-0500
TZOFFSETTO:-0400
TZNAME:EDT
DTSTART:20250309T070000
END:DAYLIGHT
BEGIN:STANDARD
TZOFFSETFROM:-0400
TZOFFSETTO:-0500
TZNAME:EST
DTSTART:20251102T060000
END:STANDARD
END:VTIMEZONE
BEGIN:VEVENT
DTSTART;TZID=America/New_York:20250807T073000
DTEND;TZID=America/New_York:20250807T083000
DTSTAMP:20260425T065209
CREATED:20230518T184714Z
LAST-MODIFIED:20250626T190806Z
UID:4452-1754551800-1754555400@www.lombardswimclub.com
SUMMARY:Yoga
DESCRIPTION:Baby Pool
URL:https://www.lombardswimclub.com/event/yoga-2/2025-08-07/
END:VEVENT
BEGIN:VEVENT
DTSTART;TZID=America/New_York:20250806T123000
DTEND;TZID=America/New_York:20250806T133000
DTSTAMP:20260425T065209
CREATED:20230518T184247Z
LAST-MODIFIED:20250512T181543Z
UID:4368-1754483400-1754487000@www.lombardswimclub.com
SUMMARY:Deep Water Aquacize
DESCRIPTION:
URL:https://www.lombardswimclub.com/event/aquacize-2024-05-15-2025-05-21/2025-08-06/
END:VEVENT
BEGIN:VEVENT
DTSTART;TZID=America/New_York:20250806T073000
DTEND;TZID=America/New_York:20250806T083000
DTSTAMP:20260425T065209
CREATED:20230518T184714Z
LAST-MODIFIED:20250626T190806Z
UID:4451-1754465400-1754469000@www.lombardswimclub.com
SUMMARY:Yoga
DESCRIPTION:Baby Pool
URL:https://www.lombardswimclub.com/event/yoga-2/2025-08-06/
END:VEVENT
BEGIN:VEVENT
DTSTART;TZID=America/New_York:20250805T073000
DTEND;TZID=America/New_York:20250805T083000
DTSTAMP:20260425T065209
CREATED:20230518T184714Z
LAST-MODIFIED:20250626T190806Z
UID:4450-1754379000-1754382600@www.lombardswimclub.com
SUMMARY:Yoga
DESCRIPTION:Baby Pool
URL:https://www.lombardswimclub.com/event/yoga-2/2025-08-05/
END:VEVENT
BEGIN:VEVENT
DTSTART;TZID=America/New_York:20250804T183000
DTEND;TZID=America/New_York:20250804T183000
DTSTAMP:20260425T065209
CREATED:20240416T144729Z
LAST-MODIFIED:20250603T002506Z
UID:3437-1754332200-1754332200@www.lombardswimclub.com
SUMMARY:Coffee & Conversation: Chad Williams
DESCRIPTION:Creativity in Restaurants and Hospitality\nUpper Deck
URL:https://www.lombardswimclub.com/event/coffee-conversation-elizabeth-alice-laban-nbc-pages/
END:VEVENT
BEGIN:VEVENT
DTSTART;TZID=America/New_York:20250804T123000
DTEND;TZID=America/New_York:20250804T133000
DTSTAMP:20260425T065209
CREATED:20230518T184247Z
LAST-MODIFIED:20230518T184247Z
UID:4843-1754310600-1754314200@www.lombardswimclub.com
SUMMARY:Deep Water Aquacize
DESCRIPTION:
URL:https://www.lombardswimclub.com/event/aquacize-2025-07-14/2025-08-04/
END:VEVENT
BEGIN:VEVENT
DTSTART;TZID=America/New_York:20250804T073000
DTEND;TZID=America/New_York:20250804T083000
DTSTAMP:20260425T065209
CREATED:20230518T184714Z
LAST-MODIFIED:20250626T190806Z
UID:4449-1754292600-1754296200@www.lombardswimclub.com
SUMMARY:Yoga
DESCRIPTION:Baby Pool
URL:https://www.lombardswimclub.com/event/yoga-2/2025-08-04/
END:VEVENT
BEGIN:VEVENT
DTSTART;TZID=America/New_York:20250802T130000
DTEND;TZID=America/New_York:20250802T150000
DTSTAMP:20260425T065209
CREATED:20250527T174855Z
LAST-MODIFIED:20250527T174855Z
UID:4567-1754139600-1754146800@www.lombardswimclub.com
SUMMARY:Bridge Club
DESCRIPTION:Upper Deck
URL:https://www.lombardswimclub.com/event/bridge-club/2025-08-02/
END:VEVENT
BEGIN:VEVENT
DTSTART;TZID=America/New_York:20250801T190000
DTEND;TZID=America/New_York:20250801T203000
DTSTAMP:20260425T065209
CREATED:20250527T183028Z
LAST-MODIFIED:20250721T143909Z
UID:4558-1754074800-1754080200@www.lombardswimclub.com
SUMMARY:Kids' Movie Night: Inside Out
DESCRIPTION:Game Room
URL:https://www.lombardswimclub.com/event/kids-movie-night-2025-08-01/
LOCATION:Game Room
END:VEVENT
BEGIN:VEVENT
DTSTART;TZID=America/New_York:20250801T073000
DTEND;TZID=America/New_York:20250801T083000
DTSTAMP:20260425T065209
CREATED:20230518T184714Z
LAST-MODIFIED:20250626T190806Z
UID:4448-1754033400-1754037000@www.lombardswimclub.com
SUMMARY:Yoga
DESCRIPTION:Baby Pool
URL:https://www.lombardswimclub.com/event/yoga-2/2025-08-01/
END:VEVENT
BEGIN:VEVENT
DTSTART;TZID=America/New_York:20250731T190000
DTEND;TZID=America/New_York:20250731T190000
DTSTAMP:20260425T065209
CREATED:20230425T163659Z
LAST-MODIFIED:20250527T171851Z
UID:4092-1753988400-1753988400@www.lombardswimclub.com
SUMMARY:Game Night: Quizzo with Johnny Goodtimes
DESCRIPTION:Upper Deck.
URL:https://www.lombardswimclub.com/event/game-night-quizzo-with-johnny-goodtimes-2025-07-24/
END:VEVENT
BEGIN:VEVENT
DTSTART;TZID=America/New_York:20250731T073000
DTEND;TZID=America/New_York:20250731T083000
DTSTAMP:20260425T065209
CREATED:20230518T184714Z
LAST-MODIFIED:20250626T190806Z
UID:4447-1753947000-1753950600@www.lombardswimclub.com
SUMMARY:Yoga
DESCRIPTION:Baby Pool
URL:https://www.lombardswimclub.com/event/yoga-2/2025-07-31/
END:VEVENT
BEGIN:VEVENT
DTSTART;TZID=America/New_York:20250730T123000
DTEND;TZID=America/New_York:20250730T133000
DTSTAMP:20260425T065209
CREATED:20230518T184247Z
LAST-MODIFIED:20250512T181543Z
UID:4367-1753878600-1753882200@www.lombardswimclub.com
SUMMARY:Deep Water Aquacize
DESCRIPTION:
URL:https://www.lombardswimclub.com/event/aquacize-2024-05-15-2025-05-21/2025-07-30/
END:VEVENT
BEGIN:VEVENT
DTSTART;TZID=America/New_York:20250730T073000
DTEND;TZID=America/New_York:20250730T083000
DTSTAMP:20260425T065209
CREATED:20230518T184714Z
LAST-MODIFIED:20250626T190806Z
UID:4446-1753860600-1753864200@www.lombardswimclub.com
SUMMARY:Yoga
DESCRIPTION:Baby Pool
URL:https://www.lombardswimclub.com/event/yoga-2/2025-07-30/
END:VEVENT
BEGIN:VEVENT
DTSTART;TZID=America/New_York:20250729T073000
DTEND;TZID=America/New_York:20250729T083000
DTSTAMP:20260425T065209
CREATED:20230518T184714Z
LAST-MODIFIED:20250626T190806Z
UID:4445-1753774200-1753777800@www.lombardswimclub.com
SUMMARY:Yoga
DESCRIPTION:Baby Pool
URL:https://www.lombardswimclub.com/event/yoga-2/2025-07-29/
END:VEVENT
BEGIN:VEVENT
DTSTART;TZID=America/New_York:20250728T123000
DTEND;TZID=America/New_York:20250728T133000
DTSTAMP:20260425T065209
CREATED:20230518T184247Z
LAST-MODIFIED:20230518T184247Z
UID:4842-1753705800-1753709400@www.lombardswimclub.com
SUMMARY:Deep Water Aquacize
DESCRIPTION:
URL:https://www.lombardswimclub.com/event/aquacize-2025-07-14/2025-07-28/
END:VEVENT
BEGIN:VEVENT
DTSTART;TZID=America/New_York:20250728T073000
DTEND;TZID=America/New_York:20250728T083000
DTSTAMP:20260425T065209
CREATED:20230518T184714Z
LAST-MODIFIED:20250626T190806Z
UID:4444-1753687800-1753691400@www.lombardswimclub.com
SUMMARY:Yoga
DESCRIPTION:Baby Pool
URL:https://www.lombardswimclub.com/event/yoga-2/2025-07-28/
END:VEVENT
BEGIN:VEVENT
DTSTART;TZID=America/New_York:20250727T150000
DTEND;TZID=America/New_York:20250727T160000
DTSTAMP:20260425T065209
CREATED:20230523T173808Z
LAST-MODIFIED:20230523T173808Z
UID:4724-1753628400-1753632000@www.lombardswimclub.com
SUMMARY:Sunday Funday: Family Bingo
DESCRIPTION:Restaurant
URL:https://www.lombardswimclub.com/event/family-bingo-6/2025-07-27/
END:VEVENT
BEGIN:VEVENT
DTSTART;TZID=America/New_York:20250726T200000
DTEND;TZID=America/New_York:20250726T213000
DTSTAMP:20260425T065209
CREATED:20240605T183421Z
LAST-MODIFIED:20250531T172652Z
UID:4530-1753560000-1753565400@www.lombardswimclub.com
SUMMARY:Family Float Night
DESCRIPTION:Pool
URL:https://www.lombardswimclub.com/event/family-float-night-2/2025-07-26/
END:VEVENT
BEGIN:VEVENT
DTSTART;TZID=America/New_York:20250725T190000
DTEND;TZID=America/New_York:20250725T203000
DTSTAMP:20260425T065209
CREATED:20250527T183028Z
LAST-MODIFIED:20250721T143736Z
UID:4557-1753470000-1753475400@www.lombardswimclub.com
SUMMARY:Kids' Movie Night: Tangled
DESCRIPTION:Game Room
URL:https://www.lombardswimclub.com/event/kids-movie-night-2025-07-25/
LOCATION:Game Room
END:VEVENT
BEGIN:VEVENT
DTSTART;TZID=America/New_York:20250724T190000
DTEND;TZID=America/New_York:20250724T200000
DTSTAMP:20260425T065209
CREATED:20230425T164915Z
LAST-MODIFIED:20250527T170843Z
UID:4103-1753383600-1753387200@www.lombardswimclub.com
SUMMARY:Game Night: Bingo
DESCRIPTION:Upper Deck.
URL:https://www.lombardswimclub.com/event/trivia-by-table-3-2025-07-31/
END:VEVENT
BEGIN:VEVENT
DTSTART;TZID=America/New_York:20250723T123000
DTEND;TZID=America/New_York:20250723T133000
DTSTAMP:20260425T065209
CREATED:20230518T184247Z
LAST-MODIFIED:20250512T181543Z
UID:4366-1753273800-1753277400@www.lombardswimclub.com
SUMMARY:Deep Water Aquacize
DESCRIPTION:
URL:https://www.lombardswimclub.com/event/aquacize-2024-05-15-2025-05-21/2025-07-23/
END:VEVENT
BEGIN:VEVENT
DTSTART;TZID=America/New_York:20250721T123000
DTEND;TZID=America/New_York:20250721T133000
DTSTAMP:20260425T065209
CREATED:20230518T184247Z
LAST-MODIFIED:20230518T184247Z
UID:4841-1753101000-1753104600@www.lombardswimclub.com
SUMMARY:Deep Water Aquacize
DESCRIPTION:
URL:https://www.lombardswimclub.com/event/aquacize-2025-07-14/2025-07-21/
END:VEVENT
BEGIN:VEVENT
DTSTART;TZID=America/New_York:20250719T200000
DTEND;TZID=America/New_York:20250719T213000
DTSTAMP:20260425T065209
CREATED:20240605T183421Z
LAST-MODIFIED:20250531T172652Z
UID:4529-1752955200-1752960600@www.lombardswimclub.com
SUMMARY:Family Float Night
DESCRIPTION:Pool
URL:https://www.lombardswimclub.com/event/family-float-night-2/2025-07-19/
END:VEVENT
BEGIN:VEVENT
DTSTART;TZID=America/New_York:20250717T190000
DTEND;TZID=America/New_York:20250717T190000
DTSTAMP:20260425T065209
CREATED:20230425T163659Z
LAST-MODIFIED:20250527T171630Z
UID:4091-1752778800-1752778800@www.lombardswimclub.com
SUMMARY:Game Night: Quizzo with Johnny Goodtimes
DESCRIPTION:Upper Deck.
URL:https://www.lombardswimclub.com/event/game-night-quizzo-with-johnny-goodtimes-2025-07-10/
END:VEVENT
BEGIN:VEVENT
DTSTART;TZID=America/New_York:20250716T123000
DTEND;TZID=America/New_York:20250716T133000
DTSTAMP:20260425T065209
CREATED:20230518T184247Z
LAST-MODIFIED:20250512T181543Z
UID:4365-1752669000-1752672600@www.lombardswimclub.com
SUMMARY:Deep Water Aquacize
DESCRIPTION:
URL:https://www.lombardswimclub.com/event/aquacize-2024-05-15-2025-05-21/2025-07-16/
END:VEVENT
BEGIN:VEVENT
DTSTART;TZID=America/New_York:20250714T123000
DTEND;TZID=America/New_York:20250714T133000
DTSTAMP:20260425T065209
CREATED:20230518T184247Z
LAST-MODIFIED:20250713T181026Z
UID:4168-1752496200-1752499800@www.lombardswimclub.com
SUMMARY:Deep Water Aquacize
DESCRIPTION:
URL:https://www.lombardswimclub.com/event/aquacize-2025-07-14/2025-07-14/
END:VEVENT
BEGIN:VEVENT
DTSTART;TZID=America/New_York:20250713T150000
DTEND;TZID=America/New_York:20250713T160000
DTSTAMP:20260425T065209
CREATED:20230523T173808Z
LAST-MODIFIED:20230523T173808Z
UID:4723-1752418800-1752422400@www.lombardswimclub.com
SUMMARY:Sunday Funday: Family Bingo
DESCRIPTION:Restaurant
URL:https://www.lombardswimclub.com/event/family-bingo-6/2025-07-13/
END:VEVENT
BEGIN:VEVENT
DTSTART;TZID=America/New_York:20250712T200000
DTEND;TZID=America/New_York:20250712T213000
DTSTAMP:20260425T065209
CREATED:20240605T183421Z
LAST-MODIFIED:20250531T172651Z
UID:4528-1752350400-1752355800@www.lombardswimclub.com
SUMMARY:Family Float Night
DESCRIPTION:Pool
URL:https://www.lombardswimclub.com/event/family-float-night-2/2025-07-12/
END:VEVENT
BEGIN:VEVENT
DTSTART;TZID=America/New_York:20250712T130000
DTEND;TZID=America/New_York:20250712T150000
DTSTAMP:20260425T065209
CREATED:20250527T174855Z
LAST-MODIFIED:20250527T174855Z
UID:4566-1752325200-1752332400@www.lombardswimclub.com
SUMMARY:Bridge Club
DESCRIPTION:Upper Deck
URL:https://www.lombardswimclub.com/event/bridge-club/2025-07-12/
END:VEVENT
END:VCALENDAR