BEGIN:VCALENDAR
VERSION:2.0
PRODID:-//Lombard Swim Club - ECPv6.11.2.1//NONSGML v1.0//EN
CALSCALE:GREGORIAN
METHOD:PUBLISH
X-WR-CALNAME:Lombard Swim Club
X-ORIGINAL-URL:https://www.lombardswimclub.com
X-WR-CALDESC:Events for Lombard Swim Club
REFRESH-INTERVAL;VALUE=DURATION:PT1H
X-Robots-Tag:noindex
X-PUBLISHED-TTL:PT1H
BEGIN:VTIMEZONE
TZID:America/New_York
BEGIN:DAYLIGHT
TZOFFSETFROM:-0500
TZOFFSETTO:-0400
TZNAME:EDT
DTSTART:20230312T070000
END:DAYLIGHT
BEGIN:STANDARD
TZOFFSETFROM:-0400
TZOFFSETTO:-0500
TZNAME:EST
DTSTART:20231105T060000
END:STANDARD
BEGIN:DAYLIGHT
TZOFFSETFROM:-0500
TZOFFSETTO:-0400
TZNAME:EDT
DTSTART:20240310T070000
END:DAYLIGHT
BEGIN:STANDARD
TZOFFSETFROM:-0400
TZOFFSETTO:-0500
TZNAME:EST
DTSTART:20241103T060000
END:STANDARD
END:VTIMEZONE
BEGIN:VEVENT
DTSTART;TZID=America/New_York:20240620T190000
DTEND;TZID=America/New_York:20240620T200000
DTSTAMP:20260424T084040
CREATED:20230425T164515Z
LAST-MODIFIED:20240516T171549Z
UID:1662-1718910000-1718913600@www.lombardswimclub.com
SUMMARY:Game Night: Bingo
DESCRIPTION:
URL:https://www.lombardswimclub.com/event/bingo-2/
END:VEVENT
BEGIN:VEVENT
DTSTART;TZID=America/New_York:20240620T070000
DTEND;TZID=America/New_York:20240620T090000
DTSTAMP:20260424T084040
CREATED:20240528T162847Z
LAST-MODIFIED:20240528T162847Z
UID:3687-1718866800-1718874000@www.lombardswimclub.com
SUMMARY:Lap Clinic
DESCRIPTION:
URL:https://www.lombardswimclub.com/event/lap-clinic/2024-06-20/
END:VEVENT
BEGIN:VEVENT
DTSTART;TZID=America/New_York:20240618T170000
DTEND;TZID=America/New_York:20240618T200000
DTSTAMP:20260424T084040
CREATED:20240529T230625Z
LAST-MODIFIED:20240529T230625Z
UID:3712-1718730000-1718740800@www.lombardswimclub.com
SUMMARY:Themed Night: Curry in a Hurry
DESCRIPTION:
URL:https://www.lombardswimclub.com/event/themed-night-curry-in-a-hurry/
END:VEVENT
BEGIN:VEVENT
DTSTART;TZID=America/New_York:20240618T070000
DTEND;TZID=America/New_York:20240618T090000
DTSTAMP:20260424T084040
CREATED:20240528T162847Z
LAST-MODIFIED:20240528T162847Z
UID:3686-1718694000-1718701200@www.lombardswimclub.com
SUMMARY:Lap Clinic
DESCRIPTION:
URL:https://www.lombardswimclub.com/event/lap-clinic/2024-06-18/
END:VEVENT
BEGIN:VEVENT
DTSTART;TZID=America/New_York:20240615T093000
DTEND;TZID=America/New_York:20240615T103000
DTSTAMP:20260424T084040
CREATED:20230425T170005Z
LAST-MODIFIED:20240416T144058Z
UID:1686-1718443800-1718447400@www.lombardswimclub.com
SUMMARY:Mister John's Music
DESCRIPTION:
URL:https://www.lombardswimclub.com/event/mister-johns-music/
END:VEVENT
BEGIN:VEVENT
DTSTART;TZID=America/New_York:20240613T190000
DTEND;TZID=America/New_York:20240613T200000
DTSTAMP:20260424T084040
CREATED:20230425T163849Z
LAST-MODIFIED:20240516T170845Z
UID:1648-1718305200-1718308800@www.lombardswimclub.com
SUMMARY:Game Night: Quizzo with Johnny Goodtimes
DESCRIPTION:
URL:https://www.lombardswimclub.com/event/game-night-quizzo-with-johnny-goodtimes-3/
END:VEVENT
BEGIN:VEVENT
DTSTART;TZID=America/New_York:20240613T070000
DTEND;TZID=America/New_York:20240613T090000
DTSTAMP:20260424T084040
CREATED:20240528T162847Z
LAST-MODIFIED:20240528T162847Z
UID:3685-1718262000-1718269200@www.lombardswimclub.com
SUMMARY:Lap Clinic
DESCRIPTION:
URL:https://www.lombardswimclub.com/event/lap-clinic/2024-06-13/
END:VEVENT
BEGIN:VEVENT
DTSTART;TZID=America/New_York:20240611T070000
DTEND;TZID=America/New_York:20240611T090000
DTSTAMP:20260424T084040
CREATED:20240528T162847Z
LAST-MODIFIED:20240528T162847Z
UID:3684-1718089200-1718096400@www.lombardswimclub.com
SUMMARY:Lap Clinic
DESCRIPTION:
URL:https://www.lombardswimclub.com/event/lap-clinic/2024-06-11/
END:VEVENT
BEGIN:VEVENT
DTSTART;TZID=America/New_York:20240606T190000
DTEND;TZID=America/New_York:20240606T200000
DTSTAMP:20260424T084040
CREATED:20230425T164843Z
LAST-MODIFIED:20240516T171915Z
UID:1672-1717700400-1717704000@www.lombardswimclub.com
SUMMARY:Game Night: Trivia by Table
DESCRIPTION:
URL:https://www.lombardswimclub.com/event/trivia-by-table-2/
END:VEVENT
BEGIN:VEVENT
DTSTART;TZID=America/New_York:20240606T070000
DTEND;TZID=America/New_York:20240606T090000
DTSTAMP:20260424T084040
CREATED:20240528T162847Z
LAST-MODIFIED:20240528T162847Z
UID:3683-1717657200-1717664400@www.lombardswimclub.com
SUMMARY:Lap Clinic
DESCRIPTION:
URL:https://www.lombardswimclub.com/event/lap-clinic/2024-06-06/
END:VEVENT
BEGIN:VEVENT
DTSTART;TZID=America/New_York:20240604T170000
DTEND;TZID=America/New_York:20240604T200000
DTSTAMP:20260424T084040
CREATED:20240529T230521Z
LAST-MODIFIED:20240529T230521Z
UID:3710-1717520400-1717531200@www.lombardswimclub.com
SUMMARY:Themed Dinner: Nonna's Night Out
DESCRIPTION:
URL:https://www.lombardswimclub.com/event/themed-dinner-nonnas-night-out/
END:VEVENT
BEGIN:VEVENT
DTSTART;TZID=America/New_York:20240604T070000
DTEND;TZID=America/New_York:20240604T090000
DTSTAMP:20260424T084040
CREATED:20240528T162847Z
LAST-MODIFIED:20240528T162847Z
UID:3682-1717484400-1717491600@www.lombardswimclub.com
SUMMARY:Lap Clinic
DESCRIPTION:
URL:https://www.lombardswimclub.com/event/lap-clinic/2024-06-04/
END:VEVENT
BEGIN:VEVENT
DTSTART;TZID=America/New_York:20240602T090000
DTEND;TZID=America/New_York:20240602T110000
DTSTAMP:20260424T084040
CREATED:20240528T114036Z
LAST-MODIFIED:20240528T114036Z
UID:3680-1717318800-1717326000@www.lombardswimclub.com
SUMMARY:Lifeguard Recertifications
DESCRIPTION:
URL:https://www.lombardswimclub.com/event/lifeguard-recertifications-2/2024-06-02/
LOCATION:Game Room
END:VEVENT
BEGIN:VEVENT
DTSTART;TZID=America/New_York:20240602T070000
DTEND;TZID=America/New_York:20240602T090000
DTSTAMP:20260424T084040
CREATED:20240528T113447Z
LAST-MODIFIED:20240528T113447Z
UID:3676-1717311600-1717318800@www.lombardswimclub.com
SUMMARY:Lifeguard Recertifications
DESCRIPTION:
URL:https://www.lombardswimclub.com/event/lifeguard-recertifications/2024-06-02/
LOCATION:Main Pool
END:VEVENT
BEGIN:VEVENT
DTSTART;TZID=America/New_York:20240601T090000
DTEND;TZID=America/New_York:20240601T110000
DTSTAMP:20260424T084040
CREATED:20240528T114036Z
LAST-MODIFIED:20240528T114036Z
UID:3678-1717232400-1717239600@www.lombardswimclub.com
SUMMARY:Lifeguard Recertifications
DESCRIPTION:
URL:https://www.lombardswimclub.com/event/lifeguard-recertifications-2/2024-06-01/
LOCATION:Game Room
END:VEVENT
BEGIN:VEVENT
DTSTART;TZID=America/New_York:20240601T070000
DTEND;TZID=America/New_York:20240601T090000
DTSTAMP:20260424T084040
CREATED:20240528T113447Z
LAST-MODIFIED:20240528T113743Z
UID:3672-1717225200-1717232400@www.lombardswimclub.com
SUMMARY:Lifeguard Recertifications
DESCRIPTION:
URL:https://www.lombardswimclub.com/event/lifeguard-recertifications/2024-06-01/
LOCATION:Main Pool
END:VEVENT
BEGIN:VEVENT
DTSTART;TZID=America/New_York:20240530T190000
DTEND;TZID=America/New_York:20240530T200000
DTSTAMP:20260424T084040
CREATED:20230425T163815Z
LAST-MODIFIED:20240516T170815Z
UID:1646-1717095600-1717099200@www.lombardswimclub.com
SUMMARY:Game Night: Quizzo with Johnny Goodtimes
DESCRIPTION:
URL:https://www.lombardswimclub.com/event/game-night-quizzo-with-johnny-goodtimes-2/
END:VEVENT
BEGIN:VEVENT
DTSTART;VALUE=DATE:20240525
DTEND;VALUE=DATE:20240526
DTSTAMP:20260424T084040
CREATED:20240205T184002Z
LAST-MODIFIED:20240205T184002Z
UID:2980-1716595200-1716681599@www.lombardswimclub.com
SUMMARY:High Season hours begin
DESCRIPTION:
URL:https://www.lombardswimclub.com/event/high-season-hours-begin/
END:VEVENT
BEGIN:VEVENT
DTSTART;TZID=America/New_York:20240523T190000
DTEND;TZID=America/New_York:20240523T200000
DTSTAMP:20260424T084040
CREATED:20230425T164445Z
LAST-MODIFIED:20240516T171502Z
UID:1660-1716490800-1716494400@www.lombardswimclub.com
SUMMARY:Game Night: Bingo
DESCRIPTION:
URL:https://www.lombardswimclub.com/event/bingo/
END:VEVENT
BEGIN:VEVENT
DTSTART;TZID=America/New_York:20240229T183000
DTEND;TZID=America/New_York:20240229T200000
DTSTAMP:20260424T084040
CREATED:20240229T170104Z
LAST-MODIFIED:20240229T170104Z
UID:2984-1709231400-1709236800@www.lombardswimclub.com
SUMMARY:Winter Town Hall
DESCRIPTION:
URL:https://www.lombardswimclub.com/event/winter-town-hall/
END:VEVENT
BEGIN:VEVENT
DTSTART;TZID=America/New_York:20230906T183000
DTEND;TZID=America/New_York:20230906T183000
DTSTAMP:20260424T084040
CREATED:20230807T195019Z
LAST-MODIFIED:20230807T195019Z
UID:2603-1694025000-1694025000@www.lombardswimclub.com
SUMMARY:Meet the Candidates Night
DESCRIPTION:
URL:https://www.lombardswimclub.com/event/meet-the-candidates-night-2/
END:VEVENT
BEGIN:VEVENT
DTSTART;TZID=America/New_York:20230828T183000
DTEND;TZID=America/New_York:20230828T193000
DTSTAMP:20260424T084040
CREATED:20230621T165400Z
LAST-MODIFIED:20230705T185422Z
UID:2281-1693247400-1693251000@www.lombardswimclub.com
SUMMARY:Coffee & Conversation: Eric Weinberg
DESCRIPTION:
URL:https://www.lombardswimclub.com/event/coffee-conversation-8/
END:VEVENT
BEGIN:VEVENT
DTSTART;TZID=America/New_York:20230823T183000
DTEND;TZID=America/New_York:20230823T183000
DTSTAMP:20260424T084040
CREATED:20230807T194835Z
LAST-MODIFIED:20230807T194835Z
UID:2601-1692815400-1692815400@www.lombardswimclub.com
SUMMARY:By-Laws Town Hall
DESCRIPTION:
URL:https://www.lombardswimclub.com/event/by-laws-town-hall/
END:VEVENT
BEGIN:VEVENT
DTSTART;TZID=America/New_York:20230814T183000
DTEND;TZID=America/New_York:20230814T193000
DTSTAMP:20260424T084040
CREATED:20230530T200654Z
LAST-MODIFIED:20230626T140454Z
UID:2241-1692037800-1692041400@www.lombardswimclub.com
SUMMARY:Coffee & Conversation: Michael Platt
DESCRIPTION:
URL:https://www.lombardswimclub.com/event/coffee-conversation-michael-platt/
END:VEVENT
BEGIN:VEVENT
DTSTART;TZID=America/New_York:20230806T153000
DTEND;TZID=America/New_York:20230806T160000
DTSTAMP:20260424T084040
CREATED:20230622T170205Z
LAST-MODIFIED:20230806T163429Z
UID:2339-1691335800-1691337600@www.lombardswimclub.com
SUMMARY:Aquapalooza: Parent-Child Race
DESCRIPTION:
URL:https://www.lombardswimclub.com/event/aquapalooza-parent-child-race/
END:VEVENT
BEGIN:VEVENT
DTSTART;TZID=America/New_York:20230806T150000
DTEND;TZID=America/New_York:20230806T153000
DTSTAMP:20260424T084040
CREATED:20230622T170113Z
LAST-MODIFIED:20230806T163348Z
UID:2337-1691334000-1691335800@www.lombardswimclub.com
SUMMARY:Aquapalooza: Splash-n-Dash
DESCRIPTION:
URL:https://www.lombardswimclub.com/event/aquapalooza-splash-n-dash/
END:VEVENT
BEGIN:VEVENT
DTSTART;TZID=America/New_York:20230806T140000
DTEND;TZID=America/New_York:20230806T150000
DTSTAMP:20260424T084040
CREATED:20230426T141842Z
LAST-MODIFIED:20230806T163248Z
UID:1786-1691330400-1691334000@www.lombardswimclub.com
SUMMARY:Aquapalooza: Swim-a-Thon
DESCRIPTION:
URL:https://www.lombardswimclub.com/event/swim-a-thon-splash-contest/
END:VEVENT
BEGIN:VEVENT
DTSTART;TZID=America/New_York:20230805T201500
DTEND;TZID=America/New_York:20230805T210000
DTSTAMP:20260424T084040
CREATED:20230425T165416Z
LAST-MODIFIED:20230728T171129Z
UID:1680-1691266500-1691269200@www.lombardswimclub.com
SUMMARY:Poolside Players presents Fairy Tale Courtroom: The Witch on Trial
DESCRIPTION:
URL:https://www.lombardswimclub.com/event/poolside-players-performance-2/
END:VEVENT
BEGIN:VEVENT
DTSTART;TZID=America/New_York:20230712T183000
DTEND;TZID=America/New_York:20230712T203000
DTSTAMP:20260424T084040
CREATED:20230622T175520Z
LAST-MODIFIED:20230626T140956Z
UID:2346-1689186600-1689193800@www.lombardswimclub.com
SUMMARY:Town Hall
DESCRIPTION:
URL:https://www.lombardswimclub.com/event/town-hall/
END:VEVENT
BEGIN:VEVENT
DTSTART;TZID=America/New_York:20230701T200000
DTEND;TZID=America/New_York:20230701T200000
DTSTAMP:20260424T084040
CREATED:20230622T163832Z
LAST-MODIFIED:20230626T194939Z
UID:2291-1688241600-1688241600@www.lombardswimclub.com
SUMMARY:Kids' Water Polo (10-14yo)
DESCRIPTION:
URL:https://www.lombardswimclub.com/event/kids-water-polo-10-14yo/2023-07-01/
END:VEVENT
END:VCALENDAR