BEGIN:VCALENDAR
VERSION:2.0
PRODID:-//Lombard Swim Club - ECPv6.11.2.1//NONSGML v1.0//EN
CALSCALE:GREGORIAN
METHOD:PUBLISH
X-WR-CALNAME:Lombard Swim Club
X-ORIGINAL-URL:https://www.lombardswimclub.com
X-WR-CALDESC:Events for Lombard Swim Club
REFRESH-INTERVAL;VALUE=DURATION:PT1H
X-Robots-Tag:noindex
X-PUBLISHED-TTL:PT1H
BEGIN:VTIMEZONE
TZID:America/New_York
BEGIN:DAYLIGHT
TZOFFSETFROM:-0500
TZOFFSETTO:-0400
TZNAME:EDT
DTSTART:20260308T070000
END:DAYLIGHT
BEGIN:STANDARD
TZOFFSETFROM:-0400
TZOFFSETTO:-0500
TZNAME:EST
DTSTART:20261101T060000
END:STANDARD
END:VTIMEZONE
BEGIN:VEVENT
DTSTART;TZID=America/New_York:20260911T123000
DTEND;TZID=America/New_York:20260911T133000
DTSTAMP:20260425T143728
CREATED:20230518T184247Z
LAST-MODIFIED:20230518T184247Z
UID:5487-1789129800-1789133400@www.lombardswimclub.com
SUMMARY:Aquacize
DESCRIPTION:Pool.
URL:https://www.lombardswimclub.com/event/aquacize/2026-09-11/
END:VEVENT
BEGIN:VEVENT
DTSTART;TZID=America/New_York:20260911T190000
DTEND;TZID=America/New_York:20260911T210000
DTSTAMP:20260425T143728
CREATED:20230425T162928Z
LAST-MODIFIED:20260330T193214Z
UID:1642-1789153200-1789160400@www.lombardswimclub.com
SUMMARY:Friday Night Live: David Falcone
DESCRIPTION:Upper Deck.
URL:https://www.lombardswimclub.com/event/friday-night-live-david-falcone/
END:VEVENT
BEGIN:VEVENT
DTSTART;TZID=America/New_York:20260912T123000
DTEND;TZID=America/New_York:20260912T133000
DTSTAMP:20260425T143728
CREATED:20230518T184247Z
LAST-MODIFIED:20230518T184247Z
UID:5488-1789216200-1789219800@www.lombardswimclub.com
SUMMARY:Aquacize
DESCRIPTION:Pool.
URL:https://www.lombardswimclub.com/event/aquacize/2026-09-12/
END:VEVENT
BEGIN:VEVENT
DTSTART;TZID=America/New_York:20260913T123000
DTEND;TZID=America/New_York:20260913T133000
DTSTAMP:20260425T143728
CREATED:20230518T184247Z
LAST-MODIFIED:20230518T184247Z
UID:5489-1789302600-1789306200@www.lombardswimclub.com
SUMMARY:Aquacize
DESCRIPTION:Pool.
URL:https://www.lombardswimclub.com/event/aquacize/2026-09-13/
END:VEVENT
BEGIN:VEVENT
DTSTART;TZID=America/New_York:20260914T123000
DTEND;TZID=America/New_York:20260914T133000
DTSTAMP:20260425T143728
CREATED:20230518T184247Z
LAST-MODIFIED:20230518T184247Z
UID:5490-1789389000-1789392600@www.lombardswimclub.com
SUMMARY:Aquacize
DESCRIPTION:Pool.
URL:https://www.lombardswimclub.com/event/aquacize/2026-09-14/
END:VEVENT
BEGIN:VEVENT
DTSTART;TZID=America/New_York:20260915T123000
DTEND;TZID=America/New_York:20260915T133000
DTSTAMP:20260425T143728
CREATED:20230518T184247Z
LAST-MODIFIED:20230518T184247Z
UID:5491-1789475400-1789479000@www.lombardswimclub.com
SUMMARY:Aquacize
DESCRIPTION:Pool.
URL:https://www.lombardswimclub.com/event/aquacize/2026-09-15/
END:VEVENT
BEGIN:VEVENT
DTSTART;TZID=America/New_York:20260915T180000
DTEND;TZID=America/New_York:20260915T190000
DTSTAMP:20260425T143728
CREATED:20250531T175042Z
LAST-MODIFIED:20250531T175042Z
UID:5361-1789495200-1789498800@www.lombardswimclub.com
SUMMARY:Evening Aquacize
DESCRIPTION:Pool.
URL:https://www.lombardswimclub.com/event/evening-aquacize-2/2026-09-15/
END:VEVENT
BEGIN:VEVENT
DTSTART;TZID=America/New_York:20260916T123000
DTEND;TZID=America/New_York:20260916T133000
DTSTAMP:20260425T143728
CREATED:20230518T184247Z
LAST-MODIFIED:20230518T184247Z
UID:5492-1789561800-1789565400@www.lombardswimclub.com
SUMMARY:Aquacize
DESCRIPTION:Pool.
URL:https://www.lombardswimclub.com/event/aquacize/2026-09-16/
END:VEVENT
BEGIN:VEVENT
DTSTART;TZID=America/New_York:20260916T180000
DTEND;TZID=America/New_York:20260916T190000
DTSTAMP:20260425T143728
CREATED:20250531T175042Z
LAST-MODIFIED:20250531T175042Z
UID:5362-1789581600-1789585200@www.lombardswimclub.com
SUMMARY:Evening Aquacize
DESCRIPTION:Pool.
URL:https://www.lombardswimclub.com/event/evening-aquacize-2/2026-09-16/
END:VEVENT
BEGIN:VEVENT
DTSTART;TZID=America/New_York:20260917T123000
DTEND;TZID=America/New_York:20260917T133000
DTSTAMP:20260425T143728
CREATED:20230518T184247Z
LAST-MODIFIED:20230518T184247Z
UID:5493-1789648200-1789651800@www.lombardswimclub.com
SUMMARY:Aquacize
DESCRIPTION:Pool.
URL:https://www.lombardswimclub.com/event/aquacize/2026-09-17/
END:VEVENT
BEGIN:VEVENT
DTSTART;TZID=America/New_York:20260917T190000
DTEND;TZID=America/New_York:20260917T200000
DTSTAMP:20260425T143728
CREATED:20230623T175824Z
LAST-MODIFIED:20230623T175824Z
UID:5198-1789671600-1789675200@www.lombardswimclub.com
SUMMARY:Game Night: Bingo
DESCRIPTION:Upper Deck.
URL:https://www.lombardswimclub.com/event/game-night-bingo-6/2026-09-17/
END:VEVENT
BEGIN:VEVENT
DTSTART;TZID=America/New_York:20260918T123000
DTEND;TZID=America/New_York:20260918T133000
DTSTAMP:20260425T143728
CREATED:20230518T184247Z
LAST-MODIFIED:20230518T184247Z
UID:5494-1789734600-1789738200@www.lombardswimclub.com
SUMMARY:Aquacize
DESCRIPTION:Pool.
URL:https://www.lombardswimclub.com/event/aquacize/2026-09-18/
END:VEVENT
BEGIN:VEVENT
DTSTART;TZID=America/New_York:20260919T123000
DTEND;TZID=America/New_York:20260919T133000
DTSTAMP:20260425T143728
CREATED:20230518T184247Z
LAST-MODIFIED:20230518T184247Z
UID:5495-1789821000-1789824600@www.lombardswimclub.com
SUMMARY:Aquacize
DESCRIPTION:Pool.
URL:https://www.lombardswimclub.com/event/aquacize/2026-09-19/
END:VEVENT
BEGIN:VEVENT
DTSTART;TZID=America/New_York:20260919T190000
DTEND;TZID=America/New_York:20260919T190000
DTSTAMP:20260425T143728
CREATED:20230523T180554Z
LAST-MODIFIED:20260331T182859Z
UID:2230-1789844400-1789844400@www.lombardswimclub.com
SUMMARY:Talent Show
DESCRIPTION:Upper Deck. \n\n5 years+ must have an actual act\nSign up in advance; estimate length of the act (max 5 minutes)\nWe’ll provide the mic; talent provides anything else they need
URL:https://www.lombardswimclub.com/event/talent-show/
END:VEVENT
BEGIN:VEVENT
DTSTART;TZID=America/New_York:20260920T123000
DTEND;TZID=America/New_York:20260920T133000
DTSTAMP:20260425T143728
CREATED:20230518T184247Z
LAST-MODIFIED:20230518T184247Z
UID:5496-1789907400-1789911000@www.lombardswimclub.com
SUMMARY:Aquacize
DESCRIPTION:Pool.
URL:https://www.lombardswimclub.com/event/aquacize/2026-09-20/
END:VEVENT
BEGIN:VEVENT
DTSTART;TZID=America/New_York:20260921T123000
DTEND;TZID=America/New_York:20260921T133000
DTSTAMP:20260425T143728
CREATED:20230518T184247Z
LAST-MODIFIED:20230518T184247Z
UID:5497-1789993800-1789997400@www.lombardswimclub.com
SUMMARY:Aquacize
DESCRIPTION:Pool.
URL:https://www.lombardswimclub.com/event/aquacize/2026-09-21/
END:VEVENT
BEGIN:VEVENT
DTSTART;TZID=America/New_York:20260922T123000
DTEND;TZID=America/New_York:20260922T133000
DTSTAMP:20260425T143728
CREATED:20230518T184247Z
LAST-MODIFIED:20230518T184247Z
UID:5498-1790080200-1790083800@www.lombardswimclub.com
SUMMARY:Aquacize
DESCRIPTION:Pool.
URL:https://www.lombardswimclub.com/event/aquacize/2026-09-22/
END:VEVENT
BEGIN:VEVENT
DTSTART;TZID=America/New_York:20260922T180000
DTEND;TZID=America/New_York:20260922T190000
DTSTAMP:20260425T143728
CREATED:20250531T175042Z
LAST-MODIFIED:20250531T175042Z
UID:5363-1790100000-1790103600@www.lombardswimclub.com
SUMMARY:Evening Aquacize
DESCRIPTION:Pool.
URL:https://www.lombardswimclub.com/event/evening-aquacize-2/2026-09-22/
END:VEVENT
BEGIN:VEVENT
DTSTART;TZID=America/New_York:20260923T123000
DTEND;TZID=America/New_York:20260923T133000
DTSTAMP:20260425T143728
CREATED:20230518T184247Z
LAST-MODIFIED:20230518T184247Z
UID:5499-1790166600-1790170200@www.lombardswimclub.com
SUMMARY:Aquacize
DESCRIPTION:Pool.
URL:https://www.lombardswimclub.com/event/aquacize/2026-09-23/
END:VEVENT
BEGIN:VEVENT
DTSTART;TZID=America/New_York:20260923T180000
DTEND;TZID=America/New_York:20260923T190000
DTSTAMP:20260425T143728
CREATED:20250531T175042Z
LAST-MODIFIED:20250531T175042Z
UID:5364-1790186400-1790190000@www.lombardswimclub.com
SUMMARY:Evening Aquacize
DESCRIPTION:Pool.
URL:https://www.lombardswimclub.com/event/evening-aquacize-2/2026-09-23/
END:VEVENT
BEGIN:VEVENT
DTSTART;TZID=America/New_York:20260924T123000
DTEND;TZID=America/New_York:20260924T133000
DTSTAMP:20260425T143728
CREATED:20230518T184247Z
LAST-MODIFIED:20230518T184247Z
UID:5500-1790253000-1790256600@www.lombardswimclub.com
SUMMARY:Aquacize
DESCRIPTION:Pool.
URL:https://www.lombardswimclub.com/event/aquacize/2026-09-24/
END:VEVENT
BEGIN:VEVENT
DTSTART;TZID=America/New_York:20260924T190000
DTEND;TZID=America/New_York:20260924T200000
DTSTAMP:20260425T143728
CREATED:20230425T163659Z
LAST-MODIFIED:20230425T163659Z
UID:5188-1790276400-1790280000@www.lombardswimclub.com
SUMMARY:Game Night: Quizzo
DESCRIPTION:Upper Deck.
URL:https://www.lombardswimclub.com/event/game-night-quizzo-with-johnny-goodtimes/2026-09-24/
END:VEVENT
BEGIN:VEVENT
DTSTART;TZID=America/New_York:20260925T123000
DTEND;TZID=America/New_York:20260925T133000
DTSTAMP:20260425T143728
CREATED:20230518T184247Z
LAST-MODIFIED:20230518T184247Z
UID:5501-1790339400-1790343000@www.lombardswimclub.com
SUMMARY:Aquacize
DESCRIPTION:Pool.
URL:https://www.lombardswimclub.com/event/aquacize/2026-09-25/
END:VEVENT
BEGIN:VEVENT
DTSTART;TZID=America/New_York:20260926T123000
DTEND;TZID=America/New_York:20260926T133000
DTSTAMP:20260425T143728
CREATED:20230518T184247Z
LAST-MODIFIED:20230518T184247Z
UID:5502-1790425800-1790429400@www.lombardswimclub.com
SUMMARY:Aquacize
DESCRIPTION:Pool.
URL:https://www.lombardswimclub.com/event/aquacize/2026-09-26/
END:VEVENT
BEGIN:VEVENT
DTSTART;TZID=America/New_York:20260926T190000
DTEND;TZID=America/New_York:20260926T190000
DTSTAMP:20260425T143728
CREATED:20230425T165659Z
LAST-MODIFIED:20260330T194514Z
UID:1684-1790449200-1790449200@www.lombardswimclub.com
SUMMARY:Family Dive-In Movie Night
DESCRIPTION:Pool Deck.
URL:https://www.lombardswimclub.com/event/family-movie-night/
END:VEVENT
BEGIN:VEVENT
DTSTART;VALUE=DATE:20260927
DTEND;VALUE=DATE:20260928
DTSTAMP:20260425T143728
CREATED:20230426T140016Z
LAST-MODIFIED:20251030T165722Z
UID:1780-1790467200-1790553599@www.lombardswimclub.com
SUMMARY:Closing Day
DESCRIPTION:
URL:https://www.lombardswimclub.com/event/closing-day/
END:VEVENT
BEGIN:VEVENT
DTSTART;TZID=America/New_York:20260927T123000
DTEND;TZID=America/New_York:20260927T133000
DTSTAMP:20260425T143728
CREATED:20230518T184247Z
LAST-MODIFIED:20230518T184247Z
UID:5503-1790512200-1790515800@www.lombardswimclub.com
SUMMARY:Aquacize
DESCRIPTION:Pool.
URL:https://www.lombardswimclub.com/event/aquacize/2026-09-27/
END:VEVENT
BEGIN:VEVENT
DTSTART;TZID=America/New_York:20260927T193000
DTEND;TZID=America/New_York:20260927T203000
DTSTAMP:20260425T143728
CREATED:20230828T135859Z
LAST-MODIFIED:20251030T165654Z
UID:2649-1790537400-1790541000@www.lombardswimclub.com
SUMMARY:Rose Petal Ceremony
DESCRIPTION:Pool Deck
URL:https://www.lombardswimclub.com/event/rose-petal-ceremony/
END:VEVENT
END:VCALENDAR