BEGIN:VCALENDAR
VERSION:2.0
PRODID:-//Lombard Swim Club - ECPv6.11.2.1//NONSGML v1.0//EN
CALSCALE:GREGORIAN
METHOD:PUBLISH
X-ORIGINAL-URL:https://www.lombardswimclub.com
X-WR-CALDESC:Events for Lombard Swim Club
REFRESH-INTERVAL;VALUE=DURATION:PT1H
X-Robots-Tag:noindex
X-PUBLISHED-TTL:PT1H
BEGIN:VTIMEZONE
TZID:America/New_York
BEGIN:DAYLIGHT
TZOFFSETFROM:-0500
TZOFFSETTO:-0400
TZNAME:EDT
DTSTART:20260308T070000
END:DAYLIGHT
BEGIN:STANDARD
TZOFFSETFROM:-0400
TZOFFSETTO:-0500
TZNAME:EST
DTSTART:20261101T060000
END:STANDARD
END:VTIMEZONE
BEGIN:VEVENT
DTSTART;TZID=America/New_York:20260817T193000
DTEND;TZID=America/New_York:20260817T203000
DTSTAMP:20260425T100838
CREATED:20250604T182730Z
LAST-MODIFIED:20250604T182730Z
UID:5176-1786995000-1786998600@www.lombardswimclub.com
SUMMARY:Tween/Teen Trivia
DESCRIPTION:MUST BE 10 YEARS OR OLDER \nArt Room
URL:https://www.lombardswimclub.com/event/tween-teen-trivia/2026-08-17/
END:VEVENT
BEGIN:VEVENT
DTSTART;TZID=America/New_York:20260818T123000
DTEND;TZID=America/New_York:20260818T133000
DTSTAMP:20260425T100838
CREATED:20230518T184247Z
LAST-MODIFIED:20230518T184247Z
UID:5464-1787056200-1787059800@www.lombardswimclub.com
SUMMARY:Aquacize
DESCRIPTION:Pool.
URL:https://www.lombardswimclub.com/event/aquacize/2026-08-18/
END:VEVENT
BEGIN:VEVENT
DTSTART;TZID=America/New_York:20260818T180000
DTEND;TZID=America/New_York:20260818T190000
DTSTAMP:20260425T100838
CREATED:20250531T175042Z
LAST-MODIFIED:20250531T175042Z
UID:5353-1787076000-1787079600@www.lombardswimclub.com
SUMMARY:Evening Aquacize
DESCRIPTION:Pool.
URL:https://www.lombardswimclub.com/event/evening-aquacize-2/2026-08-18/
END:VEVENT
BEGIN:VEVENT
DTSTART;TZID=America/New_York:20260819T123000
DTEND;TZID=America/New_York:20260819T133000
DTSTAMP:20260425T100838
CREATED:20230518T184247Z
LAST-MODIFIED:20230518T184247Z
UID:5465-1787142600-1787146200@www.lombardswimclub.com
SUMMARY:Aquacize
DESCRIPTION:Pool.
URL:https://www.lombardswimclub.com/event/aquacize/2026-08-19/
END:VEVENT
BEGIN:VEVENT
DTSTART;TZID=America/New_York:20260819T180000
DTEND;TZID=America/New_York:20260819T190000
DTSTAMP:20260425T100838
CREATED:20250531T175042Z
LAST-MODIFIED:20250531T175042Z
UID:5354-1787162400-1787166000@www.lombardswimclub.com
SUMMARY:Evening Aquacize
DESCRIPTION:Pool.
URL:https://www.lombardswimclub.com/event/evening-aquacize-2/2026-08-19/
END:VEVENT
BEGIN:VEVENT
DTSTART;TZID=America/New_York:20260820T123000
DTEND;TZID=America/New_York:20260820T133000
DTSTAMP:20260425T100838
CREATED:20230518T184247Z
LAST-MODIFIED:20230518T184247Z
UID:5466-1787229000-1787232600@www.lombardswimclub.com
SUMMARY:Aquacize
DESCRIPTION:Pool.
URL:https://www.lombardswimclub.com/event/aquacize/2026-08-20/
END:VEVENT
BEGIN:VEVENT
DTSTART;TZID=America/New_York:20260820T190000
DTEND;TZID=America/New_York:20260820T200000
DTSTAMP:20260425T100838
CREATED:20230623T175824Z
LAST-MODIFIED:20230623T175824Z
UID:5197-1787252400-1787256000@www.lombardswimclub.com
SUMMARY:Game Night: Bingo
DESCRIPTION:Upper Deck.
URL:https://www.lombardswimclub.com/event/game-night-bingo-6/2026-08-20/
END:VEVENT
BEGIN:VEVENT
DTSTART;TZID=America/New_York:20260821T123000
DTEND;TZID=America/New_York:20260821T133000
DTSTAMP:20260425T100838
CREATED:20230518T184247Z
LAST-MODIFIED:20230518T184247Z
UID:5467-1787315400-1787319000@www.lombardswimclub.com
SUMMARY:Aquacize
DESCRIPTION:Pool.
URL:https://www.lombardswimclub.com/event/aquacize/2026-08-21/
END:VEVENT
BEGIN:VEVENT
DTSTART;TZID=America/New_York:20260821T190000
DTEND;TZID=America/New_York:20260821T203000
DTSTAMP:20260425T100838
CREATED:20250527T183028Z
LAST-MODIFIED:20250527T183028Z
UID:5236-1787338800-1787344200@www.lombardswimclub.com
SUMMARY:Movie-in-the-Game-Room
DESCRIPTION:Game Room.
URL:https://www.lombardswimclub.com/event/kids-movie-night/2026-08-21/
LOCATION:Game Room
END:VEVENT
BEGIN:VEVENT
DTSTART;TZID=America/New_York:20260821T190000
DTEND;TZID=America/New_York:20260821T210000
DTSTAMP:20260425T100838
CREATED:20230828T135742Z
LAST-MODIFIED:20260330T194113Z
UID:2647-1787338800-1787346000@www.lombardswimclub.com
SUMMARY:Adult Karaoke
DESCRIPTION:Upper Deck.
URL:https://www.lombardswimclub.com/event/karaoke/
END:VEVENT
BEGIN:VEVENT
DTSTART;TZID=America/New_York:20260822T123000
DTEND;TZID=America/New_York:20260822T133000
DTSTAMP:20260425T100838
CREATED:20230518T184247Z
LAST-MODIFIED:20230518T184247Z
UID:5468-1787401800-1787405400@www.lombardswimclub.com
SUMMARY:Aquacize
DESCRIPTION:Pool.
URL:https://www.lombardswimclub.com/event/aquacize/2026-08-22/
END:VEVENT
BEGIN:VEVENT
DTSTART;TZID=America/New_York:20260822T200000
DTEND;TZID=America/New_York:20260822T213000
DTSTAMP:20260425T100838
CREATED:20230622T162925Z
LAST-MODIFIED:20230622T162925Z
UID:5249-1787428800-1787434200@www.lombardswimclub.com
SUMMARY:Family Float Night
DESCRIPTION:Pool.
URL:https://www.lombardswimclub.com/event/family-float-night/2026-08-22/
END:VEVENT
BEGIN:VEVENT
DTSTART;TZID=America/New_York:20260823T123000
DTEND;TZID=America/New_York:20260823T133000
DTSTAMP:20260425T100838
CREATED:20230518T184247Z
LAST-MODIFIED:20230518T184247Z
UID:5469-1787488200-1787491800@www.lombardswimclub.com
SUMMARY:Aquacize
DESCRIPTION:Pool.
URL:https://www.lombardswimclub.com/event/aquacize/2026-08-23/
END:VEVENT
BEGIN:VEVENT
DTSTART;TZID=America/New_York:20260823T150000
DTEND;TZID=America/New_York:20260823T150000
DTSTAMP:20260425T100838
CREATED:20240605T183137Z
LAST-MODIFIED:20260327T181251Z
UID:3765-1787497200-1787497200@www.lombardswimclub.com
SUMMARY:Sunday Funday: Kids' Karaoke
DESCRIPTION:
URL:https://www.lombardswimclub.com/event/kids-karaoke/
END:VEVENT
BEGIN:VEVENT
DTSTART;TZID=America/New_York:20260823T150000
DTEND;TZID=America/New_York:20260823T153000
DTSTAMP:20260425T100838
CREATED:20230622T164720Z
LAST-MODIFIED:20230622T164720Z
UID:5219-1787497200-1787499000@www.lombardswimclub.com
SUMMARY:Adult Swim
DESCRIPTION:Pool.
URL:https://www.lombardswimclub.com/event/adult-swim-3/2026-08-23/
END:VEVENT
BEGIN:VEVENT
DTSTART;TZID=America/New_York:20260824T123000
DTEND;TZID=America/New_York:20260824T133000
DTSTAMP:20260425T100838
CREATED:20230518T184247Z
LAST-MODIFIED:20230518T184247Z
UID:5470-1787574600-1787578200@www.lombardswimclub.com
SUMMARY:Aquacize
DESCRIPTION:Pool.
URL:https://www.lombardswimclub.com/event/aquacize/2026-08-24/
END:VEVENT
BEGIN:VEVENT
DTSTART;TZID=America/New_York:20260825T123000
DTEND;TZID=America/New_York:20260825T133000
DTSTAMP:20260425T100838
CREATED:20230518T184247Z
LAST-MODIFIED:20230518T184247Z
UID:5471-1787661000-1787664600@www.lombardswimclub.com
SUMMARY:Aquacize
DESCRIPTION:Pool.
URL:https://www.lombardswimclub.com/event/aquacize/2026-08-25/
END:VEVENT
BEGIN:VEVENT
DTSTART;TZID=America/New_York:20260825T180000
DTEND;TZID=America/New_York:20260825T190000
DTSTAMP:20260425T100838
CREATED:20250531T175042Z
LAST-MODIFIED:20250531T175042Z
UID:5355-1787680800-1787684400@www.lombardswimclub.com
SUMMARY:Evening Aquacize
DESCRIPTION:Pool.
URL:https://www.lombardswimclub.com/event/evening-aquacize-2/2026-08-25/
END:VEVENT
BEGIN:VEVENT
DTSTART;TZID=America/New_York:20260826T123000
DTEND;TZID=America/New_York:20260826T133000
DTSTAMP:20260425T100838
CREATED:20230518T184247Z
LAST-MODIFIED:20230518T184247Z
UID:5472-1787747400-1787751000@www.lombardswimclub.com
SUMMARY:Aquacize
DESCRIPTION:Pool.
URL:https://www.lombardswimclub.com/event/aquacize/2026-08-26/
END:VEVENT
BEGIN:VEVENT
DTSTART;TZID=America/New_York:20260826T180000
DTEND;TZID=America/New_York:20260826T190000
DTSTAMP:20260425T100838
CREATED:20250531T175042Z
LAST-MODIFIED:20250531T175042Z
UID:5356-1787767200-1787770800@www.lombardswimclub.com
SUMMARY:Evening Aquacize
DESCRIPTION:Pool.
URL:https://www.lombardswimclub.com/event/evening-aquacize-2/2026-08-26/
END:VEVENT
BEGIN:VEVENT
DTSTART;TZID=America/New_York:20260827T123000
DTEND;TZID=America/New_York:20260827T133000
DTSTAMP:20260425T100838
CREATED:20230518T184247Z
LAST-MODIFIED:20230518T184247Z
UID:5473-1787833800-1787837400@www.lombardswimclub.com
SUMMARY:Aquacize
DESCRIPTION:Pool.
URL:https://www.lombardswimclub.com/event/aquacize/2026-08-27/
END:VEVENT
BEGIN:VEVENT
DTSTART;TZID=America/New_York:20260827T190000
DTEND;TZID=America/New_York:20260827T200000
DTSTAMP:20260425T100838
CREATED:20230425T163659Z
LAST-MODIFIED:20230425T163659Z
UID:5186-1787857200-1787860800@www.lombardswimclub.com
SUMMARY:Game Night: Quizzo
DESCRIPTION:Upper Deck.
URL:https://www.lombardswimclub.com/event/game-night-quizzo-with-johnny-goodtimes/2026-08-27/
END:VEVENT
BEGIN:VEVENT
DTSTART;TZID=America/New_York:20260828T123000
DTEND;TZID=America/New_York:20260828T133000
DTSTAMP:20260425T100838
CREATED:20230518T184247Z
LAST-MODIFIED:20230518T184247Z
UID:5474-1787920200-1787923800@www.lombardswimclub.com
SUMMARY:Aquacize
DESCRIPTION:Pool.
URL:https://www.lombardswimclub.com/event/aquacize/2026-08-28/
END:VEVENT
BEGIN:VEVENT
DTSTART;TZID=America/New_York:20260828T190000
DTEND;TZID=America/New_York:20260828T203000
DTSTAMP:20260425T100838
CREATED:20250527T183028Z
LAST-MODIFIED:20250527T183028Z
UID:5237-1787943600-1787949000@www.lombardswimclub.com
SUMMARY:Movie-in-the-Game-Room
DESCRIPTION:Game Room.
URL:https://www.lombardswimclub.com/event/kids-movie-night/2026-08-28/
LOCATION:Game Room
END:VEVENT
BEGIN:VEVENT
DTSTART;TZID=America/New_York:20260828T200000
DTEND;TZID=America/New_York:20260828T200000
DTSTAMP:20260425T100838
CREATED:20230425T165609Z
LAST-MODIFIED:20260330T194247Z
UID:1682-1787947200-1787947200@www.lombardswimclub.com
SUMMARY:Adult Dive-In Movie Night
DESCRIPTION:Pool Deck.
URL:https://www.lombardswimclub.com/event/adult-movie-night/
END:VEVENT
BEGIN:VEVENT
DTSTART;TZID=America/New_York:20260829T123000
DTEND;TZID=America/New_York:20260829T133000
DTSTAMP:20260425T100838
CREATED:20230518T184247Z
LAST-MODIFIED:20230518T184247Z
UID:5475-1788006600-1788010200@www.lombardswimclub.com
SUMMARY:Aquacize
DESCRIPTION:Pool.
URL:https://www.lombardswimclub.com/event/aquacize/2026-08-29/
END:VEVENT
BEGIN:VEVENT
DTSTART;TZID=America/New_York:20260829T200000
DTEND;TZID=America/New_York:20260829T213000
DTSTAMP:20260425T100838
CREATED:20230622T162925Z
LAST-MODIFIED:20230622T162925Z
UID:5250-1788033600-1788039000@www.lombardswimclub.com
SUMMARY:Family Float Night
DESCRIPTION:Pool.
URL:https://www.lombardswimclub.com/event/family-float-night/2026-08-29/
END:VEVENT
BEGIN:VEVENT
DTSTART;TZID=America/New_York:20260830T123000
DTEND;TZID=America/New_York:20260830T133000
DTSTAMP:20260425T100838
CREATED:20230518T184247Z
LAST-MODIFIED:20230518T184247Z
UID:5476-1788093000-1788096600@www.lombardswimclub.com
SUMMARY:Aquacize
DESCRIPTION:Pool.
URL:https://www.lombardswimclub.com/event/aquacize/2026-08-30/
END:VEVENT
BEGIN:VEVENT
DTSTART;TZID=America/New_York:20260830T150000
DTEND;TZID=America/New_York:20260830T153000
DTSTAMP:20260425T100838
CREATED:20230622T164720Z
LAST-MODIFIED:20230622T164720Z
UID:5220-1788102000-1788103800@www.lombardswimclub.com
SUMMARY:Adult Swim
DESCRIPTION:Pool.
URL:https://www.lombardswimclub.com/event/adult-swim-3/2026-08-30/
END:VEVENT
BEGIN:VEVENT
DTSTART;TZID=America/New_York:20260831T123000
DTEND;TZID=America/New_York:20260831T133000
DTSTAMP:20260425T100838
CREATED:20230518T184247Z
LAST-MODIFIED:20230518T184247Z
UID:5477-1788179400-1788183000@www.lombardswimclub.com
SUMMARY:Aquacize
DESCRIPTION:Pool.
URL:https://www.lombardswimclub.com/event/aquacize/2026-08-31/
END:VEVENT
END:VCALENDAR