BEGIN:VCALENDAR
VERSION:2.0
PRODID:-//Lombard Swim Club - ECPv6.11.2.1//NONSGML v1.0//EN
CALSCALE:GREGORIAN
METHOD:PUBLISH
X-WR-CALNAME:Lombard Swim Club
X-ORIGINAL-URL:https://www.lombardswimclub.com
X-WR-CALDESC:Events for Lombard Swim Club
REFRESH-INTERVAL;VALUE=DURATION:PT1H
X-Robots-Tag:noindex
X-PUBLISHED-TTL:PT1H
BEGIN:VTIMEZONE
TZID:America/New_York
BEGIN:DAYLIGHT
TZOFFSETFROM:-0500
TZOFFSETTO:-0400
TZNAME:EDT
DTSTART:20240310T070000
END:DAYLIGHT
BEGIN:STANDARD
TZOFFSETFROM:-0400
TZOFFSETTO:-0500
TZNAME:EST
DTSTART:20241103T060000
END:STANDARD
BEGIN:DAYLIGHT
TZOFFSETFROM:-0500
TZOFFSETTO:-0400
TZNAME:EDT
DTSTART:20250309T070000
END:DAYLIGHT
BEGIN:STANDARD
TZOFFSETFROM:-0400
TZOFFSETTO:-0500
TZNAME:EST
DTSTART:20251102T060000
END:STANDARD
END:VTIMEZONE
BEGIN:VEVENT
DTSTART;VALUE=DATE:20250524
DTEND;VALUE=DATE:20250525
DTSTAMP:20260424T095435
CREATED:20241121T180323Z
LAST-MODIFIED:20241121T180323Z
UID:3993-1748044800-1748131199@www.lombardswimclub.com
SUMMARY:High Season Hours commence
DESCRIPTION:
URL:https://www.lombardswimclub.com/event/high-season-hours-commence/
END:VEVENT
BEGIN:VEVENT
DTSTART;TZID=America/New_York:20250523T123000
DTEND;TZID=America/New_York:20250523T133000
DTSTAMP:20260424T095435
CREATED:20230518T184247Z
LAST-MODIFIED:20250510T135120Z
UID:4118-1748003400-1748007000@www.lombardswimclub.com
SUMMARY:Aquacize
DESCRIPTION:
URL:https://www.lombardswimclub.com/event/aquacize/2025-05-23/
END:VEVENT
BEGIN:VEVENT
DTSTART;TZID=America/New_York:20250522T190000
DTEND;TZID=America/New_York:20250522T200000
DTSTAMP:20260424T095435
CREATED:20230425T164915Z
LAST-MODIFIED:20250510T045906Z
UID:1674-1747940400-1747944000@www.lombardswimclub.com
SUMMARY:Game Night: Bingo
DESCRIPTION:Upper Deck.
URL:https://www.lombardswimclub.com/event/trivia-by-table-3/2025-05-22/
END:VEVENT
BEGIN:VEVENT
DTSTART;TZID=America/New_York:20250521T123000
DTEND;TZID=America/New_York:20250521T133000
DTSTAMP:20260424T095435
CREATED:20230518T184247Z
LAST-MODIFIED:20250512T181543Z
UID:4357-1747830600-1747834200@www.lombardswimclub.com
SUMMARY:Deep Water Aquacize
DESCRIPTION:
URL:https://www.lombardswimclub.com/event/aquacize-2024-05-15-2025-05-21/2025-05-21/
END:VEVENT
BEGIN:VEVENT
DTSTART;TZID=America/New_York:20250519T123000
DTEND;TZID=America/New_York:20250519T133000
DTSTAMP:20260424T095435
CREATED:20230518T184247Z
LAST-MODIFIED:20250510T135119Z
UID:4114-1747657800-1747661400@www.lombardswimclub.com
SUMMARY:Aquacize
DESCRIPTION:
URL:https://www.lombardswimclub.com/event/aquacize/2025-05-19/
END:VEVENT
BEGIN:VEVENT
DTSTART;TZID=America/New_York:20250518T123000
DTEND;TZID=America/New_York:20250518T133000
DTSTAMP:20260424T095435
CREATED:20230518T184247Z
LAST-MODIFIED:20250510T135119Z
UID:4113-1747571400-1747575000@www.lombardswimclub.com
SUMMARY:Aquacize
DESCRIPTION:
URL:https://www.lombardswimclub.com/event/aquacize/2025-05-18/
END:VEVENT
BEGIN:VEVENT
DTSTART;TZID=America/New_York:20250517T123000
DTEND;TZID=America/New_York:20250517T133000
DTSTAMP:20260424T095435
CREATED:20230518T184247Z
LAST-MODIFIED:20250510T135119Z
UID:4112-1747485000-1747488600@www.lombardswimclub.com
SUMMARY:Aquacize
DESCRIPTION:
URL:https://www.lombardswimclub.com/event/aquacize/2025-05-17/
END:VEVENT
BEGIN:VEVENT
DTSTART;TZID=America/New_York:20250516T123000
DTEND;TZID=America/New_York:20250516T133000
DTSTAMP:20260424T095435
CREATED:20230518T184247Z
LAST-MODIFIED:20250510T135119Z
UID:4111-1747398600-1747402200@www.lombardswimclub.com
SUMMARY:Aquacize
DESCRIPTION:
URL:https://www.lombardswimclub.com/event/aquacize/2025-05-16/
END:VEVENT
BEGIN:VEVENT
DTSTART;TZID=America/New_York:20250514T113000
DTEND;TZID=America/New_York:20250514T123000
DTSTAMP:20260424T095435
CREATED:20230518T184247Z
LAST-MODIFIED:20250512T182020Z
UID:2797-1747222200-1747225800@www.lombardswimclub.com
SUMMARY:Deep Water Aquacize *TIME SHIFT*
DESCRIPTION:
URL:https://www.lombardswimclub.com/event/aquacize-2024-05-15/
END:VEVENT
BEGIN:VEVENT
DTSTART;TZID=America/New_York:20250513T123000
DTEND;TZID=America/New_York:20250513T133000
DTSTAMP:20260424T095435
CREATED:20230518T184247Z
LAST-MODIFIED:20250510T135119Z
UID:4108-1747139400-1747143000@www.lombardswimclub.com
SUMMARY:Aquacize
DESCRIPTION:
URL:https://www.lombardswimclub.com/event/aquacize/2025-05-13/
END:VEVENT
BEGIN:VEVENT
DTSTART;TZID=America/New_York:20250512T123000
DTEND;TZID=America/New_York:20250512T133000
DTSTAMP:20260424T095435
CREATED:20230518T184247Z
LAST-MODIFIED:20250510T135113Z
UID:1812-1747053000-1747056600@www.lombardswimclub.com
SUMMARY:Aquacize
DESCRIPTION:
URL:https://www.lombardswimclub.com/event/aquacize/2025-05-12/
END:VEVENT
BEGIN:VEVENT
DTSTART;TZID=America/New_York:20250415T160000
DTEND;TZID=America/New_York:20250415T200000
DTSTAMP:20260424T095435
CREATED:20250310T155520Z
LAST-MODIFIED:20250310T155520Z
UID:4066-1744732800-1744747200@www.lombardswimclub.com
SUMMARY:Photo Day
DESCRIPTION:Stop by the Club to have your photo taken for your member profile.
URL:https://www.lombardswimclub.com/event/photo-day/
END:VEVENT
BEGIN:VEVENT
DTSTART;TZID=America/New_York:20250408T100000
DTEND;TZID=America/New_York:20250408T140000
DTSTAMP:20260424T095435
CREATED:20250310T155712Z
LAST-MODIFIED:20250310T155712Z
UID:4068-1744106400-1744120800@www.lombardswimclub.com
SUMMARY:Photo Day
DESCRIPTION:Stop by the Club to have your photo taken for your member profile.
URL:https://www.lombardswimclub.com/event/photo-day-2/
END:VEVENT
BEGIN:VEVENT
DTSTART;TZID=America/New_York:20240923T183000
DTEND;TZID=America/New_York:20240923T183000
DTSTAMP:20260424T095435
CREATED:20230807T195058Z
LAST-MODIFIED:20240923T155232Z
UID:2605-1727116200-1727116200@www.lombardswimclub.com
SUMMARY:Annual General Meeting
DESCRIPTION:Upper Deck.
URL:https://www.lombardswimclub.com/event/annual-general-meeting-2/
END:VEVENT
BEGIN:VEVENT
DTSTART;TZID=America/New_York:20240919T190000
DTEND;TZID=America/New_York:20240919T200000
DTSTAMP:20260424T095435
CREATED:20230425T164334Z
LAST-MODIFIED:20240516T171418Z
UID:1658-1726772400-1726776000@www.lombardswimclub.com
SUMMARY:Game Night: Bingo
DESCRIPTION:
URL:https://www.lombardswimclub.com/event/game-night-quizzo-with-johnny-goodtimes-8/
END:VEVENT
BEGIN:VEVENT
DTSTART;TZID=America/New_York:20240917T170000
DTEND;TZID=America/New_York:20240917T200000
DTSTAMP:20260424T095435
CREATED:20240529T231537Z
LAST-MODIFIED:20240529T231537Z
UID:3726-1726592400-1726603200@www.lombardswimclub.com
SUMMARY:Themed Night: Demonstration with Chef Raf
DESCRIPTION:
URL:https://www.lombardswimclub.com/event/themed-night-demonstration-with-chef-raf/
END:VEVENT
BEGIN:VEVENT
DTSTART;TZID=America/New_York:20240905T190000
DTEND;TZID=America/New_York:20240905T200000
DTSTAMP:20260424T095435
CREATED:20230425T165013Z
LAST-MODIFIED:20240516T171757Z
UID:1678-1725562800-1725566400@www.lombardswimclub.com
SUMMARY:Game Night: Trivia by Table
DESCRIPTION:
URL:https://www.lombardswimclub.com/event/trivia-by-table-5/
END:VEVENT
BEGIN:VEVENT
DTSTART;VALUE=DATE:20240903
DTEND;VALUE=DATE:20240904
DTSTAMP:20260424T095435
CREATED:20240205T184102Z
LAST-MODIFIED:20240205T184145Z
UID:2982-1725321600-1725407999@www.lombardswimclub.com
SUMMARY:Low Season hours recommence
DESCRIPTION:
URL:https://www.lombardswimclub.com/event/low-season-hours-recommence/
END:VEVENT
BEGIN:VEVENT
DTSTART;TZID=America/New_York:20240902T170000
DTEND;TZID=America/New_York:20240902T200000
DTSTAMP:20260424T095435
CREATED:20240529T231812Z
LAST-MODIFIED:20240529T231812Z
UID:3732-1725296400-1725307200@www.lombardswimclub.com
SUMMARY:Themed Night: Labor Day Luau
DESCRIPTION:
URL:https://www.lombardswimclub.com/event/themed-night-labor-day-luau/
END:VEVENT
BEGIN:VEVENT
DTSTART;TZID=America/New_York:20240901T150000
DTEND;TZID=America/New_York:20240901T160000
DTSTAMP:20260424T095435
CREATED:20230523T175633Z
LAST-MODIFIED:20240402T165746Z
UID:2228-1725202800-1725206400@www.lombardswimclub.com
SUMMARY:Family Back-to-School Bingo
DESCRIPTION:Restaurant
URL:https://www.lombardswimclub.com/event/family-back-to-school-bingo/
END:VEVENT
BEGIN:VEVENT
DTSTART;TZID=America/New_York:20240831T190000
DTEND;TZID=America/New_York:20240831T210000
DTSTAMP:20260424T095435
CREATED:20230425T162607Z
LAST-MODIFIED:20240830T182528Z
UID:1640-1725130800-1725138000@www.lombardswimclub.com
SUMMARY:Saturday Night Live: Emily Drinker
DESCRIPTION:Upper Deck
URL:https://www.lombardswimclub.com/event/friday-night-live-emily-drinker/
END:VEVENT
BEGIN:VEVENT
DTSTART;TZID=America/New_York:20240829T190000
DTEND;TZID=America/New_York:20240829T200000
DTSTAMP:20260424T095435
CREATED:20230425T164252Z
LAST-MODIFIED:20240516T171119Z
UID:1656-1724958000-1724961600@www.lombardswimclub.com
SUMMARY:Game Night: Quizzo with Johnny Goodtimes
DESCRIPTION:
URL:https://www.lombardswimclub.com/event/game-night-quizzo-with-johnny-goodtimes-7/
END:VEVENT
BEGIN:VEVENT
DTSTART;TZID=America/New_York:20240829T070000
DTEND;TZID=America/New_York:20240829T090000
DTSTAMP:20260424T095435
CREATED:20240528T162847Z
LAST-MODIFIED:20240528T162847Z
UID:3707-1724914800-1724922000@www.lombardswimclub.com
SUMMARY:Lap Clinic
DESCRIPTION:
URL:https://www.lombardswimclub.com/event/lap-clinic/2024-08-29/
END:VEVENT
BEGIN:VEVENT
DTSTART;TZID=America/New_York:20240827T170000
DTEND;TZID=America/New_York:20240827T200000
DTSTAMP:20260424T095435
CREATED:20240529T231426Z
LAST-MODIFIED:20240529T231426Z
UID:3724-1724778000-1724788800@www.lombardswimclub.com
SUMMARY:Themed Night: Taste of Spain
DESCRIPTION:
URL:https://www.lombardswimclub.com/event/themed-night-taste-of-spain/
END:VEVENT
BEGIN:VEVENT
DTSTART;TZID=America/New_York:20240827T070000
DTEND;TZID=America/New_York:20240827T090000
DTSTAMP:20260424T095435
CREATED:20240528T162847Z
LAST-MODIFIED:20240528T162847Z
UID:3706-1724742000-1724749200@www.lombardswimclub.com
SUMMARY:Lap Clinic
DESCRIPTION:
URL:https://www.lombardswimclub.com/event/lap-clinic/2024-08-27/
END:VEVENT
BEGIN:VEVENT
DTSTART;TZID=America/New_York:20240826T183000
DTEND;TZID=America/New_York:20240826T183000
DTSTAMP:20260424T095435
CREATED:20240402T161756Z
LAST-MODIFIED:20240518T161352Z
UID:3027-1724697000-1724697000@www.lombardswimclub.com
SUMMARY:Coffee & Conversation: Lindsey Ermey - Estate Planning
DESCRIPTION:Upper Deck
URL:https://www.lombardswimclub.com/event/coffee-conversation-lindsey-ermey-financial-planning/
END:VEVENT
BEGIN:VEVENT
DTSTART;TZID=America/New_York:20240822T190000
DTEND;TZID=America/New_York:20240822T200000
DTSTAMP:20260424T095435
CREATED:20230425T164619Z
LAST-MODIFIED:20240702T175619Z
UID:1666-1724353200-1724356800@www.lombardswimclub.com
SUMMARY:Game Night: Trivia by Table
DESCRIPTION:
URL:https://www.lombardswimclub.com/event/bingo-4/
END:VEVENT
BEGIN:VEVENT
DTSTART;TZID=America/New_York:20240822T070000
DTEND;TZID=America/New_York:20240822T090000
DTSTAMP:20260424T095435
CREATED:20240528T162847Z
LAST-MODIFIED:20240528T162847Z
UID:3705-1724310000-1724317200@www.lombardswimclub.com
SUMMARY:Lap Clinic
DESCRIPTION:
URL:https://www.lombardswimclub.com/event/lap-clinic/2024-08-22/
END:VEVENT
BEGIN:VEVENT
DTSTART;TZID=America/New_York:20240820T070000
DTEND;TZID=America/New_York:20240820T090000
DTSTAMP:20260424T095435
CREATED:20240528T162847Z
LAST-MODIFIED:20240528T162847Z
UID:3704-1724137200-1724144400@www.lombardswimclub.com
SUMMARY:Lap Clinic
DESCRIPTION:
URL:https://www.lombardswimclub.com/event/lap-clinic/2024-08-20/
END:VEVENT
BEGIN:VEVENT
DTSTART;TZID=America/New_York:20240815T190000
DTEND;TZID=America/New_York:20240815T200000
DTSTAMP:20260424T095435
CREATED:20230425T164224Z
LAST-MODIFIED:20240516T171047Z
UID:1654-1723748400-1723752000@www.lombardswimclub.com
SUMMARY:Game Night: Quizzo with Johnny Goodtimes
DESCRIPTION:
URL:https://www.lombardswimclub.com/event/game-night-quizzo-with-johnny-goodtimes-6/
END:VEVENT
END:VCALENDAR