BEGIN:VCALENDAR
VERSION:2.0
PRODID:-//Lombard Swim Club - ECPv6.11.2.1//NONSGML v1.0//EN
CALSCALE:GREGORIAN
METHOD:PUBLISH
X-ORIGINAL-URL:https://www.lombardswimclub.com
X-WR-CALDESC:Events for Lombard Swim Club
REFRESH-INTERVAL;VALUE=DURATION:PT1H
X-Robots-Tag:noindex
X-PUBLISHED-TTL:PT1H
BEGIN:VTIMEZONE
TZID:America/New_York
BEGIN:DAYLIGHT
TZOFFSETFROM:-0500
TZOFFSETTO:-0400
TZNAME:EDT
DTSTART:20260308T070000
END:DAYLIGHT
BEGIN:STANDARD
TZOFFSETFROM:-0400
TZOFFSETTO:-0500
TZNAME:EST
DTSTART:20261101T060000
END:STANDARD
END:VTIMEZONE
BEGIN:VEVENT
DTSTART;TZID=America/New_York:20260724T190000
DTEND;TZID=America/New_York:20260724T203000
DTSTAMP:20260425T103107
CREATED:20250527T183028Z
LAST-MODIFIED:20250527T183028Z
UID:5232-1784919600-1784925000@www.lombardswimclub.com
SUMMARY:Movie-in-the-Game-Room
DESCRIPTION:Game Room.
URL:https://www.lombardswimclub.com/event/kids-movie-night/2026-07-24/
LOCATION:Game Room
END:VEVENT
BEGIN:VEVENT
DTSTART;TZID=America/New_York:20260725T123000
DTEND;TZID=America/New_York:20260725T133000
DTSTAMP:20260425T103107
CREATED:20230518T184247Z
LAST-MODIFIED:20230518T184247Z
UID:5440-1784982600-1784986200@www.lombardswimclub.com
SUMMARY:Aquacize
DESCRIPTION:Pool.
URL:https://www.lombardswimclub.com/event/aquacize/2026-07-25/
END:VEVENT
BEGIN:VEVENT
DTSTART;TZID=America/New_York:20260725T200000
DTEND;TZID=America/New_York:20260725T213000
DTSTAMP:20260425T103107
CREATED:20230622T162925Z
LAST-MODIFIED:20230622T162925Z
UID:5244-1785009600-1785015000@www.lombardswimclub.com
SUMMARY:Family Float Night
DESCRIPTION:Pool.
URL:https://www.lombardswimclub.com/event/family-float-night/2026-07-25/
END:VEVENT
BEGIN:VEVENT
DTSTART;TZID=America/New_York:20260726T123000
DTEND;TZID=America/New_York:20260726T133000
DTSTAMP:20260425T103107
CREATED:20230518T184247Z
LAST-MODIFIED:20230518T184247Z
UID:5441-1785069000-1785072600@www.lombardswimclub.com
SUMMARY:Aquacize
DESCRIPTION:Pool.
URL:https://www.lombardswimclub.com/event/aquacize/2026-07-26/
END:VEVENT
BEGIN:VEVENT
DTSTART;TZID=America/New_York:20260726T140000
DTEND;TZID=America/New_York:20260726T150000
DTSTAMP:20260425T103107
CREATED:20230622T165116Z
LAST-MODIFIED:20230622T165116Z
UID:5028-1785074400-1785078000@www.lombardswimclub.com
SUMMARY:Afternoon Art (5+ yo)
DESCRIPTION:Art Room
URL:https://www.lombardswimclub.com/event/afternoon-art-5-yo/2026-07-26/
END:VEVENT
BEGIN:VEVENT
DTSTART;TZID=America/New_York:20260726T150000
DTEND;TZID=America/New_York:20260726T153000
DTSTAMP:20260425T103107
CREATED:20230622T164720Z
LAST-MODIFIED:20230622T164720Z
UID:5215-1785078000-1785079800@www.lombardswimclub.com
SUMMARY:Adult Swim
DESCRIPTION:Pool.
URL:https://www.lombardswimclub.com/event/adult-swim-3/2026-07-26/
END:VEVENT
BEGIN:VEVENT
DTSTART;TZID=America/New_York:20260727T070000
DTEND;TZID=America/New_York:20260727T090000
DTSTAMP:20260425T103107
CREATED:20240528T162847Z
LAST-MODIFIED:20240528T162847Z
UID:5528-1785135600-1785142800@www.lombardswimclub.com
SUMMARY:Lap Clinic
DESCRIPTION:Pool.
URL:https://www.lombardswimclub.com/event/lap-clinic/2026-07-27/
END:VEVENT
BEGIN:VEVENT
DTSTART;TZID=America/New_York:20260727T123000
DTEND;TZID=America/New_York:20260727T133000
DTSTAMP:20260425T103107
CREATED:20230518T184247Z
LAST-MODIFIED:20230518T184247Z
UID:5442-1785155400-1785159000@www.lombardswimclub.com
SUMMARY:Aquacize
DESCRIPTION:Pool.
URL:https://www.lombardswimclub.com/event/aquacize/2026-07-27/
END:VEVENT
BEGIN:VEVENT
DTSTART;TZID=America/New_York:20260727T163000
DTEND;TZID=America/New_York:20260727T180000
DTSTAMP:20260425T103107
CREATED:20230425T171414Z
LAST-MODIFIED:20230425T171414Z
UID:4968-1785169800-1785175200@www.lombardswimclub.com
SUMMARY:Poolside Players
DESCRIPTION:Game Room
URL:https://www.lombardswimclub.com/event/poolside-players-3/2026-07-27/
END:VEVENT
BEGIN:VEVENT
DTSTART;TZID=America/New_York:20260728T070000
DTEND;TZID=America/New_York:20260728T090000
DTSTAMP:20260425T103107
CREATED:20240528T162847Z
LAST-MODIFIED:20240528T162847Z
UID:5529-1785222000-1785229200@www.lombardswimclub.com
SUMMARY:Lap Clinic
DESCRIPTION:Pool.
URL:https://www.lombardswimclub.com/event/lap-clinic/2026-07-28/
END:VEVENT
BEGIN:VEVENT
DTSTART;TZID=America/New_York:20260728T123000
DTEND;TZID=America/New_York:20260728T133000
DTSTAMP:20260425T103107
CREATED:20230518T184247Z
LAST-MODIFIED:20230518T184247Z
UID:5443-1785241800-1785245400@www.lombardswimclub.com
SUMMARY:Aquacize
DESCRIPTION:Pool.
URL:https://www.lombardswimclub.com/event/aquacize/2026-07-28/
END:VEVENT
BEGIN:VEVENT
DTSTART;TZID=America/New_York:20260728T173000
DTEND;TZID=America/New_York:20260728T183000
DTSTAMP:20260425T103107
CREATED:20230425T171648Z
LAST-MODIFIED:20230425T171648Z
UID:5173-1785259800-1785263400@www.lombardswimclub.com
SUMMARY:Junior Lifeguard
DESCRIPTION:Pool Deck
URL:https://www.lombardswimclub.com/event/intro-to-swim-team/2026-07-28/
END:VEVENT
BEGIN:VEVENT
DTSTART;TZID=America/New_York:20260728T180000
DTEND;TZID=America/New_York:20260728T190000
DTSTAMP:20260425T103107
CREATED:20250531T175042Z
LAST-MODIFIED:20250531T175042Z
UID:5347-1785261600-1785265200@www.lombardswimclub.com
SUMMARY:Evening Aquacize
DESCRIPTION:Pool.
URL:https://www.lombardswimclub.com/event/evening-aquacize-2/2026-07-28/
END:VEVENT
BEGIN:VEVENT
DTSTART;TZID=America/New_York:20260729T070000
DTEND;TZID=America/New_York:20260729T090000
DTSTAMP:20260425T103107
CREATED:20240528T162847Z
LAST-MODIFIED:20240528T162847Z
UID:5530-1785308400-1785315600@www.lombardswimclub.com
SUMMARY:Lap Clinic
DESCRIPTION:Pool.
URL:https://www.lombardswimclub.com/event/lap-clinic/2026-07-29/
END:VEVENT
BEGIN:VEVENT
DTSTART;TZID=America/New_York:20260729T123000
DTEND;TZID=America/New_York:20260729T133000
DTSTAMP:20260425T103107
CREATED:20230518T184247Z
LAST-MODIFIED:20230518T184247Z
UID:5444-1785328200-1785331800@www.lombardswimclub.com
SUMMARY:Aquacize
DESCRIPTION:Pool.
URL:https://www.lombardswimclub.com/event/aquacize/2026-07-29/
END:VEVENT
BEGIN:VEVENT
DTSTART;TZID=America/New_York:20260729T163000
DTEND;TZID=America/New_York:20260729T180000
DTSTAMP:20260425T103107
CREATED:20230425T171414Z
LAST-MODIFIED:20230425T171414Z
UID:4969-1785342600-1785348000@www.lombardswimclub.com
SUMMARY:Poolside Players
DESCRIPTION:Game Room
URL:https://www.lombardswimclub.com/event/poolside-players-3/2026-07-29/
END:VEVENT
BEGIN:VEVENT
DTSTART;TZID=America/New_York:20260729T170000
DTEND;TZID=America/New_York:20260729T180000
DTSTAMP:20260425T103107
CREATED:20230425T173945Z
LAST-MODIFIED:20230425T173945Z
UID:5270-1785344400-1785348000@www.lombardswimclub.com
SUMMARY:Afternoon Art (7+ yo)
DESCRIPTION:Art Room
URL:https://www.lombardswimclub.com/event/afternoon-art/2026-07-29/
END:VEVENT
BEGIN:VEVENT
DTSTART;TZID=America/New_York:20260729T180000
DTEND;TZID=America/New_York:20260729T190000
DTSTAMP:20260425T103107
CREATED:20250531T175042Z
LAST-MODIFIED:20250531T175042Z
UID:5348-1785348000-1785351600@www.lombardswimclub.com
SUMMARY:Evening Aquacize
DESCRIPTION:Pool.
URL:https://www.lombardswimclub.com/event/evening-aquacize-2/2026-07-29/
END:VEVENT
BEGIN:VEVENT
DTSTART;TZID=America/New_York:20260730T070000
DTEND;TZID=America/New_York:20260730T090000
DTSTAMP:20260425T103107
CREATED:20240528T162847Z
LAST-MODIFIED:20240528T162847Z
UID:5531-1785394800-1785402000@www.lombardswimclub.com
SUMMARY:Lap Clinic
DESCRIPTION:Pool.
URL:https://www.lombardswimclub.com/event/lap-clinic/2026-07-30/
END:VEVENT
BEGIN:VEVENT
DTSTART;TZID=America/New_York:20260730T123000
DTEND;TZID=America/New_York:20260730T133000
DTSTAMP:20260425T103107
CREATED:20230518T184247Z
LAST-MODIFIED:20230518T184247Z
UID:5445-1785414600-1785418200@www.lombardswimclub.com
SUMMARY:Aquacize
DESCRIPTION:Pool.
URL:https://www.lombardswimclub.com/event/aquacize/2026-07-30/
END:VEVENT
BEGIN:VEVENT
DTSTART;TZID=America/New_York:20260730T190000
DTEND;TZID=America/New_York:20260730T200000
DTSTAMP:20260425T103107
CREATED:20230425T163659Z
LAST-MODIFIED:20230425T163659Z
UID:5184-1785438000-1785441600@www.lombardswimclub.com
SUMMARY:Game Night: Quizzo
DESCRIPTION:Upper Deck.
URL:https://www.lombardswimclub.com/event/game-night-quizzo-with-johnny-goodtimes/2026-07-30/
END:VEVENT
BEGIN:VEVENT
DTSTART;TZID=America/New_York:20260731T123000
DTEND;TZID=America/New_York:20260731T133000
DTSTAMP:20260425T103107
CREATED:20230518T184247Z
LAST-MODIFIED:20230518T184247Z
UID:5446-1785501000-1785504600@www.lombardswimclub.com
SUMMARY:Aquacize
DESCRIPTION:Pool.
URL:https://www.lombardswimclub.com/event/aquacize/2026-07-31/
END:VEVENT
BEGIN:VEVENT
DTSTART;TZID=America/New_York:20260731T190000
DTEND;TZID=America/New_York:20260731T203000
DTSTAMP:20260425T103107
CREATED:20250527T183028Z
LAST-MODIFIED:20250527T183028Z
UID:5233-1785524400-1785529800@www.lombardswimclub.com
SUMMARY:Movie-in-the-Game-Room
DESCRIPTION:Game Room.
URL:https://www.lombardswimclub.com/event/kids-movie-night/2026-07-31/
LOCATION:Game Room
END:VEVENT
BEGIN:VEVENT
DTSTART;TZID=America/New_York:20260801T123000
DTEND;TZID=America/New_York:20260801T133000
DTSTAMP:20260425T103107
CREATED:20230518T184247Z
LAST-MODIFIED:20230518T184247Z
UID:5447-1785587400-1785591000@www.lombardswimclub.com
SUMMARY:Aquacize
DESCRIPTION:Pool.
URL:https://www.lombardswimclub.com/event/aquacize/2026-08-01/
END:VEVENT
BEGIN:VEVENT
DTSTART;TZID=America/New_York:20260801T200000
DTEND;TZID=America/New_York:20260801T210000
DTSTAMP:20260425T103107
CREATED:20240308T142515Z
LAST-MODIFIED:20251030T175640Z
UID:2987-1785614400-1785618000@www.lombardswimclub.com
SUMMARY:Poolside Players Production
DESCRIPTION:Restaurant will close at 7:30pm for the 8pm performance.
URL:https://www.lombardswimclub.com/event/poolside-players-performance-3/
END:VEVENT
BEGIN:VEVENT
DTSTART;TZID=America/New_York:20260801T200000
DTEND;TZID=America/New_York:20260801T213000
DTSTAMP:20260425T103107
CREATED:20230622T162925Z
LAST-MODIFIED:20230622T162925Z
UID:5245-1785614400-1785619800@www.lombardswimclub.com
SUMMARY:Family Float Night
DESCRIPTION:Pool.
URL:https://www.lombardswimclub.com/event/family-float-night/2026-08-01/
END:VEVENT
BEGIN:VEVENT
DTSTART;TZID=America/New_York:20260802T123000
DTEND;TZID=America/New_York:20260802T133000
DTSTAMP:20260425T103107
CREATED:20230518T184247Z
LAST-MODIFIED:20230518T184247Z
UID:5448-1785673800-1785677400@www.lombardswimclub.com
SUMMARY:Aquacize
DESCRIPTION:Pool.
URL:https://www.lombardswimclub.com/event/aquacize/2026-08-02/
END:VEVENT
BEGIN:VEVENT
DTSTART;TZID=America/New_York:20260802T130000
DTEND;TZID=America/New_York:20260802T150000
DTSTAMP:20260425T103107
CREATED:20230622T170331Z
LAST-MODIFIED:20260326T202114Z
UID:2342-1785675600-1785682800@www.lombardswimclub.com
SUMMARY:Aquapalooza
DESCRIPTION:Sign up in advance at the Front Desk! \n\n30-Minute Swim-a-Thon – Must be a deep-water swimmer\nParent-Child Relay – Anyone\nSplash & Dash – Must be a deep-water swimmer\nCannonball Contest – Kids\nCannonball Contest – Adults\nIce cream at 3:00pm during Adult Swim
URL:https://www.lombardswimclub.com/event/aquapalooza/
END:VEVENT
BEGIN:VEVENT
DTSTART;TZID=America/New_York:20260802T150000
DTEND;TZID=America/New_York:20260802T153000
DTSTAMP:20260425T103107
CREATED:20230622T164720Z
LAST-MODIFIED:20230622T164720Z
UID:5216-1785682800-1785684600@www.lombardswimclub.com
SUMMARY:Adult Swim
DESCRIPTION:Pool.
URL:https://www.lombardswimclub.com/event/adult-swim-3/2026-08-02/
END:VEVENT
BEGIN:VEVENT
DTSTART;TZID=America/New_York:20260803T070000
DTEND;TZID=America/New_York:20260803T090000
DTSTAMP:20260425T103108
CREATED:20240528T162847Z
LAST-MODIFIED:20240528T162847Z
UID:5532-1785740400-1785747600@www.lombardswimclub.com
SUMMARY:Lap Clinic
DESCRIPTION:Pool.
URL:https://www.lombardswimclub.com/event/lap-clinic/2026-08-03/
END:VEVENT
END:VCALENDAR