BEGIN:VCALENDAR
VERSION:2.0
PRODID:-//Lombard Swim Club - ECPv6.11.2.1//NONSGML v1.0//EN
CALSCALE:GREGORIAN
METHOD:PUBLISH
X-ORIGINAL-URL:https://www.lombardswimclub.com
X-WR-CALDESC:Events for Lombard Swim Club
REFRESH-INTERVAL;VALUE=DURATION:PT1H
X-Robots-Tag:noindex
X-PUBLISHED-TTL:PT1H
BEGIN:VTIMEZONE
TZID:America/New_York
BEGIN:DAYLIGHT
TZOFFSETFROM:-0500
TZOFFSETTO:-0400
TZNAME:EDT
DTSTART:20260308T070000
END:DAYLIGHT
BEGIN:STANDARD
TZOFFSETFROM:-0400
TZOFFSETTO:-0500
TZNAME:EST
DTSTART:20261101T060000
END:STANDARD
END:VTIMEZONE
BEGIN:VEVENT
DTSTART;TZID=America/New_York:20260519T180000
DTEND;TZID=America/New_York:20260519T190000
DTSTAMP:20260425T103008
CREATED:20250531T175042Z
LAST-MODIFIED:20250531T175042Z
UID:5327-1779213600-1779217200@www.lombardswimclub.com
SUMMARY:Evening Aquacize
DESCRIPTION:Pool.
URL:https://www.lombardswimclub.com/event/evening-aquacize-2/2026-05-19/
END:VEVENT
BEGIN:VEVENT
DTSTART;TZID=America/New_York:20260520T123000
DTEND;TZID=America/New_York:20260520T133000
DTSTAMP:20260425T103008
CREATED:20230518T184247Z
LAST-MODIFIED:20230518T184247Z
UID:5375-1779280200-1779283800@www.lombardswimclub.com
SUMMARY:Aquacize
DESCRIPTION:Pool.
URL:https://www.lombardswimclub.com/event/aquacize/2026-05-20/
END:VEVENT
BEGIN:VEVENT
DTSTART;TZID=America/New_York:20260520T180000
DTEND;TZID=America/New_York:20260520T190000
DTSTAMP:20260425T103008
CREATED:20250531T175042Z
LAST-MODIFIED:20250531T175042Z
UID:5328-1779300000-1779303600@www.lombardswimclub.com
SUMMARY:Evening Aquacize
DESCRIPTION:Pool.
URL:https://www.lombardswimclub.com/event/evening-aquacize-2/2026-05-20/
END:VEVENT
BEGIN:VEVENT
DTSTART;TZID=America/New_York:20260521T123000
DTEND;TZID=America/New_York:20260521T133000
DTSTAMP:20260425T103008
CREATED:20230518T184247Z
LAST-MODIFIED:20230518T184247Z
UID:5376-1779366600-1779370200@www.lombardswimclub.com
SUMMARY:Aquacize
DESCRIPTION:Pool.
URL:https://www.lombardswimclub.com/event/aquacize/2026-05-21/
END:VEVENT
BEGIN:VEVENT
DTSTART;TZID=America/New_York:20260521T190000
DTEND;TZID=America/New_York:20260521T200000
DTSTAMP:20260425T103008
CREATED:20230623T175824Z
LAST-MODIFIED:20260330T193101Z
UID:2348-1779390000-1779393600@www.lombardswimclub.com
SUMMARY:Game Night: Bingo
DESCRIPTION:Upper Deck.
URL:https://www.lombardswimclub.com/event/game-night-bingo-6/2026-05-21/
END:VEVENT
BEGIN:VEVENT
DTSTART;TZID=America/New_York:20260522T123000
DTEND;TZID=America/New_York:20260522T133000
DTSTAMP:20260425T103008
CREATED:20230518T184247Z
LAST-MODIFIED:20230518T184247Z
UID:5377-1779453000-1779456600@www.lombardswimclub.com
SUMMARY:Aquacize
DESCRIPTION:Pool.
URL:https://www.lombardswimclub.com/event/aquacize/2026-05-22/
END:VEVENT
BEGIN:VEVENT
DTSTART;TZID=America/New_York:20260523T123000
DTEND;TZID=America/New_York:20260523T133000
DTSTAMP:20260425T103008
CREATED:20230518T184247Z
LAST-MODIFIED:20230518T184247Z
UID:5378-1779539400-1779543000@www.lombardswimclub.com
SUMMARY:Aquacize
DESCRIPTION:Pool.
URL:https://www.lombardswimclub.com/event/aquacize/2026-05-23/
END:VEVENT
BEGIN:VEVENT
DTSTART;TZID=America/New_York:20260524T123000
DTEND;TZID=America/New_York:20260524T133000
DTSTAMP:20260425T103008
CREATED:20230518T184247Z
LAST-MODIFIED:20230518T184247Z
UID:5379-1779625800-1779629400@www.lombardswimclub.com
SUMMARY:Aquacize
DESCRIPTION:Pool.
URL:https://www.lombardswimclub.com/event/aquacize/2026-05-24/
END:VEVENT
BEGIN:VEVENT
DTSTART;TZID=America/New_York:20260525T123000
DTEND;TZID=America/New_York:20260525T133000
DTSTAMP:20260425T103008
CREATED:20230518T184247Z
LAST-MODIFIED:20230518T184247Z
UID:5380-1779712200-1779715800@www.lombardswimclub.com
SUMMARY:Aquacize
DESCRIPTION:Pool.
URL:https://www.lombardswimclub.com/event/aquacize/2026-05-25/
END:VEVENT
BEGIN:VEVENT
DTSTART;TZID=America/New_York:20260526T073000
DTEND;TZID=America/New_York:20260526T083000
DTSTAMP:20260425T103008
CREATED:20230518T184714Z
LAST-MODIFIED:20260424T160226Z
UID:1946-1779780600-1779784200@www.lombardswimclub.com
SUMMARY:Yoga
DESCRIPTION:Baby Pool.
URL:https://www.lombardswimclub.com/event/yoga-2/2026-05-26/
END:VEVENT
BEGIN:VEVENT
DTSTART;TZID=America/New_York:20260526T123000
DTEND;TZID=America/New_York:20260526T133000
DTSTAMP:20260425T103008
CREATED:20230518T184247Z
LAST-MODIFIED:20230518T184247Z
UID:5381-1779798600-1779802200@www.lombardswimclub.com
SUMMARY:Aquacize
DESCRIPTION:Pool.
URL:https://www.lombardswimclub.com/event/aquacize/2026-05-26/
END:VEVENT
BEGIN:VEVENT
DTSTART;TZID=America/New_York:20260526T180000
DTEND;TZID=America/New_York:20260526T190000
DTSTAMP:20260425T103008
CREATED:20250531T175042Z
LAST-MODIFIED:20250531T175042Z
UID:5329-1779818400-1779822000@www.lombardswimclub.com
SUMMARY:Evening Aquacize
DESCRIPTION:Pool.
URL:https://www.lombardswimclub.com/event/evening-aquacize-2/2026-05-26/
END:VEVENT
BEGIN:VEVENT
DTSTART;TZID=America/New_York:20260527T123000
DTEND;TZID=America/New_York:20260527T133000
DTSTAMP:20260425T103008
CREATED:20230518T184247Z
LAST-MODIFIED:20230518T184247Z
UID:5382-1779885000-1779888600@www.lombardswimclub.com
SUMMARY:Aquacize
DESCRIPTION:Pool.
URL:https://www.lombardswimclub.com/event/aquacize/2026-05-27/
END:VEVENT
BEGIN:VEVENT
DTSTART;TZID=America/New_York:20260527T180000
DTEND;TZID=America/New_York:20260527T190000
DTSTAMP:20260425T103008
CREATED:20250531T175042Z
LAST-MODIFIED:20250531T175042Z
UID:5330-1779904800-1779908400@www.lombardswimclub.com
SUMMARY:Evening Aquacize
DESCRIPTION:Pool.
URL:https://www.lombardswimclub.com/event/evening-aquacize-2/2026-05-27/
END:VEVENT
BEGIN:VEVENT
DTSTART;TZID=America/New_York:20260528T123000
DTEND;TZID=America/New_York:20260528T133000
DTSTAMP:20260425T103008
CREATED:20230518T184247Z
LAST-MODIFIED:20230518T184247Z
UID:5383-1779971400-1779975000@www.lombardswimclub.com
SUMMARY:Aquacize
DESCRIPTION:Pool.
URL:https://www.lombardswimclub.com/event/aquacize/2026-05-28/
END:VEVENT
BEGIN:VEVENT
DTSTART;TZID=America/New_York:20260528T190000
DTEND;TZID=America/New_York:20260528T200000
DTSTAMP:20260425T103008
CREATED:20230425T163659Z
LAST-MODIFIED:20230425T163659Z
UID:5180-1779994800-1779998400@www.lombardswimclub.com
SUMMARY:Game Night: Quizzo
DESCRIPTION:Upper Deck.
URL:https://www.lombardswimclub.com/event/game-night-quizzo-with-johnny-goodtimes/2026-05-28/
END:VEVENT
BEGIN:VEVENT
DTSTART;TZID=America/New_York:20260529T123000
DTEND;TZID=America/New_York:20260529T133000
DTSTAMP:20260425T103008
CREATED:20230518T184247Z
LAST-MODIFIED:20230518T184247Z
UID:5384-1780057800-1780061400@www.lombardswimclub.com
SUMMARY:Aquacize
DESCRIPTION:Pool.
URL:https://www.lombardswimclub.com/event/aquacize/2026-05-29/
END:VEVENT
BEGIN:VEVENT
DTSTART;TZID=America/New_York:20260530T123000
DTEND;TZID=America/New_York:20260530T133000
DTSTAMP:20260425T103008
CREATED:20230518T184247Z
LAST-MODIFIED:20230518T184247Z
UID:5385-1780144200-1780147800@www.lombardswimclub.com
SUMMARY:Aquacize
DESCRIPTION:Pool.
URL:https://www.lombardswimclub.com/event/aquacize/2026-05-30/
END:VEVENT
BEGIN:VEVENT
DTSTART;TZID=America/New_York:20260531T123000
DTEND;TZID=America/New_York:20260531T133000
DTSTAMP:20260425T103008
CREATED:20230518T184247Z
LAST-MODIFIED:20230518T184247Z
UID:5386-1780230600-1780234200@www.lombardswimclub.com
SUMMARY:Aquacize
DESCRIPTION:Pool.
URL:https://www.lombardswimclub.com/event/aquacize/2026-05-31/
END:VEVENT
BEGIN:VEVENT
DTSTART;TZID=America/New_York:20260531T150000
DTEND;TZID=America/New_York:20260531T160000
DTSTAMP:20260425T103008
CREATED:20230523T173808Z
LAST-MODIFIED:20260327T182025Z
UID:2220-1780239600-1780243200@www.lombardswimclub.com
SUMMARY:Sunday Funday: Family Bingo
DESCRIPTION:Restaurant
URL:https://www.lombardswimclub.com/event/family-bingo-6/2026-05-31/
END:VEVENT
BEGIN:VEVENT
DTSTART;TZID=America/New_York:20260601T123000
DTEND;TZID=America/New_York:20260601T133000
DTSTAMP:20260425T103008
CREATED:20230518T184247Z
LAST-MODIFIED:20230518T184247Z
UID:5387-1780317000-1780320600@www.lombardswimclub.com
SUMMARY:Aquacize
DESCRIPTION:Pool.
URL:https://www.lombardswimclub.com/event/aquacize/2026-06-01/
END:VEVENT
BEGIN:VEVENT
DTSTART;TZID=America/New_York:20260602T123000
DTEND;TZID=America/New_York:20260602T133000
DTSTAMP:20260425T103008
CREATED:20230518T184247Z
LAST-MODIFIED:20230518T184247Z
UID:5388-1780403400-1780407000@www.lombardswimclub.com
SUMMARY:Aquacize
DESCRIPTION:Pool.
URL:https://www.lombardswimclub.com/event/aquacize/2026-06-02/
END:VEVENT
BEGIN:VEVENT
DTSTART;TZID=America/New_York:20260602T180000
DTEND;TZID=America/New_York:20260602T190000
DTSTAMP:20260425T103008
CREATED:20250531T175042Z
LAST-MODIFIED:20250531T175042Z
UID:5331-1780423200-1780426800@www.lombardswimclub.com
SUMMARY:Evening Aquacize
DESCRIPTION:Pool.
URL:https://www.lombardswimclub.com/event/evening-aquacize-2/2026-06-02/
END:VEVENT
BEGIN:VEVENT
DTSTART;TZID=America/New_York:20260603T123000
DTEND;TZID=America/New_York:20260603T133000
DTSTAMP:20260425T103008
CREATED:20230518T184247Z
LAST-MODIFIED:20230518T184247Z
UID:5389-1780489800-1780493400@www.lombardswimclub.com
SUMMARY:Aquacize
DESCRIPTION:Pool.
URL:https://www.lombardswimclub.com/event/aquacize/2026-06-03/
END:VEVENT
BEGIN:VEVENT
DTSTART;TZID=America/New_York:20260603T180000
DTEND;TZID=America/New_York:20260603T190000
DTSTAMP:20260425T103008
CREATED:20250531T175042Z
LAST-MODIFIED:20250531T175042Z
UID:5332-1780509600-1780513200@www.lombardswimclub.com
SUMMARY:Evening Aquacize
DESCRIPTION:Pool.
URL:https://www.lombardswimclub.com/event/evening-aquacize-2/2026-06-03/
END:VEVENT
BEGIN:VEVENT
DTSTART;TZID=America/New_York:20260604T123000
DTEND;TZID=America/New_York:20260604T133000
DTSTAMP:20260425T103008
CREATED:20230518T184247Z
LAST-MODIFIED:20230518T184247Z
UID:5390-1780576200-1780579800@www.lombardswimclub.com
SUMMARY:Aquacize
DESCRIPTION:Pool.
URL:https://www.lombardswimclub.com/event/aquacize/2026-06-04/
END:VEVENT
BEGIN:VEVENT
DTSTART;TZID=America/New_York:20260604T190000
DTEND;TZID=America/New_York:20260604T200000
DTSTAMP:20260425T103008
CREATED:20230623T175824Z
LAST-MODIFIED:20230623T175824Z
UID:5193-1780599600-1780603200@www.lombardswimclub.com
SUMMARY:Game Night: Bingo
DESCRIPTION:Upper Deck.
URL:https://www.lombardswimclub.com/event/game-night-bingo-6/2026-06-04/
END:VEVENT
BEGIN:VEVENT
DTSTART;TZID=America/New_York:20260605T123000
DTEND;TZID=America/New_York:20260605T133000
DTSTAMP:20260425T103008
CREATED:20230518T184247Z
LAST-MODIFIED:20230518T184247Z
UID:5391-1780662600-1780666200@www.lombardswimclub.com
SUMMARY:Aquacize
DESCRIPTION:Pool.
URL:https://www.lombardswimclub.com/event/aquacize/2026-06-05/
END:VEVENT
BEGIN:VEVENT
DTSTART;TZID=America/New_York:20260605T190000
DTEND;TZID=America/New_York:20260605T203000
DTSTAMP:20260425T103008
CREATED:20250527T183028Z
LAST-MODIFIED:20260330T194728Z
UID:4552-1780686000-1780691400@www.lombardswimclub.com
SUMMARY:Movie-in-the-Game-Room
DESCRIPTION:Game Room.
URL:https://www.lombardswimclub.com/event/kids-movie-night/2026-06-05/
LOCATION:Game Room
END:VEVENT
BEGIN:VEVENT
DTSTART;TZID=America/New_York:20260606T123000
DTEND;TZID=America/New_York:20260606T133000
DTSTAMP:20260425T103008
CREATED:20230518T184247Z
LAST-MODIFIED:20230518T184247Z
UID:5392-1780749000-1780752600@www.lombardswimclub.com
SUMMARY:Aquacize
DESCRIPTION:Pool.
URL:https://www.lombardswimclub.com/event/aquacize/2026-06-06/
END:VEVENT
END:VCALENDAR