BEGIN:VCALENDAR
VERSION:2.0
PRODID:-//Lombard Swim Club - ECPv6.11.2.1//NONSGML v1.0//EN
CALSCALE:GREGORIAN
METHOD:PUBLISH
X-WR-CALNAME:Lombard Swim Club
X-ORIGINAL-URL:https://www.lombardswimclub.com
X-WR-CALDESC:Events for Lombard Swim Club
REFRESH-INTERVAL;VALUE=DURATION:PT1H
X-Robots-Tag:noindex
X-PUBLISHED-TTL:PT1H
BEGIN:VTIMEZONE
TZID:America/New_York
BEGIN:DAYLIGHT
TZOFFSETFROM:-0500
TZOFFSETTO:-0400
TZNAME:EDT
DTSTART:20260308T070000
END:DAYLIGHT
BEGIN:STANDARD
TZOFFSETFROM:-0400
TZOFFSETTO:-0500
TZNAME:EST
DTSTART:20261101T060000
END:STANDARD
END:VTIMEZONE
BEGIN:VEVENT
DTSTART;TZID=America/New_York:20260720T163000
DTEND;TZID=America/New_York:20260720T180000
DTSTAMP:20260425T081021
CREATED:20230425T171414Z
LAST-MODIFIED:20230425T171414Z
UID:4966-1784565000-1784570400@www.lombardswimclub.com
SUMMARY:Poolside Players
DESCRIPTION:Game Room
URL:https://www.lombardswimclub.com/event/poolside-players-3/2026-07-20/
END:VEVENT
BEGIN:VEVENT
DTSTART;TZID=America/New_York:20260720T183000
DTEND;TZID=America/New_York:20260720T193000
DTSTAMP:20260425T081021
CREATED:20230621T165308Z
LAST-MODIFIED:20260330T195417Z
UID:2277-1784572200-1784575800@www.lombardswimclub.com
SUMMARY:Coffee & Conversation: Nydia Han
DESCRIPTION:The Changing Landscape of Journalism: A Day in the Life of a TV News Reporter.\n\nUpper Deck.
URL:https://www.lombardswimclub.com/event/coffee-conversation-6/
END:VEVENT
BEGIN:VEVENT
DTSTART;TZID=America/New_York:20260721T070000
DTEND;TZID=America/New_York:20260721T090000
DTSTAMP:20260425T081021
CREATED:20240528T162847Z
LAST-MODIFIED:20240528T162847Z
UID:5525-1784617200-1784624400@www.lombardswimclub.com
SUMMARY:Lap Clinic
DESCRIPTION:Pool.
URL:https://www.lombardswimclub.com/event/lap-clinic/2026-07-21/
END:VEVENT
BEGIN:VEVENT
DTSTART;TZID=America/New_York:20260721T100000
DTEND;TZID=America/New_York:20260721T114500
DTSTAMP:20260425T081021
CREATED:20230425T173833Z
LAST-MODIFIED:20230425T173833Z
UID:5017-1784628000-1784634300@www.lombardswimclub.com
SUMMARY:Morning Strokes for Little Folks
DESCRIPTION:Pool Deck & Art Room
URL:https://www.lombardswimclub.com/event/morning-strokes-for-little-folks/2026-07-21/
END:VEVENT
BEGIN:VEVENT
DTSTART;TZID=America/New_York:20260721T123000
DTEND;TZID=America/New_York:20260721T133000
DTSTAMP:20260425T081021
CREATED:20230518T184247Z
LAST-MODIFIED:20230518T184247Z
UID:5436-1784637000-1784640600@www.lombardswimclub.com
SUMMARY:Aquacize
DESCRIPTION:Pool.
URL:https://www.lombardswimclub.com/event/aquacize/2026-07-21/
END:VEVENT
BEGIN:VEVENT
DTSTART;TZID=America/New_York:20260721T173000
DTEND;TZID=America/New_York:20260721T183000
DTSTAMP:20260425T081021
CREATED:20230425T171648Z
LAST-MODIFIED:20230425T171648Z
UID:5172-1784655000-1784658600@www.lombardswimclub.com
SUMMARY:Junior Lifeguard
DESCRIPTION:Pool Deck
URL:https://www.lombardswimclub.com/event/intro-to-swim-team/2026-07-21/
END:VEVENT
BEGIN:VEVENT
DTSTART;TZID=America/New_York:20260721T180000
DTEND;TZID=America/New_York:20260721T190000
DTSTAMP:20260425T081021
CREATED:20250531T175042Z
LAST-MODIFIED:20250531T175042Z
UID:5345-1784656800-1784660400@www.lombardswimclub.com
SUMMARY:Evening Aquacize
DESCRIPTION:Pool.
URL:https://www.lombardswimclub.com/event/evening-aquacize-2/2026-07-21/
END:VEVENT
BEGIN:VEVENT
DTSTART;TZID=America/New_York:20260722T070000
DTEND;TZID=America/New_York:20260722T090000
DTSTAMP:20260425T081021
CREATED:20240528T162847Z
LAST-MODIFIED:20240528T162847Z
UID:5526-1784703600-1784710800@www.lombardswimclub.com
SUMMARY:Lap Clinic
DESCRIPTION:Pool.
URL:https://www.lombardswimclub.com/event/lap-clinic/2026-07-22/
END:VEVENT
BEGIN:VEVENT
DTSTART;TZID=America/New_York:20260722T123000
DTEND;TZID=America/New_York:20260722T133000
DTSTAMP:20260425T081021
CREATED:20230518T184247Z
LAST-MODIFIED:20230518T184247Z
UID:5437-1784723400-1784727000@www.lombardswimclub.com
SUMMARY:Aquacize
DESCRIPTION:Pool.
URL:https://www.lombardswimclub.com/event/aquacize/2026-07-22/
END:VEVENT
BEGIN:VEVENT
DTSTART;TZID=America/New_York:20260722T163000
DTEND;TZID=America/New_York:20260722T180000
DTSTAMP:20260425T081021
CREATED:20230425T171414Z
LAST-MODIFIED:20230425T171414Z
UID:4967-1784737800-1784743200@www.lombardswimclub.com
SUMMARY:Poolside Players
DESCRIPTION:Game Room
URL:https://www.lombardswimclub.com/event/poolside-players-3/2026-07-22/
END:VEVENT
BEGIN:VEVENT
DTSTART;TZID=America/New_York:20260722T170000
DTEND;TZID=America/New_York:20260722T180000
DTSTAMP:20260425T081021
CREATED:20230425T173945Z
LAST-MODIFIED:20230425T173945Z
UID:5269-1784739600-1784743200@www.lombardswimclub.com
SUMMARY:Afternoon Art (7+ yo)
DESCRIPTION:Art Room
URL:https://www.lombardswimclub.com/event/afternoon-art/2026-07-22/
END:VEVENT
BEGIN:VEVENT
DTSTART;TZID=America/New_York:20260722T180000
DTEND;TZID=America/New_York:20260722T190000
DTSTAMP:20260425T081021
CREATED:20250531T175042Z
LAST-MODIFIED:20250531T175042Z
UID:5346-1784743200-1784746800@www.lombardswimclub.com
SUMMARY:Evening Aquacize
DESCRIPTION:Pool.
URL:https://www.lombardswimclub.com/event/evening-aquacize-2/2026-07-22/
END:VEVENT
BEGIN:VEVENT
DTSTART;TZID=America/New_York:20260723T070000
DTEND;TZID=America/New_York:20260723T090000
DTSTAMP:20260425T081021
CREATED:20240528T162847Z
LAST-MODIFIED:20240528T162847Z
UID:5527-1784790000-1784797200@www.lombardswimclub.com
SUMMARY:Lap Clinic
DESCRIPTION:Pool.
URL:https://www.lombardswimclub.com/event/lap-clinic/2026-07-23/
END:VEVENT
BEGIN:VEVENT
DTSTART;TZID=America/New_York:20260723T123000
DTEND;TZID=America/New_York:20260723T133000
DTSTAMP:20260425T081021
CREATED:20230518T184247Z
LAST-MODIFIED:20230518T184247Z
UID:5438-1784809800-1784813400@www.lombardswimclub.com
SUMMARY:Aquacize
DESCRIPTION:Pool.
URL:https://www.lombardswimclub.com/event/aquacize/2026-07-23/
END:VEVENT
BEGIN:VEVENT
DTSTART;TZID=America/New_York:20260723T190000
DTEND;TZID=America/New_York:20260723T200000
DTSTAMP:20260425T081021
CREATED:20230623T175824Z
LAST-MODIFIED:20230623T175824Z
UID:5196-1784833200-1784836800@www.lombardswimclub.com
SUMMARY:Game Night: Bingo
DESCRIPTION:Upper Deck.
URL:https://www.lombardswimclub.com/event/game-night-bingo-6/2026-07-23/
END:VEVENT
BEGIN:VEVENT
DTSTART;TZID=America/New_York:20260724T123000
DTEND;TZID=America/New_York:20260724T133000
DTSTAMP:20260425T081021
CREATED:20230518T184247Z
LAST-MODIFIED:20230518T184247Z
UID:5439-1784896200-1784899800@www.lombardswimclub.com
SUMMARY:Aquacize
DESCRIPTION:Pool.
URL:https://www.lombardswimclub.com/event/aquacize/2026-07-24/
END:VEVENT
BEGIN:VEVENT
DTSTART;TZID=America/New_York:20260724T190000
DTEND;TZID=America/New_York:20260724T190000
DTSTAMP:20260425T081021
CREATED:20240402T162414Z
LAST-MODIFIED:20260330T194939Z
UID:3031-1784919600-1784919600@www.lombardswimclub.com
SUMMARY:Adult Dance Party
DESCRIPTION:Upper Deck.
URL:https://www.lombardswimclub.com/event/adult-dance-party/
END:VEVENT
BEGIN:VEVENT
DTSTART;TZID=America/New_York:20260724T190000
DTEND;TZID=America/New_York:20260724T203000
DTSTAMP:20260425T081021
CREATED:20250527T183028Z
LAST-MODIFIED:20250527T183028Z
UID:5232-1784919600-1784925000@www.lombardswimclub.com
SUMMARY:Movie-in-the-Game-Room
DESCRIPTION:Game Room.
URL:https://www.lombardswimclub.com/event/kids-movie-night/2026-07-24/
LOCATION:Game Room
END:VEVENT
BEGIN:VEVENT
DTSTART;TZID=America/New_York:20260725T123000
DTEND;TZID=America/New_York:20260725T133000
DTSTAMP:20260425T081021
CREATED:20230518T184247Z
LAST-MODIFIED:20230518T184247Z
UID:5440-1784982600-1784986200@www.lombardswimclub.com
SUMMARY:Aquacize
DESCRIPTION:Pool.
URL:https://www.lombardswimclub.com/event/aquacize/2026-07-25/
END:VEVENT
BEGIN:VEVENT
DTSTART;TZID=America/New_York:20260725T200000
DTEND;TZID=America/New_York:20260725T213000
DTSTAMP:20260425T081021
CREATED:20230622T162925Z
LAST-MODIFIED:20230622T162925Z
UID:5244-1785009600-1785015000@www.lombardswimclub.com
SUMMARY:Family Float Night
DESCRIPTION:Pool.
URL:https://www.lombardswimclub.com/event/family-float-night/2026-07-25/
END:VEVENT
BEGIN:VEVENT
DTSTART;TZID=America/New_York:20260726T123000
DTEND;TZID=America/New_York:20260726T133000
DTSTAMP:20260425T081021
CREATED:20230518T184247Z
LAST-MODIFIED:20230518T184247Z
UID:5441-1785069000-1785072600@www.lombardswimclub.com
SUMMARY:Aquacize
DESCRIPTION:Pool.
URL:https://www.lombardswimclub.com/event/aquacize/2026-07-26/
END:VEVENT
BEGIN:VEVENT
DTSTART;TZID=America/New_York:20260726T140000
DTEND;TZID=America/New_York:20260726T150000
DTSTAMP:20260425T081021
CREATED:20230622T165116Z
LAST-MODIFIED:20230622T165116Z
UID:5028-1785074400-1785078000@www.lombardswimclub.com
SUMMARY:Afternoon Art (5+ yo)
DESCRIPTION:Art Room
URL:https://www.lombardswimclub.com/event/afternoon-art-5-yo/2026-07-26/
END:VEVENT
BEGIN:VEVENT
DTSTART;TZID=America/New_York:20260726T150000
DTEND;TZID=America/New_York:20260726T153000
DTSTAMP:20260425T081021
CREATED:20230622T164720Z
LAST-MODIFIED:20230622T164720Z
UID:5215-1785078000-1785079800@www.lombardswimclub.com
SUMMARY:Adult Swim
DESCRIPTION:Pool.
URL:https://www.lombardswimclub.com/event/adult-swim-3/2026-07-26/
END:VEVENT
BEGIN:VEVENT
DTSTART;TZID=America/New_York:20260727T070000
DTEND;TZID=America/New_York:20260727T090000
DTSTAMP:20260425T081021
CREATED:20240528T162847Z
LAST-MODIFIED:20240528T162847Z
UID:5528-1785135600-1785142800@www.lombardswimclub.com
SUMMARY:Lap Clinic
DESCRIPTION:Pool.
URL:https://www.lombardswimclub.com/event/lap-clinic/2026-07-27/
END:VEVENT
BEGIN:VEVENT
DTSTART;TZID=America/New_York:20260727T123000
DTEND;TZID=America/New_York:20260727T133000
DTSTAMP:20260425T081021
CREATED:20230518T184247Z
LAST-MODIFIED:20230518T184247Z
UID:5442-1785155400-1785159000@www.lombardswimclub.com
SUMMARY:Aquacize
DESCRIPTION:Pool.
URL:https://www.lombardswimclub.com/event/aquacize/2026-07-27/
END:VEVENT
BEGIN:VEVENT
DTSTART;TZID=America/New_York:20260727T163000
DTEND;TZID=America/New_York:20260727T180000
DTSTAMP:20260425T081021
CREATED:20230425T171414Z
LAST-MODIFIED:20230425T171414Z
UID:4968-1785169800-1785175200@www.lombardswimclub.com
SUMMARY:Poolside Players
DESCRIPTION:Game Room
URL:https://www.lombardswimclub.com/event/poolside-players-3/2026-07-27/
END:VEVENT
BEGIN:VEVENT
DTSTART;TZID=America/New_York:20260728T070000
DTEND;TZID=America/New_York:20260728T090000
DTSTAMP:20260425T081021
CREATED:20240528T162847Z
LAST-MODIFIED:20240528T162847Z
UID:5529-1785222000-1785229200@www.lombardswimclub.com
SUMMARY:Lap Clinic
DESCRIPTION:Pool.
URL:https://www.lombardswimclub.com/event/lap-clinic/2026-07-28/
END:VEVENT
BEGIN:VEVENT
DTSTART;TZID=America/New_York:20260728T123000
DTEND;TZID=America/New_York:20260728T133000
DTSTAMP:20260425T081021
CREATED:20230518T184247Z
LAST-MODIFIED:20230518T184247Z
UID:5443-1785241800-1785245400@www.lombardswimclub.com
SUMMARY:Aquacize
DESCRIPTION:Pool.
URL:https://www.lombardswimclub.com/event/aquacize/2026-07-28/
END:VEVENT
BEGIN:VEVENT
DTSTART;TZID=America/New_York:20260728T173000
DTEND;TZID=America/New_York:20260728T183000
DTSTAMP:20260425T081021
CREATED:20230425T171648Z
LAST-MODIFIED:20230425T171648Z
UID:5173-1785259800-1785263400@www.lombardswimclub.com
SUMMARY:Junior Lifeguard
DESCRIPTION:Pool Deck
URL:https://www.lombardswimclub.com/event/intro-to-swim-team/2026-07-28/
END:VEVENT
BEGIN:VEVENT
DTSTART;TZID=America/New_York:20260728T180000
DTEND;TZID=America/New_York:20260728T190000
DTSTAMP:20260425T081021
CREATED:20250531T175042Z
LAST-MODIFIED:20250531T175042Z
UID:5347-1785261600-1785265200@www.lombardswimclub.com
SUMMARY:Evening Aquacize
DESCRIPTION:Pool.
URL:https://www.lombardswimclub.com/event/evening-aquacize-2/2026-07-28/
END:VEVENT
END:VCALENDAR