BEGIN:VCALENDAR
VERSION:2.0
PRODID:-//Lombard Swim Club - ECPv6.11.2.1//NONSGML v1.0//EN
CALSCALE:GREGORIAN
METHOD:PUBLISH
X-WR-CALNAME:Lombard Swim Club
X-ORIGINAL-URL:https://www.lombardswimclub.com
X-WR-CALDESC:Events for Lombard Swim Club
REFRESH-INTERVAL;VALUE=DURATION:PT1H
X-Robots-Tag:noindex
X-PUBLISHED-TTL:PT1H
BEGIN:VTIMEZONE
TZID:America/New_York
BEGIN:DAYLIGHT
TZOFFSETFROM:-0500
TZOFFSETTO:-0400
TZNAME:EDT
DTSTART:20260308T070000
END:DAYLIGHT
BEGIN:STANDARD
TZOFFSETFROM:-0400
TZOFFSETTO:-0500
TZNAME:EST
DTSTART:20261101T060000
END:STANDARD
END:VTIMEZONE
BEGIN:VEVENT
DTSTART;TZID=America/New_York:20260612T190000
DTEND;TZID=America/New_York:20260612T203000
DTSTAMP:20260420T023614
CREATED:20250527T183028Z
LAST-MODIFIED:20250527T183028Z
UID:5225-1781290800-1781296200@www.lombardswimclub.com
SUMMARY:Movie-in-the-Game-Room
DESCRIPTION:Game Room.
URL:https://www.lombardswimclub.com/event/kids-movie-night/2026-06-12/
LOCATION:Game Room
END:VEVENT
BEGIN:VEVENT
DTSTART;TZID=America/New_York:20260612T190000
DTEND;TZID=America/New_York:20260612T210000
DTSTAMP:20260420T023614
CREATED:20230425T162310Z
LAST-MODIFIED:20260330T193527Z
UID:1636-1781290800-1781298000@www.lombardswimclub.com
SUMMARY:Friday Night Live: Bethlehem and Sad Patrick
DESCRIPTION:Upper Deck.
URL:https://www.lombardswimclub.com/event/friday-night-live-bethlehem-and-sad-patrick/
END:VEVENT
BEGIN:VEVENT
DTSTART;TZID=America/New_York:20260613T200000
DTEND;TZID=America/New_York:20260613T213000
DTSTAMP:20260420T023614
CREATED:20230622T162925Z
LAST-MODIFIED:20230622T162925Z
UID:5238-1781380800-1781386200@www.lombardswimclub.com
SUMMARY:Family Float Night
DESCRIPTION:Pool.
URL:https://www.lombardswimclub.com/event/family-float-night/2026-06-13/
END:VEVENT
BEGIN:VEVENT
DTSTART;TZID=America/New_York:20260614T150000
DTEND;TZID=America/New_York:20260614T153000
DTSTAMP:20260420T023614
CREATED:20230622T164720Z
LAST-MODIFIED:20230622T164720Z
UID:5209-1781449200-1781451000@www.lombardswimclub.com
SUMMARY:Adult Swim
DESCRIPTION:Pool.
URL:https://www.lombardswimclub.com/event/adult-swim-3/2026-06-14/
END:VEVENT
BEGIN:VEVENT
DTSTART;TZID=America/New_York:20260615T193000
DTEND;TZID=America/New_York:20260615T203000
DTSTAMP:20260420T023614
CREATED:20250604T182730Z
LAST-MODIFIED:20260330T192051Z
UID:4719-1781551800-1781555400@www.lombardswimclub.com
SUMMARY:Tween/Teen Trivia
DESCRIPTION:MUST BE 10 YEARS OR OLDER \nArt Room
URL:https://www.lombardswimclub.com/event/tween-teen-trivia/2026-06-15/
END:VEVENT
BEGIN:VEVENT
DTSTART;TZID=America/New_York:20260618T190000
DTEND;TZID=America/New_York:20260618T200000
DTSTAMP:20260420T023614
CREATED:20230425T170708Z
LAST-MODIFIED:20260330T192834Z
UID:1700-1781809200-1781812800@www.lombardswimclub.com
SUMMARY:Game Night: Trivia by Table
DESCRIPTION:Upper Deck.
URL:https://www.lombardswimclub.com/event/game-night-trivia-by-table/2026-06-18/
END:VEVENT
BEGIN:VEVENT
DTSTART;TZID=America/New_York:20260619T190000
DTEND;TZID=America/New_York:20260619T203000
DTSTAMP:20260420T023614
CREATED:20250527T183028Z
LAST-MODIFIED:20250527T183028Z
UID:5226-1781895600-1781901000@www.lombardswimclub.com
SUMMARY:Movie-in-the-Game-Room
DESCRIPTION:Game Room.
URL:https://www.lombardswimclub.com/event/kids-movie-night/2026-06-19/
LOCATION:Game Room
END:VEVENT
BEGIN:VEVENT
DTSTART;TZID=America/New_York:20260620T093000
DTEND;TZID=America/New_York:20260620T113000
DTSTAMP:20260420T023614
CREATED:20230425T170045Z
LAST-MODIFIED:20260330T195656Z
UID:1688-1781947800-1781955000@www.lombardswimclub.com
SUMMARY:Mister John's Music
DESCRIPTION:Two Sessions: 9:30am and 10:30am. \nBaby Pool.
URL:https://www.lombardswimclub.com/event/mister-johns-music-2/
END:VEVENT
BEGIN:VEVENT
DTSTART;TZID=America/New_York:20260620T200000
DTEND;TZID=America/New_York:20260620T213000
DTSTAMP:20260420T023614
CREATED:20230622T162925Z
LAST-MODIFIED:20230622T162925Z
UID:5239-1781985600-1781991000@www.lombardswimclub.com
SUMMARY:Family Float Night
DESCRIPTION:Pool.
URL:https://www.lombardswimclub.com/event/family-float-night/2026-06-20/
END:VEVENT
BEGIN:VEVENT
DTSTART;TZID=America/New_York:20260621T150000
DTEND;TZID=America/New_York:20260621T153000
DTSTAMP:20260420T023614
CREATED:20230622T164720Z
LAST-MODIFIED:20230622T164720Z
UID:5210-1782054000-1782055800@www.lombardswimclub.com
SUMMARY:Adult Swim
DESCRIPTION:Pool.
URL:https://www.lombardswimclub.com/event/adult-swim-3/2026-06-21/
END:VEVENT
BEGIN:VEVENT
DTSTART;TZID=America/New_York:20260621T150000
DTEND;TZID=America/New_York:20260621T160000
DTSTAMP:20260420T023614
CREATED:20250527T175655Z
LAST-MODIFIED:20260327T181125Z
UID:4520-1782054000-1782057600@www.lombardswimclub.com
SUMMARY:Sunday Funday: Tie-Dye
DESCRIPTION:Restaurant
URL:https://www.lombardswimclub.com/event/sunday-funday-tie-dye/
END:VEVENT
BEGIN:VEVENT
DTSTART;VALUE=DATE:20260622
DTEND;VALUE=DATE:20260623
DTSTAMP:20260420T023614
CREATED:20241121T180006Z
LAST-MODIFIED:20251030T173402Z
UID:3980-1782086400-1782172799@www.lombardswimclub.com
SUMMARY:Kid's Programming commences
DESCRIPTION:
URL:https://www.lombardswimclub.com/event/kids-programming-commences/
END:VEVENT
BEGIN:VEVENT
DTSTART;TZID=America/New_York:20260622T100000
DTEND;TZID=America/New_York:20260622T114500
DTSTAMP:20260420T023614
CREATED:20230425T173833Z
LAST-MODIFIED:20251030T173715Z
UID:1744-1782122400-1782128700@www.lombardswimclub.com
SUMMARY:Morning Strokes for Little Folks
DESCRIPTION:Pool Deck & Art Room
URL:https://www.lombardswimclub.com/event/morning-strokes-for-little-folks/2026-06-22/
END:VEVENT
BEGIN:VEVENT
DTSTART;TZID=America/New_York:20260622T140000
DTEND;TZID=America/New_York:20260622T150000
DTSTAMP:20260420T023614
CREATED:20230622T165116Z
LAST-MODIFIED:20251030T174032Z
UID:2306-1782136800-1782140400@www.lombardswimclub.com
SUMMARY:Afternoon Art (5+ yo)
DESCRIPTION:Art Room
URL:https://www.lombardswimclub.com/event/afternoon-art-5-yo/2026-06-22/
END:VEVENT
BEGIN:VEVENT
DTSTART;TZID=America/New_York:20260622T163000
DTEND;TZID=America/New_York:20260622T180000
DTSTAMP:20260420T023614
CREATED:20230425T171414Z
LAST-MODIFIED:20251030T173208Z
UID:1702-1782145800-1782151200@www.lombardswimclub.com
SUMMARY:Poolside Players
DESCRIPTION:Game Room
URL:https://www.lombardswimclub.com/event/poolside-players-3/2026-06-22/
END:VEVENT
BEGIN:VEVENT
DTSTART;TZID=America/New_York:20260622T170000
DTEND;TZID=America/New_York:20260622T180000
DTSTAMP:20260420T023614
CREATED:20230425T173945Z
LAST-MODIFIED:20260409T153343Z
UID:1768-1782147600-1782151200@www.lombardswimclub.com
SUMMARY:Afternoon Art (7+ yo)
DESCRIPTION:Art Room
URL:https://www.lombardswimclub.com/event/afternoon-art/2026-06-22/
END:VEVENT
BEGIN:VEVENT
DTSTART;TZID=America/New_York:20260623T100000
DTEND;TZID=America/New_York:20260623T114500
DTSTAMP:20260420T023614
CREATED:20230425T173833Z
LAST-MODIFIED:20230425T173833Z
UID:5001-1782208800-1782215100@www.lombardswimclub.com
SUMMARY:Morning Strokes for Little Folks
DESCRIPTION:Pool Deck & Art Room
URL:https://www.lombardswimclub.com/event/morning-strokes-for-little-folks/2026-06-23/
END:VEVENT
BEGIN:VEVENT
DTSTART;TZID=America/New_York:20260623T173000
DTEND;TZID=America/New_York:20260623T183000
DTSTAMP:20260420T023614
CREATED:20230425T171648Z
LAST-MODIFIED:20260330T191820Z
UID:1716-1782235800-1782239400@www.lombardswimclub.com
SUMMARY:Junior Lifeguard
DESCRIPTION:Pool Deck
URL:https://www.lombardswimclub.com/event/intro-to-swim-team/2026-06-23/
END:VEVENT
BEGIN:VEVENT
DTSTART;TZID=America/New_York:20260624T100000
DTEND;TZID=America/New_York:20260624T114500
DTSTAMP:20260420T023614
CREATED:20230425T173833Z
LAST-MODIFIED:20230425T173833Z
UID:5002-1782295200-1782301500@www.lombardswimclub.com
SUMMARY:Morning Strokes for Little Folks
DESCRIPTION:Pool Deck & Art Room
URL:https://www.lombardswimclub.com/event/morning-strokes-for-little-folks/2026-06-24/
END:VEVENT
BEGIN:VEVENT
DTSTART;TZID=America/New_York:20260624T163000
DTEND;TZID=America/New_York:20260624T180000
DTSTAMP:20260420T023614
CREATED:20230425T171414Z
LAST-MODIFIED:20230425T171414Z
UID:4959-1782318600-1782324000@www.lombardswimclub.com
SUMMARY:Poolside Players
DESCRIPTION:Game Room
URL:https://www.lombardswimclub.com/event/poolside-players-3/2026-06-24/
END:VEVENT
BEGIN:VEVENT
DTSTART;TZID=America/New_York:20260624T170000
DTEND;TZID=America/New_York:20260624T180000
DTSTAMP:20260420T023614
CREATED:20230425T173945Z
LAST-MODIFIED:20230425T173945Z
UID:5265-1782320400-1782324000@www.lombardswimclub.com
SUMMARY:Afternoon Art (7+ yo)
DESCRIPTION:Art Room
URL:https://www.lombardswimclub.com/event/afternoon-art/2026-06-24/
END:VEVENT
BEGIN:VEVENT
DTSTART;TZID=America/New_York:20260625T100000
DTEND;TZID=America/New_York:20260625T114500
DTSTAMP:20260420T023614
CREATED:20230425T173833Z
LAST-MODIFIED:20230425T173833Z
UID:5003-1782381600-1782387900@www.lombardswimclub.com
SUMMARY:Morning Strokes for Little Folks
DESCRIPTION:Pool Deck & Art Room
URL:https://www.lombardswimclub.com/event/morning-strokes-for-little-folks/2026-06-25/
END:VEVENT
BEGIN:VEVENT
DTSTART;TZID=America/New_York:20260625T190000
DTEND;TZID=America/New_York:20260625T200000
DTSTAMP:20260420T023614
CREATED:20230425T163659Z
LAST-MODIFIED:20260409T153135Z
UID:5182-1782414000-1782417600@www.lombardswimclub.com
SUMMARY:Game Night: Bingo
DESCRIPTION:Upper Deck.
URL:https://www.lombardswimclub.com/event/game-night-quizzo-with-johnny-goodtimes-2026-06-25/
END:VEVENT
BEGIN:VEVENT
DTSTART;TZID=America/New_York:20260626T190000
DTEND;TZID=America/New_York:20260626T203000
DTSTAMP:20260420T023614
CREATED:20250527T183028Z
LAST-MODIFIED:20250527T183028Z
UID:5227-1782500400-1782505800@www.lombardswimclub.com
SUMMARY:Movie-in-the-Game-Room
DESCRIPTION:Game Room.
URL:https://www.lombardswimclub.com/event/kids-movie-night/2026-06-26/
LOCATION:Game Room
END:VEVENT
BEGIN:VEVENT
DTSTART;TZID=America/New_York:20260627T200000
DTEND;TZID=America/New_York:20260627T213000
DTSTAMP:20260420T023614
CREATED:20230622T162925Z
LAST-MODIFIED:20230622T162925Z
UID:5240-1782590400-1782595800@www.lombardswimclub.com
SUMMARY:Family Float Night
DESCRIPTION:Pool.
URL:https://www.lombardswimclub.com/event/family-float-night/2026-06-27/
END:VEVENT
BEGIN:VEVENT
DTSTART;TZID=America/New_York:20260628T140000
DTEND;TZID=America/New_York:20260628T150000
DTSTAMP:20260420T023614
CREATED:20230622T165116Z
LAST-MODIFIED:20230622T165116Z
UID:5024-1782655200-1782658800@www.lombardswimclub.com
SUMMARY:Afternoon Art (5+ yo)
DESCRIPTION:Art Room
URL:https://www.lombardswimclub.com/event/afternoon-art-5-yo/2026-06-28/
END:VEVENT
BEGIN:VEVENT
DTSTART;TZID=America/New_York:20260628T150000
DTEND;TZID=America/New_York:20260628T153000
DTSTAMP:20260420T023614
CREATED:20230622T164720Z
LAST-MODIFIED:20230622T164720Z
UID:5211-1782658800-1782660600@www.lombardswimclub.com
SUMMARY:Adult Swim
DESCRIPTION:Pool.
URL:https://www.lombardswimclub.com/event/adult-swim-3/2026-06-28/
END:VEVENT
BEGIN:VEVENT
DTSTART;TZID=America/New_York:20260629T100000
DTEND;TZID=America/New_York:20260629T114500
DTSTAMP:20260420T023614
CREATED:20230425T173833Z
LAST-MODIFIED:20230425T173833Z
UID:5004-1782727200-1782733500@www.lombardswimclub.com
SUMMARY:Morning Strokes for Little Folks
DESCRIPTION:Pool Deck & Art Room
URL:https://www.lombardswimclub.com/event/morning-strokes-for-little-folks/2026-06-29/
END:VEVENT
BEGIN:VEVENT
DTSTART;TZID=America/New_York:20260629T163000
DTEND;TZID=America/New_York:20260629T180000
DTSTAMP:20260420T023614
CREATED:20230425T171414Z
LAST-MODIFIED:20230425T171414Z
UID:4960-1782750600-1782756000@www.lombardswimclub.com
SUMMARY:Poolside Players
DESCRIPTION:Game Room
URL:https://www.lombardswimclub.com/event/poolside-players-3/2026-06-29/
END:VEVENT
BEGIN:VEVENT
DTSTART;TZID=America/New_York:20260630T100000
DTEND;TZID=America/New_York:20260630T114500
DTSTAMP:20260420T023614
CREATED:20230425T173833Z
LAST-MODIFIED:20230425T173833Z
UID:5005-1782813600-1782819900@www.lombardswimclub.com
SUMMARY:Morning Strokes for Little Folks
DESCRIPTION:Pool Deck & Art Room
URL:https://www.lombardswimclub.com/event/morning-strokes-for-little-folks/2026-06-30/
END:VEVENT
END:VCALENDAR