BEGIN:VCALENDAR
VERSION:2.0
PRODID:-//Lombard Swim Club - ECPv6.11.2.1//NONSGML v1.0//EN
CALSCALE:GREGORIAN
METHOD:PUBLISH
X-WR-CALNAME:Lombard Swim Club
X-ORIGINAL-URL:https://www.lombardswimclub.com
X-WR-CALDESC:Events for Lombard Swim Club
REFRESH-INTERVAL;VALUE=DURATION:PT1H
X-Robots-Tag:noindex
X-PUBLISHED-TTL:PT1H
BEGIN:VTIMEZONE
TZID:America/New_York
BEGIN:DAYLIGHT
TZOFFSETFROM:-0500
TZOFFSETTO:-0400
TZNAME:EDT
DTSTART:20250309T070000
END:DAYLIGHT
BEGIN:STANDARD
TZOFFSETFROM:-0400
TZOFFSETTO:-0500
TZNAME:EST
DTSTART:20251102T060000
END:STANDARD
END:VTIMEZONE
BEGIN:VEVENT
DTSTART;TZID=America/New_York:20250614T123000
DTEND;TZID=America/New_York:20250614T133000
DTSTAMP:20260422T040429
CREATED:20230518T184247Z
LAST-MODIFIED:20250510T135122Z
UID:4139-1749904200-1749907800@www.lombardswimclub.com
SUMMARY:Aquacize
DESCRIPTION:
URL:https://www.lombardswimclub.com/event/aquacize/2025-06-14/
END:VEVENT
BEGIN:VEVENT
DTSTART;TZID=America/New_York:20250613T123000
DTEND;TZID=America/New_York:20250613T133000
DTSTAMP:20260422T040429
CREATED:20230518T184247Z
LAST-MODIFIED:20250510T135122Z
UID:4138-1749817800-1749821400@www.lombardswimclub.com
SUMMARY:Aquacize
DESCRIPTION:
URL:https://www.lombardswimclub.com/event/aquacize/2025-06-13/
END:VEVENT
BEGIN:VEVENT
DTSTART;TZID=America/New_York:20250613T073000
DTEND;TZID=America/New_York:20250613T083000
DTSTAMP:20260422T040429
CREATED:20230518T184714Z
LAST-MODIFIED:20250626T190801Z
UID:4413-1749799800-1749803400@www.lombardswimclub.com
SUMMARY:Yoga
DESCRIPTION:Baby Pool
URL:https://www.lombardswimclub.com/event/yoga-2/2025-06-13/
END:VEVENT
BEGIN:VEVENT
DTSTART;TZID=America/New_York:20250612T180000
DTEND;TZID=America/New_York:20250612T190000
DTSTAMP:20260422T040429
CREATED:20250531T175042Z
LAST-MODIFIED:20250531T175042Z
UID:4668-1749751200-1749754800@www.lombardswimclub.com
SUMMARY:Evening Aquacize
DESCRIPTION:
URL:https://www.lombardswimclub.com/event/evening-aquacize-2/2025-06-12/
END:VEVENT
BEGIN:VEVENT
DTSTART;TZID=America/New_York:20250612T123000
DTEND;TZID=America/New_York:20250612T133000
DTSTAMP:20260422T040429
CREATED:20230518T184247Z
LAST-MODIFIED:20250510T135122Z
UID:4137-1749731400-1749735000@www.lombardswimclub.com
SUMMARY:Aquacize
DESCRIPTION:
URL:https://www.lombardswimclub.com/event/aquacize/2025-06-12/
END:VEVENT
BEGIN:VEVENT
DTSTART;TZID=America/New_York:20250612T073000
DTEND;TZID=America/New_York:20250612T083000
DTSTAMP:20260422T040429
CREATED:20230518T184714Z
LAST-MODIFIED:20250626T190800Z
UID:4412-1749713400-1749717000@www.lombardswimclub.com
SUMMARY:Yoga
DESCRIPTION:Baby Pool
URL:https://www.lombardswimclub.com/event/yoga-2/2025-06-12/
END:VEVENT
BEGIN:VEVENT
DTSTART;TZID=America/New_York:20250611T123000
DTEND;TZID=America/New_York:20250611T133000
DTSTAMP:20260422T040429
CREATED:20230518T184247Z
LAST-MODIFIED:20250512T181543Z
UID:4360-1749645000-1749648600@www.lombardswimclub.com
SUMMARY:Deep Water Aquacize
DESCRIPTION:
URL:https://www.lombardswimclub.com/event/aquacize-2024-05-15-2025-05-21/2025-06-11/
END:VEVENT
BEGIN:VEVENT
DTSTART;TZID=America/New_York:20250611T073000
DTEND;TZID=America/New_York:20250611T083000
DTSTAMP:20260422T040429
CREATED:20230518T184714Z
LAST-MODIFIED:20250626T190800Z
UID:4411-1749627000-1749630600@www.lombardswimclub.com
SUMMARY:Yoga
DESCRIPTION:Baby Pool
URL:https://www.lombardswimclub.com/event/yoga-2/2025-06-11/
END:VEVENT
BEGIN:VEVENT
DTSTART;TZID=America/New_York:20250610T180000
DTEND;TZID=America/New_York:20250610T190000
DTSTAMP:20260422T040429
CREATED:20250531T175042Z
LAST-MODIFIED:20250531T175042Z
UID:4667-1749578400-1749582000@www.lombardswimclub.com
SUMMARY:Evening Aquacize
DESCRIPTION:
URL:https://www.lombardswimclub.com/event/evening-aquacize-2/2025-06-10/
END:VEVENT
BEGIN:VEVENT
DTSTART;TZID=America/New_York:20250610T123000
DTEND;TZID=America/New_York:20250610T133000
DTSTAMP:20260422T040429
CREATED:20230518T184247Z
LAST-MODIFIED:20250510T135121Z
UID:4135-1749558600-1749562200@www.lombardswimclub.com
SUMMARY:Aquacize
DESCRIPTION:
URL:https://www.lombardswimclub.com/event/aquacize/2025-06-10/
END:VEVENT
BEGIN:VEVENT
DTSTART;TZID=America/New_York:20250610T073000
DTEND;TZID=America/New_York:20250610T083000
DTSTAMP:20260422T040429
CREATED:20230518T184714Z
LAST-MODIFIED:20250626T190757Z
UID:4410-1749540600-1749544200@www.lombardswimclub.com
SUMMARY:Yoga
DESCRIPTION:Baby Pool
URL:https://www.lombardswimclub.com/event/yoga-2/2025-06-10/
END:VEVENT
BEGIN:VEVENT
DTSTART;TZID=America/New_York:20250609T123000
DTEND;TZID=America/New_York:20250609T133000
DTSTAMP:20260422T040429
CREATED:20230518T184247Z
LAST-MODIFIED:20250510T135121Z
UID:4134-1749472200-1749475800@www.lombardswimclub.com
SUMMARY:Aquacize
DESCRIPTION:
URL:https://www.lombardswimclub.com/event/aquacize/2025-06-09/
END:VEVENT
BEGIN:VEVENT
DTSTART;TZID=America/New_York:20250609T073000
DTEND;TZID=America/New_York:20250609T083000
DTSTAMP:20260422T040429
CREATED:20230518T184714Z
LAST-MODIFIED:20250626T190757Z
UID:4409-1749454200-1749457800@www.lombardswimclub.com
SUMMARY:Yoga
DESCRIPTION:Baby Pool
URL:https://www.lombardswimclub.com/event/yoga-2/2025-06-09/
END:VEVENT
BEGIN:VEVENT
DTSTART;TZID=America/New_York:20250608T123000
DTEND;TZID=America/New_York:20250608T133000
DTSTAMP:20260422T040429
CREATED:20230518T184247Z
LAST-MODIFIED:20250510T135121Z
UID:4133-1749385800-1749389400@www.lombardswimclub.com
SUMMARY:Aquacize
DESCRIPTION:
URL:https://www.lombardswimclub.com/event/aquacize/2025-06-08/
END:VEVENT
BEGIN:VEVENT
DTSTART;TZID=America/New_York:20250607T200000
DTEND;TZID=America/New_York:20250607T213000
DTSTAMP:20260422T040429
CREATED:20240605T183421Z
LAST-MODIFIED:20250531T172651Z
UID:4523-1749326400-1749331800@www.lombardswimclub.com
SUMMARY:Family Float Night
DESCRIPTION:Pool
URL:https://www.lombardswimclub.com/event/family-float-night-2/2025-06-07/
END:VEVENT
BEGIN:VEVENT
DTSTART;TZID=America/New_York:20250607T123000
DTEND;TZID=America/New_York:20250607T133000
DTSTAMP:20260422T040429
CREATED:20230518T184247Z
LAST-MODIFIED:20250510T135121Z
UID:4132-1749299400-1749303000@www.lombardswimclub.com
SUMMARY:Aquacize
DESCRIPTION:
URL:https://www.lombardswimclub.com/event/aquacize/2025-06-07/
END:VEVENT
BEGIN:VEVENT
DTSTART;TZID=America/New_York:20250606T123000
DTEND;TZID=America/New_York:20250606T133000
DTSTAMP:20260422T040429
CREATED:20230518T184247Z
LAST-MODIFIED:20250510T135121Z
UID:4131-1749213000-1749216600@www.lombardswimclub.com
SUMMARY:Aquacize
DESCRIPTION:
URL:https://www.lombardswimclub.com/event/aquacize/2025-06-06/
END:VEVENT
BEGIN:VEVENT
DTSTART;TZID=America/New_York:20250606T073000
DTEND;TZID=America/New_York:20250606T083000
DTSTAMP:20260422T040429
CREATED:20230518T184714Z
LAST-MODIFIED:20250626T190757Z
UID:4408-1749195000-1749198600@www.lombardswimclub.com
SUMMARY:Yoga
DESCRIPTION:Baby Pool
URL:https://www.lombardswimclub.com/event/yoga-2/2025-06-06/
END:VEVENT
BEGIN:VEVENT
DTSTART;TZID=America/New_York:20250605T190000
DTEND;TZID=America/New_York:20250605T200000
DTSTAMP:20260422T040429
CREATED:20230425T164915Z
LAST-MODIFIED:20230425T164915Z
UID:4099-1749150000-1749153600@www.lombardswimclub.com
SUMMARY:Game Night: Bingo
DESCRIPTION:Upper Deck.
URL:https://www.lombardswimclub.com/event/trivia-by-table-3/2025-06-05/
END:VEVENT
BEGIN:VEVENT
DTSTART;TZID=America/New_York:20250605T180000
DTEND;TZID=America/New_York:20250605T190000
DTSTAMP:20260422T040429
CREATED:20250531T175042Z
LAST-MODIFIED:20250531T175042Z
UID:4666-1749146400-1749150000@www.lombardswimclub.com
SUMMARY:Evening Aquacize
DESCRIPTION:
URL:https://www.lombardswimclub.com/event/evening-aquacize-2/2025-06-05/
END:VEVENT
BEGIN:VEVENT
DTSTART;TZID=America/New_York:20250605T123000
DTEND;TZID=America/New_York:20250605T133000
DTSTAMP:20260422T040429
CREATED:20230518T184247Z
LAST-MODIFIED:20250510T135121Z
UID:4130-1749126600-1749130200@www.lombardswimclub.com
SUMMARY:Aquacize
DESCRIPTION:
URL:https://www.lombardswimclub.com/event/aquacize/2025-06-05/
END:VEVENT
BEGIN:VEVENT
DTSTART;TZID=America/New_York:20250605T073000
DTEND;TZID=America/New_York:20250605T083000
DTSTAMP:20260422T040429
CREATED:20230518T184714Z
LAST-MODIFIED:20250626T190757Z
UID:4407-1749108600-1749112200@www.lombardswimclub.com
SUMMARY:Yoga
DESCRIPTION:Baby Pool
URL:https://www.lombardswimclub.com/event/yoga-2/2025-06-05/
END:VEVENT
BEGIN:VEVENT
DTSTART;TZID=America/New_York:20250604T113000
DTEND;TZID=America/New_York:20250604T123000
DTSTAMP:20260422T040429
CREATED:20230518T184247Z
LAST-MODIFIED:20250602T182922Z
UID:4359-1749036600-1749040200@www.lombardswimclub.com
SUMMARY:Deep Water Aquacize
DESCRIPTION:
URL:https://www.lombardswimclub.com/event/aquacize-2024-05-15-2025-06-04/
END:VEVENT
BEGIN:VEVENT
DTSTART;TZID=America/New_York:20250604T073000
DTEND;TZID=America/New_York:20250604T083000
DTSTAMP:20260422T040429
CREATED:20230518T184714Z
LAST-MODIFIED:20250626T190757Z
UID:4406-1749022200-1749025800@www.lombardswimclub.com
SUMMARY:Yoga
DESCRIPTION:Baby Pool
URL:https://www.lombardswimclub.com/event/yoga-2/2025-06-04/
END:VEVENT
BEGIN:VEVENT
DTSTART;TZID=America/New_York:20250603T180000
DTEND;TZID=America/New_York:20250603T190000
DTSTAMP:20260422T040429
CREATED:20250531T175042Z
LAST-MODIFIED:20250531T175042Z
UID:4665-1748973600-1748977200@www.lombardswimclub.com
SUMMARY:Evening Aquacize
DESCRIPTION:
URL:https://www.lombardswimclub.com/event/evening-aquacize-2/2025-06-03/
END:VEVENT
BEGIN:VEVENT
DTSTART;TZID=America/New_York:20250603T123000
DTEND;TZID=America/New_York:20250603T133000
DTSTAMP:20260422T040429
CREATED:20230518T184247Z
LAST-MODIFIED:20250510T135121Z
UID:4128-1748953800-1748957400@www.lombardswimclub.com
SUMMARY:Aquacize
DESCRIPTION:
URL:https://www.lombardswimclub.com/event/aquacize/2025-06-03/
END:VEVENT
BEGIN:VEVENT
DTSTART;TZID=America/New_York:20250603T073000
DTEND;TZID=America/New_York:20250603T083000
DTSTAMP:20260422T040429
CREATED:20230518T184714Z
LAST-MODIFIED:20250626T190756Z
UID:4405-1748935800-1748939400@www.lombardswimclub.com
SUMMARY:Yoga
DESCRIPTION:Baby Pool
URL:https://www.lombardswimclub.com/event/yoga-2/2025-06-03/
END:VEVENT
BEGIN:VEVENT
DTSTART;TZID=America/New_York:20250602T123000
DTEND;TZID=America/New_York:20250602T133000
DTSTAMP:20260422T040429
CREATED:20230518T184247Z
LAST-MODIFIED:20250510T135121Z
UID:4127-1748867400-1748871000@www.lombardswimclub.com
SUMMARY:Aquacize
DESCRIPTION:
URL:https://www.lombardswimclub.com/event/aquacize/2025-06-02/
END:VEVENT
BEGIN:VEVENT
DTSTART;TZID=America/New_York:20250602T073000
DTEND;TZID=America/New_York:20250602T083000
DTSTAMP:20260422T040429
CREATED:20230518T184714Z
LAST-MODIFIED:20250626T190756Z
UID:4404-1748849400-1748853000@www.lombardswimclub.com
SUMMARY:Yoga
DESCRIPTION:Baby Pool
URL:https://www.lombardswimclub.com/event/yoga-2/2025-06-02/
END:VEVENT
BEGIN:VEVENT
DTSTART;TZID=America/New_York:20250601T123000
DTEND;TZID=America/New_York:20250601T133000
DTSTAMP:20260422T040429
CREATED:20230518T184247Z
LAST-MODIFIED:20250510T135120Z
UID:4126-1748781000-1748784600@www.lombardswimclub.com
SUMMARY:Aquacize
DESCRIPTION:
URL:https://www.lombardswimclub.com/event/aquacize/2025-06-01/
END:VEVENT
END:VCALENDAR