BEGIN:VCALENDAR
VERSION:2.0
PRODID:-//Lombard Swim Club - ECPv6.11.2.1//NONSGML v1.0//EN
CALSCALE:GREGORIAN
METHOD:PUBLISH
X-WR-CALNAME:Lombard Swim Club
X-ORIGINAL-URL:https://www.lombardswimclub.com
X-WR-CALDESC:Events for Lombard Swim Club
REFRESH-INTERVAL;VALUE=DURATION:PT1H
X-Robots-Tag:noindex
X-PUBLISHED-TTL:PT1H
BEGIN:VTIMEZONE
TZID:America/New_York
BEGIN:DAYLIGHT
TZOFFSETFROM:-0500
TZOFFSETTO:-0400
TZNAME:EDT
DTSTART:20250309T070000
END:DAYLIGHT
BEGIN:STANDARD
TZOFFSETFROM:-0400
TZOFFSETTO:-0500
TZNAME:EST
DTSTART:20251102T060000
END:STANDARD
END:VTIMEZONE
BEGIN:VEVENT
DTSTART;TZID=America/New_York:20250626T180000
DTEND;TZID=America/New_York:20250626T190000
DTSTAMP:20260422T014311
CREATED:20250531T175042Z
LAST-MODIFIED:20250531T175042Z
UID:4672-1750960800-1750964400@www.lombardswimclub.com
SUMMARY:Evening Aquacize
DESCRIPTION:
URL:https://www.lombardswimclub.com/event/evening-aquacize-2/2025-06-26/
END:VEVENT
BEGIN:VEVENT
DTSTART;TZID=America/New_York:20250626T123000
DTEND;TZID=America/New_York:20250626T133000
DTSTAMP:20260422T014311
CREATED:20230518T184247Z
LAST-MODIFIED:20250510T135123Z
UID:4151-1750941000-1750944600@www.lombardswimclub.com
SUMMARY:Aquacize
DESCRIPTION:
URL:https://www.lombardswimclub.com/event/aquacize/2025-06-26/
END:VEVENT
BEGIN:VEVENT
DTSTART;TZID=America/New_York:20250626T073000
DTEND;TZID=America/New_York:20250626T083000
DTSTAMP:20260422T014311
CREATED:20230518T184714Z
LAST-MODIFIED:20250626T190802Z
UID:4422-1750923000-1750926600@www.lombardswimclub.com
SUMMARY:Yoga
DESCRIPTION:Baby Pool
URL:https://www.lombardswimclub.com/event/yoga-2/2025-06-26/
END:VEVENT
BEGIN:VEVENT
DTSTART;TZID=America/New_York:20250625T123000
DTEND;TZID=America/New_York:20250625T133000
DTSTAMP:20260422T014311
CREATED:20230518T184247Z
LAST-MODIFIED:20250624T170252Z
UID:4362-1750854600-1750858200@www.lombardswimclub.com
SUMMARY:Aquacize
DESCRIPTION:Bre is subbing. Aquacize will be in the normal spot but the lifeguard stand for this class.
URL:https://www.lombardswimclub.com/event/aquacize-2024-05-15-2025-06-25/
END:VEVENT
BEGIN:VEVENT
DTSTART;TZID=America/New_York:20250625T073000
DTEND;TZID=America/New_York:20250625T083000
DTSTAMP:20260422T014311
CREATED:20230518T184714Z
LAST-MODIFIED:20250626T190802Z
UID:4421-1750836600-1750840200@www.lombardswimclub.com
SUMMARY:Yoga
DESCRIPTION:Baby Pool
URL:https://www.lombardswimclub.com/event/yoga-2/2025-06-25/
END:VEVENT
BEGIN:VEVENT
DTSTART;TZID=America/New_York:20250624T180000
DTEND;TZID=America/New_York:20250624T190000
DTSTAMP:20260422T014311
CREATED:20250531T175042Z
LAST-MODIFIED:20250531T175042Z
UID:4671-1750788000-1750791600@www.lombardswimclub.com
SUMMARY:Evening Aquacize
DESCRIPTION:
URL:https://www.lombardswimclub.com/event/evening-aquacize-2/2025-06-24/
END:VEVENT
BEGIN:VEVENT
DTSTART;TZID=America/New_York:20250624T123000
DTEND;TZID=America/New_York:20250624T133000
DTSTAMP:20260422T014311
CREATED:20230518T184247Z
LAST-MODIFIED:20250510T135123Z
UID:4149-1750768200-1750771800@www.lombardswimclub.com
SUMMARY:Aquacize
DESCRIPTION:
URL:https://www.lombardswimclub.com/event/aquacize/2025-06-24/
END:VEVENT
BEGIN:VEVENT
DTSTART;TZID=America/New_York:20250624T073000
DTEND;TZID=America/New_York:20250624T083000
DTSTAMP:20260422T014311
CREATED:20230518T184714Z
LAST-MODIFIED:20250626T190801Z
UID:4420-1750750200-1750753800@www.lombardswimclub.com
SUMMARY:Yoga
DESCRIPTION:Baby Pool
URL:https://www.lombardswimclub.com/event/yoga-2/2025-06-24/
END:VEVENT
BEGIN:VEVENT
DTSTART;TZID=America/New_York:20250623T183000
DTEND;TZID=America/New_York:20250623T193000
DTSTAMP:20260422T014311
CREATED:20240402T150543Z
LAST-MODIFIED:20250602T175944Z
UID:3003-1750703400-1750707000@www.lombardswimclub.com
SUMMARY:Coffee & Conversation: Meghan Tierney Lash
DESCRIPTION:Posture\, Balance\, and Mobility: Tips for Staying Out of Physical Therapy\nUpper Deck
URL:https://www.lombardswimclub.com/event/coffee-conversation-max-tuttleman-philanthropy/
END:VEVENT
BEGIN:VEVENT
DTSTART;TZID=America/New_York:20250623T123000
DTEND;TZID=America/New_York:20250623T133000
DTSTAMP:20260422T014311
CREATED:20230518T184247Z
LAST-MODIFIED:20250510T135123Z
UID:4148-1750681800-1750685400@www.lombardswimclub.com
SUMMARY:Aquacize
DESCRIPTION:
URL:https://www.lombardswimclub.com/event/aquacize/2025-06-23/
END:VEVENT
BEGIN:VEVENT
DTSTART;TZID=America/New_York:20250623T073000
DTEND;TZID=America/New_York:20250623T083000
DTSTAMP:20260422T014311
CREATED:20230518T184714Z
LAST-MODIFIED:20250626T190801Z
UID:4419-1750663800-1750667400@www.lombardswimclub.com
SUMMARY:Yoga
DESCRIPTION:Baby Pool
URL:https://www.lombardswimclub.com/event/yoga-2/2025-06-23/
END:VEVENT
BEGIN:VEVENT
DTSTART;TZID=America/New_York:20250622T123000
DTEND;TZID=America/New_York:20250622T133000
DTSTAMP:20260422T014311
CREATED:20230518T184247Z
LAST-MODIFIED:20250510T135123Z
UID:4147-1750595400-1750599000@www.lombardswimclub.com
SUMMARY:Aquacize
DESCRIPTION:
URL:https://www.lombardswimclub.com/event/aquacize/2025-06-22/
END:VEVENT
BEGIN:VEVENT
DTSTART;TZID=America/New_York:20250621T200000
DTEND;TZID=America/New_York:20250621T213000
DTSTAMP:20260422T014311
CREATED:20240605T183421Z
LAST-MODIFIED:20250531T172651Z
UID:4525-1750536000-1750541400@www.lombardswimclub.com
SUMMARY:Family Float Night
DESCRIPTION:Pool
URL:https://www.lombardswimclub.com/event/family-float-night-2/2025-06-21/
END:VEVENT
BEGIN:VEVENT
DTSTART;TZID=America/New_York:20250621T130000
DTEND;TZID=America/New_York:20250621T150000
DTSTAMP:20260422T014311
CREATED:20250527T174855Z
LAST-MODIFIED:20250527T183318Z
UID:4504-1750510800-1750518000@www.lombardswimclub.com
SUMMARY:Bridge Club
DESCRIPTION:Upper Deck
URL:https://www.lombardswimclub.com/event/bridge-club/2025-06-21/
END:VEVENT
BEGIN:VEVENT
DTSTART;TZID=America/New_York:20250621T123000
DTEND;TZID=America/New_York:20250621T133000
DTSTAMP:20260422T014311
CREATED:20230518T184247Z
LAST-MODIFIED:20250510T135123Z
UID:4146-1750509000-1750512600@www.lombardswimclub.com
SUMMARY:Aquacize
DESCRIPTION:
URL:https://www.lombardswimclub.com/event/aquacize/2025-06-21/
END:VEVENT
BEGIN:VEVENT
DTSTART;TZID=America/New_York:20250620T123000
DTEND;TZID=America/New_York:20250620T133000
DTSTAMP:20260422T014311
CREATED:20230518T184247Z
LAST-MODIFIED:20250510T135122Z
UID:4145-1750422600-1750426200@www.lombardswimclub.com
SUMMARY:Aquacize
DESCRIPTION:
URL:https://www.lombardswimclub.com/event/aquacize/2025-06-20/
END:VEVENT
BEGIN:VEVENT
DTSTART;TZID=America/New_York:20250620T073000
DTEND;TZID=America/New_York:20250620T083000
DTSTAMP:20260422T014311
CREATED:20230518T184714Z
LAST-MODIFIED:20250626T190801Z
UID:4418-1750404600-1750408200@www.lombardswimclub.com
SUMMARY:Yoga
DESCRIPTION:Baby Pool
URL:https://www.lombardswimclub.com/event/yoga-2/2025-06-20/
END:VEVENT
BEGIN:VEVENT
DTSTART;TZID=America/New_York:20250619T190000
DTEND;TZID=America/New_York:20250619T200000
DTSTAMP:20260422T014311
CREATED:20230425T164915Z
LAST-MODIFIED:20250527T170537Z
UID:4100-1750359600-1750363200@www.lombardswimclub.com
SUMMARY:Game Night: Trivia by Table
DESCRIPTION:Upper Deck.
URL:https://www.lombardswimclub.com/event/trivia-by-table-3-2025-06-19/
END:VEVENT
BEGIN:VEVENT
DTSTART;TZID=America/New_York:20250619T180000
DTEND;TZID=America/New_York:20250619T190000
DTSTAMP:20260422T014311
CREATED:20250531T175042Z
LAST-MODIFIED:20250531T175042Z
UID:4670-1750356000-1750359600@www.lombardswimclub.com
SUMMARY:Evening Aquacize
DESCRIPTION:
URL:https://www.lombardswimclub.com/event/evening-aquacize-2/2025-06-19/
END:VEVENT
BEGIN:VEVENT
DTSTART;TZID=America/New_York:20250619T123000
DTEND;TZID=America/New_York:20250619T133000
DTSTAMP:20260422T014311
CREATED:20230518T184247Z
LAST-MODIFIED:20250510T135122Z
UID:4144-1750336200-1750339800@www.lombardswimclub.com
SUMMARY:Aquacize
DESCRIPTION:
URL:https://www.lombardswimclub.com/event/aquacize/2025-06-19/
END:VEVENT
BEGIN:VEVENT
DTSTART;TZID=America/New_York:20250619T073000
DTEND;TZID=America/New_York:20250619T083000
DTSTAMP:20260422T014311
CREATED:20230518T184714Z
LAST-MODIFIED:20250626T190801Z
UID:4417-1750318200-1750321800@www.lombardswimclub.com
SUMMARY:Yoga
DESCRIPTION:Baby Pool
URL:https://www.lombardswimclub.com/event/yoga-2/2025-06-19/
END:VEVENT
BEGIN:VEVENT
DTSTART;TZID=America/New_York:20250618T123000
DTEND;TZID=America/New_York:20250618T133000
DTSTAMP:20260422T014311
CREATED:20230518T184247Z
LAST-MODIFIED:20250512T181543Z
UID:4361-1750249800-1750253400@www.lombardswimclub.com
SUMMARY:Deep Water Aquacize
DESCRIPTION:
URL:https://www.lombardswimclub.com/event/aquacize-2024-05-15-2025-05-21/2025-06-18/
END:VEVENT
BEGIN:VEVENT
DTSTART;TZID=America/New_York:20250618T073000
DTEND;TZID=America/New_York:20250618T083000
DTSTAMP:20260422T014311
CREATED:20230518T184714Z
LAST-MODIFIED:20250626T190801Z
UID:4416-1750231800-1750235400@www.lombardswimclub.com
SUMMARY:Yoga
DESCRIPTION:Baby Pool
URL:https://www.lombardswimclub.com/event/yoga-2/2025-06-18/
END:VEVENT
BEGIN:VEVENT
DTSTART;TZID=America/New_York:20250617T180000
DTEND;TZID=America/New_York:20250617T190000
DTSTAMP:20260422T014311
CREATED:20250531T175042Z
LAST-MODIFIED:20250531T175042Z
UID:4669-1750183200-1750186800@www.lombardswimclub.com
SUMMARY:Evening Aquacize
DESCRIPTION:
URL:https://www.lombardswimclub.com/event/evening-aquacize-2/2025-06-17/
END:VEVENT
BEGIN:VEVENT
DTSTART;TZID=America/New_York:20250617T123000
DTEND;TZID=America/New_York:20250617T133000
DTSTAMP:20260422T014311
CREATED:20230518T184247Z
LAST-MODIFIED:20250510T135122Z
UID:4142-1750163400-1750167000@www.lombardswimclub.com
SUMMARY:Aquacize
DESCRIPTION:
URL:https://www.lombardswimclub.com/event/aquacize/2025-06-17/
END:VEVENT
BEGIN:VEVENT
DTSTART;TZID=America/New_York:20250617T073000
DTEND;TZID=America/New_York:20250617T083000
DTSTAMP:20260422T014311
CREATED:20230518T184714Z
LAST-MODIFIED:20250626T190801Z
UID:4415-1750145400-1750149000@www.lombardswimclub.com
SUMMARY:Yoga
DESCRIPTION:Baby Pool
URL:https://www.lombardswimclub.com/event/yoga-2/2025-06-17/
END:VEVENT
BEGIN:VEVENT
DTSTART;TZID=America/New_York:20250616T123000
DTEND;TZID=America/New_York:20250616T133000
DTSTAMP:20260422T014311
CREATED:20230518T184247Z
LAST-MODIFIED:20250510T135122Z
UID:4141-1750077000-1750080600@www.lombardswimclub.com
SUMMARY:Aquacize
DESCRIPTION:
URL:https://www.lombardswimclub.com/event/aquacize/2025-06-16/
END:VEVENT
BEGIN:VEVENT
DTSTART;TZID=America/New_York:20250616T073000
DTEND;TZID=America/New_York:20250616T083000
DTSTAMP:20260422T014311
CREATED:20230518T184714Z
LAST-MODIFIED:20250626T190801Z
UID:4414-1750059000-1750062600@www.lombardswimclub.com
SUMMARY:Yoga
DESCRIPTION:Baby Pool
URL:https://www.lombardswimclub.com/event/yoga-2/2025-06-16/
END:VEVENT
BEGIN:VEVENT
DTSTART;TZID=America/New_York:20250615T123000
DTEND;TZID=America/New_York:20250615T133000
DTSTAMP:20260422T014311
CREATED:20230518T184247Z
LAST-MODIFIED:20250510T135122Z
UID:4140-1749990600-1749994200@www.lombardswimclub.com
SUMMARY:Aquacize
DESCRIPTION:
URL:https://www.lombardswimclub.com/event/aquacize/2025-06-15/
END:VEVENT
BEGIN:VEVENT
DTSTART;TZID=America/New_York:20250614T200000
DTEND;TZID=America/New_York:20250614T213000
DTSTAMP:20260422T014311
CREATED:20240605T183421Z
LAST-MODIFIED:20250531T172651Z
UID:4524-1749931200-1749936600@www.lombardswimclub.com
SUMMARY:Family Float Night
DESCRIPTION:Pool
URL:https://www.lombardswimclub.com/event/family-float-night-2/2025-06-14/
END:VEVENT
END:VCALENDAR