BEGIN:VCALENDAR
VERSION:2.0
PRODID:-//Lombard Swim Club - ECPv6.11.2.1//NONSGML v1.0//EN
CALSCALE:GREGORIAN
METHOD:PUBLISH
X-WR-CALNAME:Lombard Swim Club
X-ORIGINAL-URL:https://www.lombardswimclub.com
X-WR-CALDESC:Events for Lombard Swim Club
REFRESH-INTERVAL;VALUE=DURATION:PT1H
X-Robots-Tag:noindex
X-PUBLISHED-TTL:PT1H
BEGIN:VTIMEZONE
TZID:America/New_York
BEGIN:DAYLIGHT
TZOFFSETFROM:-0500
TZOFFSETTO:-0400
TZNAME:EDT
DTSTART:20250309T070000
END:DAYLIGHT
BEGIN:STANDARD
TZOFFSETFROM:-0400
TZOFFSETTO:-0500
TZNAME:EST
DTSTART:20251102T060000
END:STANDARD
END:VTIMEZONE
BEGIN:VEVENT
DTSTART;TZID=America/New_York:20250723T073000
DTEND;TZID=America/New_York:20250723T083000
DTSTAMP:20260421T170959
CREATED:20230518T184714Z
LAST-MODIFIED:20250626T190805Z
UID:4441-1753255800-1753259400@www.lombardswimclub.com
SUMMARY:Yoga
DESCRIPTION:Baby Pool
URL:https://www.lombardswimclub.com/event/yoga-2/2025-07-23/
END:VEVENT
BEGIN:VEVENT
DTSTART;TZID=America/New_York:20250722T180000
DTEND;TZID=America/New_York:20250722T190000
DTSTAMP:20260421T170959
CREATED:20250531T175042Z
LAST-MODIFIED:20250531T175042Z
UID:4680-1753207200-1753210800@www.lombardswimclub.com
SUMMARY:Evening Aquacize
DESCRIPTION:
URL:https://www.lombardswimclub.com/event/evening-aquacize-2/2025-07-22/
END:VEVENT
BEGIN:VEVENT
DTSTART;TZID=America/New_York:20250722T123000
DTEND;TZID=America/New_York:20250722T133000
DTSTAMP:20260421T170959
CREATED:20230518T184247Z
LAST-MODIFIED:20250510T135125Z
UID:4176-1753187400-1753191000@www.lombardswimclub.com
SUMMARY:Aquacize
DESCRIPTION:
URL:https://www.lombardswimclub.com/event/aquacize/2025-07-22/
END:VEVENT
BEGIN:VEVENT
DTSTART;TZID=America/New_York:20250722T073000
DTEND;TZID=America/New_York:20250722T083000
DTSTAMP:20260421T170959
CREATED:20230518T184714Z
LAST-MODIFIED:20250626T190805Z
UID:4440-1753169400-1753173000@www.lombardswimclub.com
SUMMARY:Yoga
DESCRIPTION:Baby Pool
URL:https://www.lombardswimclub.com/event/yoga-2/2025-07-22/
END:VEVENT
BEGIN:VEVENT
DTSTART;TZID=America/New_York:20250721T123000
DTEND;TZID=America/New_York:20250721T133000
DTSTAMP:20260421T170959
CREATED:20230518T184247Z
LAST-MODIFIED:20230518T184247Z
UID:4841-1753101000-1753104600@www.lombardswimclub.com
SUMMARY:Deep Water Aquacize
DESCRIPTION:
URL:https://www.lombardswimclub.com/event/aquacize-2025-07-14/2025-07-21/
END:VEVENT
BEGIN:VEVENT
DTSTART;TZID=America/New_York:20250721T073000
DTEND;TZID=America/New_York:20250721T083000
DTSTAMP:20260421T170959
CREATED:20230518T184714Z
LAST-MODIFIED:20250626T190804Z
UID:4439-1753083000-1753086600@www.lombardswimclub.com
SUMMARY:Yoga
DESCRIPTION:Baby Pool
URL:https://www.lombardswimclub.com/event/yoga-2/2025-07-21/
END:VEVENT
BEGIN:VEVENT
DTSTART;TZID=America/New_York:20250720T123000
DTEND;TZID=America/New_York:20250720T133000
DTSTAMP:20260421T170959
CREATED:20230518T184247Z
LAST-MODIFIED:20250510T135125Z
UID:4174-1753014600-1753018200@www.lombardswimclub.com
SUMMARY:Aquacize
DESCRIPTION:
URL:https://www.lombardswimclub.com/event/aquacize/2025-07-20/
END:VEVENT
BEGIN:VEVENT
DTSTART;TZID=America/New_York:20250719T200000
DTEND;TZID=America/New_York:20250719T213000
DTSTAMP:20260421T170959
CREATED:20240605T183421Z
LAST-MODIFIED:20250531T172652Z
UID:4529-1752955200-1752960600@www.lombardswimclub.com
SUMMARY:Family Float Night
DESCRIPTION:Pool
URL:https://www.lombardswimclub.com/event/family-float-night-2/2025-07-19/
END:VEVENT
BEGIN:VEVENT
DTSTART;TZID=America/New_York:20250719T123000
DTEND;TZID=America/New_York:20250719T133000
DTSTAMP:20260421T170959
CREATED:20230518T184247Z
LAST-MODIFIED:20250510T135125Z
UID:4173-1752928200-1752931800@www.lombardswimclub.com
SUMMARY:Aquacize
DESCRIPTION:
URL:https://www.lombardswimclub.com/event/aquacize/2025-07-19/
END:VEVENT
BEGIN:VEVENT
DTSTART;TZID=America/New_York:20250718T123000
DTEND;TZID=America/New_York:20250718T133000
DTSTAMP:20260421T170959
CREATED:20230518T184247Z
LAST-MODIFIED:20250510T135125Z
UID:4172-1752841800-1752845400@www.lombardswimclub.com
SUMMARY:Aquacize
DESCRIPTION:
URL:https://www.lombardswimclub.com/event/aquacize/2025-07-18/
END:VEVENT
BEGIN:VEVENT
DTSTART;TZID=America/New_York:20250718T073000
DTEND;TZID=America/New_York:20250718T083000
DTSTAMP:20260421T170959
CREATED:20230518T184714Z
LAST-MODIFIED:20250626T190804Z
UID:4438-1752823800-1752827400@www.lombardswimclub.com
SUMMARY:Yoga
DESCRIPTION:Baby Pool
URL:https://www.lombardswimclub.com/event/yoga-2/2025-07-18/
END:VEVENT
BEGIN:VEVENT
DTSTART;TZID=America/New_York:20250717T190000
DTEND;TZID=America/New_York:20250717T190000
DTSTAMP:20260421T170959
CREATED:20230425T163659Z
LAST-MODIFIED:20250527T171630Z
UID:4091-1752778800-1752778800@www.lombardswimclub.com
SUMMARY:Game Night: Quizzo with Johnny Goodtimes
DESCRIPTION:Upper Deck.
URL:https://www.lombardswimclub.com/event/game-night-quizzo-with-johnny-goodtimes-2025-07-10/
END:VEVENT
BEGIN:VEVENT
DTSTART;TZID=America/New_York:20250717T180000
DTEND;TZID=America/New_York:20250717T190000
DTSTAMP:20260421T170959
CREATED:20250531T175042Z
LAST-MODIFIED:20250531T175042Z
UID:4679-1752775200-1752778800@www.lombardswimclub.com
SUMMARY:Evening Aquacize
DESCRIPTION:
URL:https://www.lombardswimclub.com/event/evening-aquacize-2/2025-07-17/
END:VEVENT
BEGIN:VEVENT
DTSTART;TZID=America/New_York:20250717T123000
DTEND;TZID=America/New_York:20250717T133000
DTSTAMP:20260421T170959
CREATED:20230518T184247Z
LAST-MODIFIED:20250510T135125Z
UID:4171-1752755400-1752759000@www.lombardswimclub.com
SUMMARY:Aquacize
DESCRIPTION:
URL:https://www.lombardswimclub.com/event/aquacize/2025-07-17/
END:VEVENT
BEGIN:VEVENT
DTSTART;TZID=America/New_York:20250717T073000
DTEND;TZID=America/New_York:20250717T083000
DTSTAMP:20260421T170959
CREATED:20230518T184714Z
LAST-MODIFIED:20250626T190804Z
UID:4437-1752737400-1752741000@www.lombardswimclub.com
SUMMARY:Yoga
DESCRIPTION:Baby Pool
URL:https://www.lombardswimclub.com/event/yoga-2/2025-07-17/
END:VEVENT
BEGIN:VEVENT
DTSTART;TZID=America/New_York:20250716T123000
DTEND;TZID=America/New_York:20250716T133000
DTSTAMP:20260421T170959
CREATED:20230518T184247Z
LAST-MODIFIED:20250512T181543Z
UID:4365-1752669000-1752672600@www.lombardswimclub.com
SUMMARY:Deep Water Aquacize
DESCRIPTION:
URL:https://www.lombardswimclub.com/event/aquacize-2024-05-15-2025-05-21/2025-07-16/
END:VEVENT
BEGIN:VEVENT
DTSTART;TZID=America/New_York:20250716T073000
DTEND;TZID=America/New_York:20250716T083000
DTSTAMP:20260421T170959
CREATED:20230518T184714Z
LAST-MODIFIED:20250626T190804Z
UID:4436-1752651000-1752654600@www.lombardswimclub.com
SUMMARY:Yoga
DESCRIPTION:Baby Pool
URL:https://www.lombardswimclub.com/event/yoga-2/2025-07-16/
END:VEVENT
BEGIN:VEVENT
DTSTART;TZID=America/New_York:20250715T180000
DTEND;TZID=America/New_York:20250715T190000
DTSTAMP:20260421T170959
CREATED:20250531T175042Z
LAST-MODIFIED:20250531T175042Z
UID:4678-1752602400-1752606000@www.lombardswimclub.com
SUMMARY:Evening Aquacize
DESCRIPTION:
URL:https://www.lombardswimclub.com/event/evening-aquacize-2/2025-07-15/
END:VEVENT
BEGIN:VEVENT
DTSTART;TZID=America/New_York:20250715T123000
DTEND;TZID=America/New_York:20250715T133000
DTSTAMP:20260421T170959
CREATED:20230518T184247Z
LAST-MODIFIED:20250510T135125Z
UID:4169-1752582600-1752586200@www.lombardswimclub.com
SUMMARY:Aquacize
DESCRIPTION:
URL:https://www.lombardswimclub.com/event/aquacize/2025-07-15/
END:VEVENT
BEGIN:VEVENT
DTSTART;TZID=America/New_York:20250715T073000
DTEND;TZID=America/New_York:20250715T083000
DTSTAMP:20260421T170959
CREATED:20230518T184714Z
LAST-MODIFIED:20250626T190804Z
UID:4435-1752564600-1752568200@www.lombardswimclub.com
SUMMARY:Yoga
DESCRIPTION:Baby Pool
URL:https://www.lombardswimclub.com/event/yoga-2/2025-07-15/
END:VEVENT
BEGIN:VEVENT
DTSTART;TZID=America/New_York:20250714T123000
DTEND;TZID=America/New_York:20250714T133000
DTSTAMP:20260421T170959
CREATED:20230518T184247Z
LAST-MODIFIED:20250713T181026Z
UID:4168-1752496200-1752499800@www.lombardswimclub.com
SUMMARY:Deep Water Aquacize
DESCRIPTION:
URL:https://www.lombardswimclub.com/event/aquacize-2025-07-14/2025-07-14/
END:VEVENT
BEGIN:VEVENT
DTSTART;TZID=America/New_York:20250714T073000
DTEND;TZID=America/New_York:20250714T083000
DTSTAMP:20260421T170959
CREATED:20230518T184714Z
LAST-MODIFIED:20250626T190804Z
UID:4434-1752478200-1752481800@www.lombardswimclub.com
SUMMARY:Yoga
DESCRIPTION:Baby Pool
URL:https://www.lombardswimclub.com/event/yoga-2/2025-07-14/
END:VEVENT
BEGIN:VEVENT
DTSTART;TZID=America/New_York:20250713T150000
DTEND;TZID=America/New_York:20250713T160000
DTSTAMP:20260421T170959
CREATED:20230523T173808Z
LAST-MODIFIED:20230523T173808Z
UID:4723-1752418800-1752422400@www.lombardswimclub.com
SUMMARY:Sunday Funday: Family Bingo
DESCRIPTION:Restaurant
URL:https://www.lombardswimclub.com/event/family-bingo-6/2025-07-13/
END:VEVENT
BEGIN:VEVENT
DTSTART;TZID=America/New_York:20250713T123000
DTEND;TZID=America/New_York:20250713T133000
DTSTAMP:20260421T170959
CREATED:20230518T184247Z
LAST-MODIFIED:20250510T135125Z
UID:4167-1752409800-1752413400@www.lombardswimclub.com
SUMMARY:Aquacize
DESCRIPTION:
URL:https://www.lombardswimclub.com/event/aquacize/2025-07-13/
END:VEVENT
BEGIN:VEVENT
DTSTART;TZID=America/New_York:20250712T200000
DTEND;TZID=America/New_York:20250712T213000
DTSTAMP:20260421T170959
CREATED:20240605T183421Z
LAST-MODIFIED:20250531T172651Z
UID:4528-1752350400-1752355800@www.lombardswimclub.com
SUMMARY:Family Float Night
DESCRIPTION:Pool
URL:https://www.lombardswimclub.com/event/family-float-night-2/2025-07-12/
END:VEVENT
BEGIN:VEVENT
DTSTART;TZID=America/New_York:20250712T130000
DTEND;TZID=America/New_York:20250712T150000
DTSTAMP:20260421T170959
CREATED:20250527T174855Z
LAST-MODIFIED:20250527T174855Z
UID:4566-1752325200-1752332400@www.lombardswimclub.com
SUMMARY:Bridge Club
DESCRIPTION:Upper Deck
URL:https://www.lombardswimclub.com/event/bridge-club/2025-07-12/
END:VEVENT
BEGIN:VEVENT
DTSTART;TZID=America/New_York:20250712T123000
DTEND;TZID=America/New_York:20250712T133000
DTSTAMP:20260421T170959
CREATED:20230518T184247Z
LAST-MODIFIED:20250510T135124Z
UID:4166-1752323400-1752327000@www.lombardswimclub.com
SUMMARY:Aquacize
DESCRIPTION:
URL:https://www.lombardswimclub.com/event/aquacize/2025-07-12/
END:VEVENT
BEGIN:VEVENT
DTSTART;TZID=America/New_York:20250711T123000
DTEND;TZID=America/New_York:20250711T133000
DTSTAMP:20260421T170959
CREATED:20230518T184247Z
LAST-MODIFIED:20250510T135124Z
UID:4165-1752237000-1752240600@www.lombardswimclub.com
SUMMARY:Aquacize
DESCRIPTION:
URL:https://www.lombardswimclub.com/event/aquacize/2025-07-11/
END:VEVENT
BEGIN:VEVENT
DTSTART;TZID=America/New_York:20250710T190000
DTEND;TZID=America/New_York:20250710T200000
DTSTAMP:20260421T170959
CREATED:20230425T164915Z
LAST-MODIFIED:20250713T180616Z
UID:4102-1752174000-1752177600@www.lombardswimclub.com
SUMMARY:Game Night: Trivia by Table
DESCRIPTION:Upper Deck.
URL:https://www.lombardswimclub.com/event/trivia-by-table-3-2025-07-17/
END:VEVENT
BEGIN:VEVENT
DTSTART;TZID=America/New_York:20250710T180000
DTEND;TZID=America/New_York:20250710T190000
DTSTAMP:20260421T170959
CREATED:20250531T175042Z
LAST-MODIFIED:20250531T175042Z
UID:4677-1752170400-1752174000@www.lombardswimclub.com
SUMMARY:Evening Aquacize
DESCRIPTION:
URL:https://www.lombardswimclub.com/event/evening-aquacize-2/2025-07-10/
END:VEVENT
END:VCALENDAR