BEGIN:VCALENDAR
VERSION:2.0
PRODID:-//Lombard Swim Club - ECPv6.11.2.1//NONSGML v1.0//EN
CALSCALE:GREGORIAN
METHOD:PUBLISH
X-ORIGINAL-URL:https://www.lombardswimclub.com
X-WR-CALDESC:Events for Lombard Swim Club
REFRESH-INTERVAL;VALUE=DURATION:PT1H
X-Robots-Tag:noindex
X-PUBLISHED-TTL:PT1H
BEGIN:VTIMEZONE
TZID:America/New_York
BEGIN:DAYLIGHT
TZOFFSETFROM:-0500
TZOFFSETTO:-0400
TZNAME:EDT
DTSTART:20260308T070000
END:DAYLIGHT
BEGIN:STANDARD
TZOFFSETFROM:-0400
TZOFFSETTO:-0500
TZNAME:EST
DTSTART:20261101T060000
END:STANDARD
END:VTIMEZONE
BEGIN:VEVENT
DTSTART;TZID=America/New_York:20260606T123000
DTEND;TZID=America/New_York:20260606T133000
DTSTAMP:20260425T081645
CREATED:20230518T184247Z
LAST-MODIFIED:20230518T184247Z
UID:5392-1780749000-1780752600@www.lombardswimclub.com
SUMMARY:Aquacize
DESCRIPTION:Pool.
URL:https://www.lombardswimclub.com/event/aquacize/2026-06-06/
END:VEVENT
BEGIN:VEVENT
DTSTART;TZID=America/New_York:20260606T200000
DTEND;TZID=America/New_York:20260606T213000
DTSTAMP:20260425T081645
CREATED:20230622T162925Z
LAST-MODIFIED:20260330T194851Z
UID:2283-1780776000-1780781400@www.lombardswimclub.com
SUMMARY:Family Float Night
DESCRIPTION:Pool.
URL:https://www.lombardswimclub.com/event/family-float-night/2026-06-06/
END:VEVENT
BEGIN:VEVENT
DTSTART;TZID=America/New_York:20260607T123000
DTEND;TZID=America/New_York:20260607T133000
DTSTAMP:20260425T081645
CREATED:20230518T184247Z
LAST-MODIFIED:20230518T184247Z
UID:5393-1780835400-1780839000@www.lombardswimclub.com
SUMMARY:Aquacize
DESCRIPTION:Pool.
URL:https://www.lombardswimclub.com/event/aquacize/2026-06-07/
END:VEVENT
BEGIN:VEVENT
DTSTART;TZID=America/New_York:20260607T150000
DTEND;TZID=America/New_York:20260607T153000
DTSTAMP:20260425T081645
CREATED:20230622T164720Z
LAST-MODIFIED:20260330T194006Z
UID:2296-1780844400-1780846200@www.lombardswimclub.com
SUMMARY:Adult Swim
DESCRIPTION:Pool.
URL:https://www.lombardswimclub.com/event/adult-swim-3/2026-06-07/
END:VEVENT
BEGIN:VEVENT
DTSTART;TZID=America/New_York:20260607T150000
DTEND;TZID=America/New_York:20260607T160000
DTSTAMP:20260425T081645
CREATED:20250527T175557Z
LAST-MODIFIED:20260327T181210Z
UID:4518-1780844400-1780848000@www.lombardswimclub.com
SUMMARY:Sunday Funday: Origami
DESCRIPTION:Restaurant
URL:https://www.lombardswimclub.com/event/sunday-funday-checkers/
END:VEVENT
BEGIN:VEVENT
DTSTART;TZID=America/New_York:20260608T123000
DTEND;TZID=America/New_York:20260608T133000
DTSTAMP:20260425T081645
CREATED:20230518T184247Z
LAST-MODIFIED:20230518T184247Z
UID:5394-1780921800-1780925400@www.lombardswimclub.com
SUMMARY:Aquacize
DESCRIPTION:Pool.
URL:https://www.lombardswimclub.com/event/aquacize/2026-06-08/
END:VEVENT
BEGIN:VEVENT
DTSTART;TZID=America/New_York:20260608T183000
DTEND;TZID=America/New_York:20260608T193000
DTSTAMP:20260425T081645
CREATED:20240416T144434Z
LAST-MODIFIED:20260424T160807Z
UID:3435-1780943400-1780947000@www.lombardswimclub.com
SUMMARY:Coffee & Conversation: David Bloovman
DESCRIPTION:Let’s Get More People Composting.\n\nUpper Deck.
URL:https://www.lombardswimclub.com/event/coffee-conversation-michelle-weir-peace-corps/
END:VEVENT
BEGIN:VEVENT
DTSTART;TZID=America/New_York:20260609T123000
DTEND;TZID=America/New_York:20260609T133000
DTSTAMP:20260425T081645
CREATED:20230518T184247Z
LAST-MODIFIED:20230518T184247Z
UID:5395-1781008200-1781011800@www.lombardswimclub.com
SUMMARY:Aquacize
DESCRIPTION:Pool.
URL:https://www.lombardswimclub.com/event/aquacize/2026-06-09/
END:VEVENT
BEGIN:VEVENT
DTSTART;TZID=America/New_York:20260609T180000
DTEND;TZID=America/New_York:20260609T190000
DTSTAMP:20260425T081645
CREATED:20250531T175042Z
LAST-MODIFIED:20250531T175042Z
UID:5333-1781028000-1781031600@www.lombardswimclub.com
SUMMARY:Evening Aquacize
DESCRIPTION:Pool.
URL:https://www.lombardswimclub.com/event/evening-aquacize-2/2026-06-09/
END:VEVENT
BEGIN:VEVENT
DTSTART;TZID=America/New_York:20260609T190000
DTEND;TZID=America/New_York:20260609T200000
DTSTAMP:20260425T081645
CREATED:20250527T172909Z
LAST-MODIFIED:20260330T193816Z
UID:4502-1781031600-1781035200@www.lombardswimclub.com
SUMMARY:Vermouth Tasting: Fell to Earth Vermouthery
DESCRIPTION:Upper Deck.
URL:https://www.lombardswimclub.com/event/amaro-tasting-gianpaolo-guercio/
END:VEVENT
BEGIN:VEVENT
DTSTART;TZID=America/New_York:20260610T123000
DTEND;TZID=America/New_York:20260610T133000
DTSTAMP:20260425T081645
CREATED:20230518T184247Z
LAST-MODIFIED:20230518T184247Z
UID:5396-1781094600-1781098200@www.lombardswimclub.com
SUMMARY:Aquacize
DESCRIPTION:Pool.
URL:https://www.lombardswimclub.com/event/aquacize/2026-06-10/
END:VEVENT
BEGIN:VEVENT
DTSTART;TZID=America/New_York:20260610T180000
DTEND;TZID=America/New_York:20260610T190000
DTSTAMP:20260425T081645
CREATED:20250531T175042Z
LAST-MODIFIED:20250531T175042Z
UID:5334-1781114400-1781118000@www.lombardswimclub.com
SUMMARY:Evening Aquacize
DESCRIPTION:Pool.
URL:https://www.lombardswimclub.com/event/evening-aquacize-2/2026-06-10/
END:VEVENT
BEGIN:VEVENT
DTSTART;TZID=America/New_York:20260611T123000
DTEND;TZID=America/New_York:20260611T133000
DTSTAMP:20260425T081645
CREATED:20230518T184247Z
LAST-MODIFIED:20230518T184247Z
UID:5397-1781181000-1781184600@www.lombardswimclub.com
SUMMARY:Aquacize
DESCRIPTION:Pool.
URL:https://www.lombardswimclub.com/event/aquacize/2026-06-11/
END:VEVENT
BEGIN:VEVENT
DTSTART;TZID=America/New_York:20260611T190000
DTEND;TZID=America/New_York:20260611T200000
DTSTAMP:20260425T081645
CREATED:20230425T163659Z
LAST-MODIFIED:20230425T163659Z
UID:5181-1781204400-1781208000@www.lombardswimclub.com
SUMMARY:Game Night: Quizzo
DESCRIPTION:Upper Deck.
URL:https://www.lombardswimclub.com/event/game-night-quizzo-with-johnny-goodtimes/2026-06-11/
END:VEVENT
BEGIN:VEVENT
DTSTART;TZID=America/New_York:20260612T123000
DTEND;TZID=America/New_York:20260612T133000
DTSTAMP:20260425T081645
CREATED:20230518T184247Z
LAST-MODIFIED:20230518T184247Z
UID:5398-1781267400-1781271000@www.lombardswimclub.com
SUMMARY:Aquacize
DESCRIPTION:Pool.
URL:https://www.lombardswimclub.com/event/aquacize/2026-06-12/
END:VEVENT
BEGIN:VEVENT
DTSTART;TZID=America/New_York:20260612T190000
DTEND;TZID=America/New_York:20260612T203000
DTSTAMP:20260425T081645
CREATED:20250527T183028Z
LAST-MODIFIED:20250527T183028Z
UID:5225-1781290800-1781296200@www.lombardswimclub.com
SUMMARY:Movie-in-the-Game-Room
DESCRIPTION:Game Room.
URL:https://www.lombardswimclub.com/event/kids-movie-night/2026-06-12/
LOCATION:Game Room
END:VEVENT
BEGIN:VEVENT
DTSTART;TZID=America/New_York:20260612T190000
DTEND;TZID=America/New_York:20260612T210000
DTSTAMP:20260425T081645
CREATED:20230425T162310Z
LAST-MODIFIED:20260330T193527Z
UID:1636-1781290800-1781298000@www.lombardswimclub.com
SUMMARY:Friday Night Live: Bethlehem and Sad Patrick
DESCRIPTION:Upper Deck.
URL:https://www.lombardswimclub.com/event/friday-night-live-bethlehem-and-sad-patrick/
END:VEVENT
BEGIN:VEVENT
DTSTART;TZID=America/New_York:20260613T123000
DTEND;TZID=America/New_York:20260613T133000
DTSTAMP:20260425T081645
CREATED:20230518T184247Z
LAST-MODIFIED:20230518T184247Z
UID:5399-1781353800-1781357400@www.lombardswimclub.com
SUMMARY:Aquacize
DESCRIPTION:Pool.
URL:https://www.lombardswimclub.com/event/aquacize/2026-06-13/
END:VEVENT
BEGIN:VEVENT
DTSTART;TZID=America/New_York:20260613T200000
DTEND;TZID=America/New_York:20260613T213000
DTSTAMP:20260425T081645
CREATED:20230622T162925Z
LAST-MODIFIED:20230622T162925Z
UID:5238-1781380800-1781386200@www.lombardswimclub.com
SUMMARY:Family Float Night
DESCRIPTION:Pool.
URL:https://www.lombardswimclub.com/event/family-float-night/2026-06-13/
END:VEVENT
BEGIN:VEVENT
DTSTART;TZID=America/New_York:20260614T123000
DTEND;TZID=America/New_York:20260614T133000
DTSTAMP:20260425T081645
CREATED:20230518T184247Z
LAST-MODIFIED:20230518T184247Z
UID:5400-1781440200-1781443800@www.lombardswimclub.com
SUMMARY:Aquacize
DESCRIPTION:Pool.
URL:https://www.lombardswimclub.com/event/aquacize/2026-06-14/
END:VEVENT
BEGIN:VEVENT
DTSTART;TZID=America/New_York:20260614T150000
DTEND;TZID=America/New_York:20260614T153000
DTSTAMP:20260425T081645
CREATED:20230622T164720Z
LAST-MODIFIED:20230622T164720Z
UID:5209-1781449200-1781451000@www.lombardswimclub.com
SUMMARY:Adult Swim
DESCRIPTION:Pool.
URL:https://www.lombardswimclub.com/event/adult-swim-3/2026-06-14/
END:VEVENT
BEGIN:VEVENT
DTSTART;TZID=America/New_York:20260615T123000
DTEND;TZID=America/New_York:20260615T133000
DTSTAMP:20260425T081645
CREATED:20230518T184247Z
LAST-MODIFIED:20230518T184247Z
UID:5401-1781526600-1781530200@www.lombardswimclub.com
SUMMARY:Aquacize
DESCRIPTION:Pool.
URL:https://www.lombardswimclub.com/event/aquacize/2026-06-15/
END:VEVENT
BEGIN:VEVENT
DTSTART;TZID=America/New_York:20260615T193000
DTEND;TZID=America/New_York:20260615T203000
DTSTAMP:20260425T081645
CREATED:20250604T182730Z
LAST-MODIFIED:20260330T192051Z
UID:4719-1781551800-1781555400@www.lombardswimclub.com
SUMMARY:Tween/Teen Trivia
DESCRIPTION:MUST BE 10 YEARS OR OLDER \nArt Room
URL:https://www.lombardswimclub.com/event/tween-teen-trivia/2026-06-15/
END:VEVENT
BEGIN:VEVENT
DTSTART;TZID=America/New_York:20260616T123000
DTEND;TZID=America/New_York:20260616T133000
DTSTAMP:20260425T081645
CREATED:20230518T184247Z
LAST-MODIFIED:20230518T184247Z
UID:5402-1781613000-1781616600@www.lombardswimclub.com
SUMMARY:Aquacize
DESCRIPTION:Pool.
URL:https://www.lombardswimclub.com/event/aquacize/2026-06-16/
END:VEVENT
BEGIN:VEVENT
DTSTART;TZID=America/New_York:20260616T180000
DTEND;TZID=America/New_York:20260616T190000
DTSTAMP:20260425T081645
CREATED:20250531T175042Z
LAST-MODIFIED:20250531T175042Z
UID:5335-1781632800-1781636400@www.lombardswimclub.com
SUMMARY:Evening Aquacize
DESCRIPTION:Pool.
URL:https://www.lombardswimclub.com/event/evening-aquacize-2/2026-06-16/
END:VEVENT
BEGIN:VEVENT
DTSTART;TZID=America/New_York:20260617T070000
DTEND;TZID=America/New_York:20260617T090000
DTSTAMP:20260425T081645
CREATED:20240528T162847Z
LAST-MODIFIED:20260424T160405Z
UID:3682-1781679600-1781686800@www.lombardswimclub.com
SUMMARY:Lap Clinic
DESCRIPTION:Pool.
URL:https://www.lombardswimclub.com/event/lap-clinic/2026-06-17/
END:VEVENT
BEGIN:VEVENT
DTSTART;TZID=America/New_York:20260617T123000
DTEND;TZID=America/New_York:20260617T133000
DTSTAMP:20260425T081645
CREATED:20230518T184247Z
LAST-MODIFIED:20230518T184247Z
UID:5403-1781699400-1781703000@www.lombardswimclub.com
SUMMARY:Aquacize
DESCRIPTION:Pool.
URL:https://www.lombardswimclub.com/event/aquacize/2026-06-17/
END:VEVENT
BEGIN:VEVENT
DTSTART;TZID=America/New_York:20260617T180000
DTEND;TZID=America/New_York:20260617T190000
DTSTAMP:20260425T081645
CREATED:20250531T175042Z
LAST-MODIFIED:20250531T175042Z
UID:5336-1781719200-1781722800@www.lombardswimclub.com
SUMMARY:Evening Aquacize
DESCRIPTION:Pool.
URL:https://www.lombardswimclub.com/event/evening-aquacize-2/2026-06-17/
END:VEVENT
BEGIN:VEVENT
DTSTART;TZID=America/New_York:20260618T070000
DTEND;TZID=America/New_York:20260618T090000
DTSTAMP:20260425T081645
CREATED:20240528T162847Z
LAST-MODIFIED:20240528T162847Z
UID:5507-1781766000-1781773200@www.lombardswimclub.com
SUMMARY:Lap Clinic
DESCRIPTION:Pool.
URL:https://www.lombardswimclub.com/event/lap-clinic/2026-06-18/
END:VEVENT
BEGIN:VEVENT
DTSTART;TZID=America/New_York:20260618T123000
DTEND;TZID=America/New_York:20260618T133000
DTSTAMP:20260425T081645
CREATED:20230518T184247Z
LAST-MODIFIED:20230518T184247Z
UID:5404-1781785800-1781789400@www.lombardswimclub.com
SUMMARY:Aquacize
DESCRIPTION:Pool.
URL:https://www.lombardswimclub.com/event/aquacize/2026-06-18/
END:VEVENT
END:VCALENDAR