BEGIN:VCALENDAR
VERSION:2.0
PRODID:-//Lombard Swim Club - ECPv6.11.2.1//NONSGML v1.0//EN
CALSCALE:GREGORIAN
METHOD:PUBLISH
X-WR-CALNAME:Lombard Swim Club
X-ORIGINAL-URL:https://www.lombardswimclub.com
X-WR-CALDESC:Events for Lombard Swim Club
REFRESH-INTERVAL;VALUE=DURATION:PT1H
X-Robots-Tag:noindex
X-PUBLISHED-TTL:PT1H
BEGIN:VTIMEZONE
TZID:America/New_York
BEGIN:DAYLIGHT
TZOFFSETFROM:-0500
TZOFFSETTO:-0400
TZNAME:EDT
DTSTART:20260308T070000
END:DAYLIGHT
BEGIN:STANDARD
TZOFFSETFROM:-0400
TZOFFSETTO:-0500
TZNAME:EST
DTSTART:20261101T060000
END:STANDARD
END:VTIMEZONE
BEGIN:VEVENT
DTSTART;TZID=America/New_York:20260704T130000
DTEND;TZID=America/New_York:20260704T130000
DTSTAMP:20260425T102153
CREATED:20250310T154514Z
LAST-MODIFIED:20260331T182722Z
UID:4063-1783170000-1783170000@www.lombardswimclub.com
SUMMARY:Fourth of July Festivities!
DESCRIPTION:Parade\, 1pm (meet in Game Room at 12:55) \nRelays & Follies\, 1:30pm\, main pool \nCoin Toss\, 2pm\, main pool \nIce Cream\, post events in the Restaurant
URL:https://www.lombardswimclub.com/event/fourth-of-july-festivities/
END:VEVENT
BEGIN:VEVENT
DTSTART;TZID=America/New_York:20260704T200000
DTEND;TZID=America/New_York:20260704T213000
DTSTAMP:20260425T102153
CREATED:20230622T162925Z
LAST-MODIFIED:20230622T162925Z
UID:5241-1783195200-1783200600@www.lombardswimclub.com
SUMMARY:Family Float Night
DESCRIPTION:Pool.
URL:https://www.lombardswimclub.com/event/family-float-night/2026-07-04/
END:VEVENT
BEGIN:VEVENT
DTSTART;TZID=America/New_York:20260705T123000
DTEND;TZID=America/New_York:20260705T133000
DTSTAMP:20260425T102153
CREATED:20230518T184247Z
LAST-MODIFIED:20230518T184247Z
UID:5420-1783254600-1783258200@www.lombardswimclub.com
SUMMARY:Aquacize
DESCRIPTION:Pool.
URL:https://www.lombardswimclub.com/event/aquacize/2026-07-05/
END:VEVENT
BEGIN:VEVENT
DTSTART;TZID=America/New_York:20260705T140000
DTEND;TZID=America/New_York:20260705T150000
DTSTAMP:20260425T102153
CREATED:20230622T165116Z
LAST-MODIFIED:20230622T165116Z
UID:5025-1783260000-1783263600@www.lombardswimclub.com
SUMMARY:Afternoon Art (5+ yo)
DESCRIPTION:Art Room
URL:https://www.lombardswimclub.com/event/afternoon-art-5-yo/2026-07-05/
END:VEVENT
BEGIN:VEVENT
DTSTART;TZID=America/New_York:20260705T150000
DTEND;TZID=America/New_York:20260705T153000
DTSTAMP:20260425T102153
CREATED:20230622T164720Z
LAST-MODIFIED:20230622T164720Z
UID:5212-1783263600-1783265400@www.lombardswimclub.com
SUMMARY:Adult Swim
DESCRIPTION:Pool.
URL:https://www.lombardswimclub.com/event/adult-swim-3/2026-07-05/
END:VEVENT
BEGIN:VEVENT
DTSTART;TZID=America/New_York:20260705T150000
DTEND;TZID=America/New_York:20260705T160000
DTSTAMP:20260425T102153
CREATED:20230523T175400Z
LAST-MODIFIED:20260327T181432Z
UID:2222-1783263600-1783267200@www.lombardswimclub.com
SUMMARY:Sunday Funday: Ornament Making
DESCRIPTION:Restaurant
URL:https://www.lombardswimclub.com/event/family-bingo-7/
END:VEVENT
BEGIN:VEVENT
DTSTART;TZID=America/New_York:20260706T070000
DTEND;TZID=America/New_York:20260706T090000
DTSTAMP:20260425T102153
CREATED:20240528T162847Z
LAST-MODIFIED:20240528T162847Z
UID:5516-1783321200-1783328400@www.lombardswimclub.com
SUMMARY:Lap Clinic
DESCRIPTION:Pool.
URL:https://www.lombardswimclub.com/event/lap-clinic/2026-07-06/
END:VEVENT
BEGIN:VEVENT
DTSTART;TZID=America/New_York:20260706T100000
DTEND;TZID=America/New_York:20260706T114500
DTSTAMP:20260425T102153
CREATED:20230425T173833Z
LAST-MODIFIED:20230425T173833Z
UID:5008-1783332000-1783338300@www.lombardswimclub.com
SUMMARY:Morning Strokes for Little Folks
DESCRIPTION:Pool Deck & Art Room
URL:https://www.lombardswimclub.com/event/morning-strokes-for-little-folks/2026-07-06/
END:VEVENT
BEGIN:VEVENT
DTSTART;TZID=America/New_York:20260706T123000
DTEND;TZID=America/New_York:20260706T133000
DTSTAMP:20260425T102153
CREATED:20230518T184247Z
LAST-MODIFIED:20230518T184247Z
UID:5421-1783341000-1783344600@www.lombardswimclub.com
SUMMARY:Aquacize
DESCRIPTION:Pool.
URL:https://www.lombardswimclub.com/event/aquacize/2026-07-06/
END:VEVENT
BEGIN:VEVENT
DTSTART;TZID=America/New_York:20260706T163000
DTEND;TZID=America/New_York:20260706T180000
DTSTAMP:20260425T102153
CREATED:20230425T171414Z
LAST-MODIFIED:20230425T171414Z
UID:4962-1783355400-1783360800@www.lombardswimclub.com
SUMMARY:Poolside Players
DESCRIPTION:Game Room
URL:https://www.lombardswimclub.com/event/poolside-players-3/2026-07-06/
END:VEVENT
BEGIN:VEVENT
DTSTART;TZID=America/New_York:20260706T183000
DTEND;TZID=America/New_York:20260706T193000
DTSTAMP:20260425T102153
CREATED:20260409T154238Z
LAST-MODIFIED:20260409T154238Z
UID:5271-1783362600-1783366200@www.lombardswimclub.com
SUMMARY:Coffee & Conversation: Megan Lundy & Lauren Frazer
DESCRIPTION:ER: From TV Dramas to the Real Thing.\n\n\nUpper Deck.
URL:https://www.lombardswimclub.com/event/coffee-conversation-megan-lundy-lauren-frazer/
END:VEVENT
BEGIN:VEVENT
DTSTART;TZID=America/New_York:20260707T070000
DTEND;TZID=America/New_York:20260707T090000
DTSTAMP:20260425T102153
CREATED:20240528T162847Z
LAST-MODIFIED:20240528T162847Z
UID:5517-1783407600-1783414800@www.lombardswimclub.com
SUMMARY:Lap Clinic
DESCRIPTION:Pool.
URL:https://www.lombardswimclub.com/event/lap-clinic/2026-07-07/
END:VEVENT
BEGIN:VEVENT
DTSTART;TZID=America/New_York:20260707T100000
DTEND;TZID=America/New_York:20260707T114500
DTSTAMP:20260425T102153
CREATED:20230425T173833Z
LAST-MODIFIED:20230425T173833Z
UID:5009-1783418400-1783424700@www.lombardswimclub.com
SUMMARY:Morning Strokes for Little Folks
DESCRIPTION:Pool Deck & Art Room
URL:https://www.lombardswimclub.com/event/morning-strokes-for-little-folks/2026-07-07/
END:VEVENT
BEGIN:VEVENT
DTSTART;TZID=America/New_York:20260707T123000
DTEND;TZID=America/New_York:20260707T133000
DTSTAMP:20260425T102153
CREATED:20230518T184247Z
LAST-MODIFIED:20230518T184247Z
UID:5422-1783427400-1783431000@www.lombardswimclub.com
SUMMARY:Aquacize
DESCRIPTION:Pool.
URL:https://www.lombardswimclub.com/event/aquacize/2026-07-07/
END:VEVENT
BEGIN:VEVENT
DTSTART;TZID=America/New_York:20260707T173000
DTEND;TZID=America/New_York:20260707T183000
DTSTAMP:20260425T102153
CREATED:20230425T171648Z
LAST-MODIFIED:20230425T171648Z
UID:5170-1783445400-1783449000@www.lombardswimclub.com
SUMMARY:Junior Lifeguard
DESCRIPTION:Pool Deck
URL:https://www.lombardswimclub.com/event/intro-to-swim-team/2026-07-07/
END:VEVENT
BEGIN:VEVENT
DTSTART;TZID=America/New_York:20260707T180000
DTEND;TZID=America/New_York:20260707T190000
DTSTAMP:20260425T102153
CREATED:20250531T175042Z
LAST-MODIFIED:20250531T175042Z
UID:5341-1783447200-1783450800@www.lombardswimclub.com
SUMMARY:Evening Aquacize
DESCRIPTION:Pool.
URL:https://www.lombardswimclub.com/event/evening-aquacize-2/2026-07-07/
END:VEVENT
BEGIN:VEVENT
DTSTART;TZID=America/New_York:20260708T070000
DTEND;TZID=America/New_York:20260708T090000
DTSTAMP:20260425T102153
CREATED:20240528T162847Z
LAST-MODIFIED:20240528T162847Z
UID:5518-1783494000-1783501200@www.lombardswimclub.com
SUMMARY:Lap Clinic
DESCRIPTION:Pool.
URL:https://www.lombardswimclub.com/event/lap-clinic/2026-07-08/
END:VEVENT
BEGIN:VEVENT
DTSTART;TZID=America/New_York:20260708T100000
DTEND;TZID=America/New_York:20260708T114500
DTSTAMP:20260425T102153
CREATED:20230425T173833Z
LAST-MODIFIED:20230425T173833Z
UID:5010-1783504800-1783511100@www.lombardswimclub.com
SUMMARY:Morning Strokes for Little Folks
DESCRIPTION:Pool Deck & Art Room
URL:https://www.lombardswimclub.com/event/morning-strokes-for-little-folks/2026-07-08/
END:VEVENT
BEGIN:VEVENT
DTSTART;TZID=America/New_York:20260708T123000
DTEND;TZID=America/New_York:20260708T133000
DTSTAMP:20260425T102153
CREATED:20230518T184247Z
LAST-MODIFIED:20230518T184247Z
UID:5423-1783513800-1783517400@www.lombardswimclub.com
SUMMARY:Aquacize
DESCRIPTION:Pool.
URL:https://www.lombardswimclub.com/event/aquacize/2026-07-08/
END:VEVENT
BEGIN:VEVENT
DTSTART;TZID=America/New_York:20260708T163000
DTEND;TZID=America/New_York:20260708T180000
DTSTAMP:20260425T102153
CREATED:20230425T171414Z
LAST-MODIFIED:20230425T171414Z
UID:4963-1783528200-1783533600@www.lombardswimclub.com
SUMMARY:Poolside Players
DESCRIPTION:Game Room
URL:https://www.lombardswimclub.com/event/poolside-players-3/2026-07-08/
END:VEVENT
BEGIN:VEVENT
DTSTART;TZID=America/New_York:20260708T170000
DTEND;TZID=America/New_York:20260708T180000
DTSTAMP:20260425T102153
CREATED:20230425T173945Z
LAST-MODIFIED:20230425T173945Z
UID:5267-1783530000-1783533600@www.lombardswimclub.com
SUMMARY:Afternoon Art (7+ yo)
DESCRIPTION:Art Room
URL:https://www.lombardswimclub.com/event/afternoon-art/2026-07-08/
END:VEVENT
BEGIN:VEVENT
DTSTART;TZID=America/New_York:20260708T180000
DTEND;TZID=America/New_York:20260708T190000
DTSTAMP:20260425T102153
CREATED:20250531T175042Z
LAST-MODIFIED:20250531T175042Z
UID:5342-1783533600-1783537200@www.lombardswimclub.com
SUMMARY:Evening Aquacize
DESCRIPTION:Pool.
URL:https://www.lombardswimclub.com/event/evening-aquacize-2/2026-07-08/
END:VEVENT
BEGIN:VEVENT
DTSTART;TZID=America/New_York:20260709T070000
DTEND;TZID=America/New_York:20260709T090000
DTSTAMP:20260425T102153
CREATED:20240528T162847Z
LAST-MODIFIED:20240528T162847Z
UID:5519-1783580400-1783587600@www.lombardswimclub.com
SUMMARY:Lap Clinic
DESCRIPTION:Pool.
URL:https://www.lombardswimclub.com/event/lap-clinic/2026-07-09/
END:VEVENT
BEGIN:VEVENT
DTSTART;TZID=America/New_York:20260709T100000
DTEND;TZID=America/New_York:20260709T114500
DTSTAMP:20260425T102153
CREATED:20230425T173833Z
LAST-MODIFIED:20230425T173833Z
UID:5011-1783591200-1783597500@www.lombardswimclub.com
SUMMARY:Morning Strokes for Little Folks
DESCRIPTION:Pool Deck & Art Room
URL:https://www.lombardswimclub.com/event/morning-strokes-for-little-folks/2026-07-09/
END:VEVENT
BEGIN:VEVENT
DTSTART;TZID=America/New_York:20260709T123000
DTEND;TZID=America/New_York:20260709T133000
DTSTAMP:20260425T102153
CREATED:20230518T184247Z
LAST-MODIFIED:20230518T184247Z
UID:5424-1783600200-1783603800@www.lombardswimclub.com
SUMMARY:Aquacize
DESCRIPTION:Pool.
URL:https://www.lombardswimclub.com/event/aquacize/2026-07-09/
END:VEVENT
BEGIN:VEVENT
DTSTART;TZID=America/New_York:20260709T190000
DTEND;TZID=America/New_York:20260709T200000
DTSTAMP:20260425T102153
CREATED:20230623T175824Z
LAST-MODIFIED:20230623T175824Z
UID:5195-1783623600-1783627200@www.lombardswimclub.com
SUMMARY:Game Night: Bingo
DESCRIPTION:Upper Deck.
URL:https://www.lombardswimclub.com/event/game-night-bingo-6/2026-07-09/
END:VEVENT
BEGIN:VEVENT
DTSTART;TZID=America/New_York:20260710T123000
DTEND;TZID=America/New_York:20260710T133000
DTSTAMP:20260425T102153
CREATED:20230518T184247Z
LAST-MODIFIED:20230518T184247Z
UID:5425-1783686600-1783690200@www.lombardswimclub.com
SUMMARY:Aquacize
DESCRIPTION:Pool.
URL:https://www.lombardswimclub.com/event/aquacize/2026-07-10/
END:VEVENT
BEGIN:VEVENT
DTSTART;TZID=America/New_York:20260710T190000
DTEND;TZID=America/New_York:20260710T203000
DTSTAMP:20260425T102153
CREATED:20250527T183028Z
LAST-MODIFIED:20250527T183028Z
UID:5229-1783710000-1783715400@www.lombardswimclub.com
SUMMARY:Movie-in-the-Game-Room
DESCRIPTION:Game Room.
URL:https://www.lombardswimclub.com/event/kids-movie-night/2026-07-10/
LOCATION:Game Room
END:VEVENT
BEGIN:VEVENT
DTSTART;TZID=America/New_York:20260710T190000
DTEND;TZID=America/New_York:20260710T210000
DTSTAMP:20260425T102153
CREATED:20230425T162528Z
LAST-MODIFIED:20260409T153218Z
UID:1638-1783710000-1783717200@www.lombardswimclub.com
SUMMARY:Friday Night Live: V. Shayne Frederick
DESCRIPTION:Upper Deck.
URL:https://www.lombardswimclub.com/event/friday-night-live-ami-yares/
END:VEVENT
BEGIN:VEVENT
DTSTART;TZID=America/New_York:20260711T123000
DTEND;TZID=America/New_York:20260711T133000
DTSTAMP:20260425T102153
CREATED:20230518T184247Z
LAST-MODIFIED:20230518T184247Z
UID:5426-1783773000-1783776600@www.lombardswimclub.com
SUMMARY:Aquacize
DESCRIPTION:Pool.
URL:https://www.lombardswimclub.com/event/aquacize/2026-07-11/
END:VEVENT
END:VCALENDAR