BEGIN:VCALENDAR
VERSION:2.0
PRODID:-//Lombard Swim Club - ECPv6.11.2.1//NONSGML v1.0//EN
CALSCALE:GREGORIAN
METHOD:PUBLISH
X-WR-CALNAME:Lombard Swim Club
X-ORIGINAL-URL:https://www.lombardswimclub.com
X-WR-CALDESC:Events for Lombard Swim Club
REFRESH-INTERVAL;VALUE=DURATION:PT1H
X-Robots-Tag:noindex
X-PUBLISHED-TTL:PT1H
BEGIN:VTIMEZONE
TZID:America/New_York
BEGIN:DAYLIGHT
TZOFFSETFROM:-0500
TZOFFSETTO:-0400
TZNAME:EDT
DTSTART:20260308T070000
END:DAYLIGHT
BEGIN:STANDARD
TZOFFSETFROM:-0400
TZOFFSETTO:-0500
TZNAME:EST
DTSTART:20261101T060000
END:STANDARD
END:VTIMEZONE
BEGIN:VEVENT
DTSTART;TZID=America/New_York:20260720T183000
DTEND;TZID=America/New_York:20260720T193000
DTSTAMP:20260425T102501
CREATED:20230621T165308Z
LAST-MODIFIED:20260330T195417Z
UID:2277-1784572200-1784575800@www.lombardswimclub.com
SUMMARY:Coffee & Conversation: Nydia Han
DESCRIPTION:The Changing Landscape of Journalism: A Day in the Life of a TV News Reporter.\n\nUpper Deck.
URL:https://www.lombardswimclub.com/event/coffee-conversation-6/
END:VEVENT
BEGIN:VEVENT
DTSTART;TZID=America/New_York:20260720T163000
DTEND;TZID=America/New_York:20260720T180000
DTSTAMP:20260425T102501
CREATED:20230425T171414Z
LAST-MODIFIED:20230425T171414Z
UID:4966-1784565000-1784570400@www.lombardswimclub.com
SUMMARY:Poolside Players
DESCRIPTION:Game Room
URL:https://www.lombardswimclub.com/event/poolside-players-3/2026-07-20/
END:VEVENT
BEGIN:VEVENT
DTSTART;TZID=America/New_York:20260720T123000
DTEND;TZID=America/New_York:20260720T133000
DTSTAMP:20260425T102501
CREATED:20230518T184247Z
LAST-MODIFIED:20230518T184247Z
UID:5435-1784550600-1784554200@www.lombardswimclub.com
SUMMARY:Aquacize
DESCRIPTION:Pool.
URL:https://www.lombardswimclub.com/event/aquacize/2026-07-20/
END:VEVENT
BEGIN:VEVENT
DTSTART;TZID=America/New_York:20260720T100000
DTEND;TZID=America/New_York:20260720T114500
DTSTAMP:20260425T102501
CREATED:20230425T173833Z
LAST-MODIFIED:20230425T173833Z
UID:5016-1784541600-1784547900@www.lombardswimclub.com
SUMMARY:Morning Strokes for Little Folks
DESCRIPTION:Pool Deck & Art Room
URL:https://www.lombardswimclub.com/event/morning-strokes-for-little-folks/2026-07-20/
END:VEVENT
BEGIN:VEVENT
DTSTART;TZID=America/New_York:20260720T070000
DTEND;TZID=America/New_York:20260720T090000
DTSTAMP:20260425T102501
CREATED:20240528T162847Z
LAST-MODIFIED:20240528T162847Z
UID:5524-1784530800-1784538000@www.lombardswimclub.com
SUMMARY:Lap Clinic
DESCRIPTION:Pool.
URL:https://www.lombardswimclub.com/event/lap-clinic/2026-07-20/
END:VEVENT
BEGIN:VEVENT
DTSTART;TZID=America/New_York:20260719T150000
DTEND;TZID=America/New_York:20260719T160000
DTSTAMP:20260425T102501
CREATED:20230523T175439Z
LAST-MODIFIED:20260327T181353Z
UID:2224-1784473200-1784476800@www.lombardswimclub.com
SUMMARY:Sunday Funday: Magic Show
DESCRIPTION:Restaurant
URL:https://www.lombardswimclub.com/event/family-bingo-8/
END:VEVENT
BEGIN:VEVENT
DTSTART;TZID=America/New_York:20260719T150000
DTEND;TZID=America/New_York:20260719T153000
DTSTAMP:20260425T102501
CREATED:20230622T164720Z
LAST-MODIFIED:20230622T164720Z
UID:5214-1784473200-1784475000@www.lombardswimclub.com
SUMMARY:Adult Swim
DESCRIPTION:Pool.
URL:https://www.lombardswimclub.com/event/adult-swim-3/2026-07-19/
END:VEVENT
BEGIN:VEVENT
DTSTART;TZID=America/New_York:20260719T140000
DTEND;TZID=America/New_York:20260719T150000
DTSTAMP:20260425T102501
CREATED:20230622T165116Z
LAST-MODIFIED:20230622T165116Z
UID:5027-1784469600-1784473200@www.lombardswimclub.com
SUMMARY:Afternoon Art (5+ yo)
DESCRIPTION:Art Room
URL:https://www.lombardswimclub.com/event/afternoon-art-5-yo/2026-07-19/
END:VEVENT
BEGIN:VEVENT
DTSTART;TZID=America/New_York:20260719T123000
DTEND;TZID=America/New_York:20260719T133000
DTSTAMP:20260425T102501
CREATED:20230518T184247Z
LAST-MODIFIED:20230518T184247Z
UID:5434-1784464200-1784467800@www.lombardswimclub.com
SUMMARY:Aquacize
DESCRIPTION:Pool.
URL:https://www.lombardswimclub.com/event/aquacize/2026-07-19/
END:VEVENT
BEGIN:VEVENT
DTSTART;TZID=America/New_York:20260718T200000
DTEND;TZID=America/New_York:20260718T213000
DTSTAMP:20260425T102501
CREATED:20230622T162925Z
LAST-MODIFIED:20230622T162925Z
UID:5243-1784404800-1784410200@www.lombardswimclub.com
SUMMARY:Family Float Night
DESCRIPTION:Pool.
URL:https://www.lombardswimclub.com/event/family-float-night/2026-07-18/
END:VEVENT
BEGIN:VEVENT
DTSTART;TZID=America/New_York:20260718T123000
DTEND;TZID=America/New_York:20260718T133000
DTSTAMP:20260425T102501
CREATED:20230518T184247Z
LAST-MODIFIED:20230518T184247Z
UID:5433-1784377800-1784381400@www.lombardswimclub.com
SUMMARY:Aquacize
DESCRIPTION:Pool.
URL:https://www.lombardswimclub.com/event/aquacize/2026-07-18/
END:VEVENT
BEGIN:VEVENT
DTSTART;TZID=America/New_York:20260717T190000
DTEND;TZID=America/New_York:20260717T203000
DTSTAMP:20260425T102501
CREATED:20250527T183028Z
LAST-MODIFIED:20250527T183028Z
UID:5230-1784314800-1784320200@www.lombardswimclub.com
SUMMARY:Movie-in-the-Game-Room
DESCRIPTION:Game Room.
URL:https://www.lombardswimclub.com/event/kids-movie-night/2026-07-17/
LOCATION:Game Room
END:VEVENT
BEGIN:VEVENT
DTSTART;TZID=America/New_York:20260717T123000
DTEND;TZID=America/New_York:20260717T133000
DTSTAMP:20260425T102501
CREATED:20230518T184247Z
LAST-MODIFIED:20230518T184247Z
UID:5432-1784291400-1784295000@www.lombardswimclub.com
SUMMARY:Aquacize
DESCRIPTION:Pool.
URL:https://www.lombardswimclub.com/event/aquacize/2026-07-17/
END:VEVENT
BEGIN:VEVENT
DTSTART;TZID=America/New_York:20260716T190000
DTEND;TZID=America/New_York:20260716T200000
DTSTAMP:20260425T102501
CREATED:20230425T163659Z
LAST-MODIFIED:20230425T163659Z
UID:5183-1784228400-1784232000@www.lombardswimclub.com
SUMMARY:Game Night: Quizzo
DESCRIPTION:Upper Deck.
URL:https://www.lombardswimclub.com/event/game-night-quizzo-with-johnny-goodtimes/2026-07-16/
END:VEVENT
BEGIN:VEVENT
DTSTART;TZID=America/New_York:20260716T123000
DTEND;TZID=America/New_York:20260716T133000
DTSTAMP:20260425T102501
CREATED:20230518T184247Z
LAST-MODIFIED:20230518T184247Z
UID:5431-1784205000-1784208600@www.lombardswimclub.com
SUMMARY:Aquacize
DESCRIPTION:Pool.
URL:https://www.lombardswimclub.com/event/aquacize/2026-07-16/
END:VEVENT
BEGIN:VEVENT
DTSTART;TZID=America/New_York:20260716T100000
DTEND;TZID=America/New_York:20260716T114500
DTSTAMP:20260425T102501
CREATED:20230425T173833Z
LAST-MODIFIED:20230425T173833Z
UID:5015-1784196000-1784202300@www.lombardswimclub.com
SUMMARY:Morning Strokes for Little Folks
DESCRIPTION:Pool Deck & Art Room
URL:https://www.lombardswimclub.com/event/morning-strokes-for-little-folks/2026-07-16/
END:VEVENT
BEGIN:VEVENT
DTSTART;TZID=America/New_York:20260716T070000
DTEND;TZID=America/New_York:20260716T090000
DTSTAMP:20260425T102501
CREATED:20240528T162847Z
LAST-MODIFIED:20240528T162847Z
UID:5523-1784185200-1784192400@www.lombardswimclub.com
SUMMARY:Lap Clinic
DESCRIPTION:Pool.
URL:https://www.lombardswimclub.com/event/lap-clinic/2026-07-16/
END:VEVENT
BEGIN:VEVENT
DTSTART;TZID=America/New_York:20260715T180000
DTEND;TZID=America/New_York:20260715T190000
DTSTAMP:20260425T102501
CREATED:20250531T175042Z
LAST-MODIFIED:20250531T175042Z
UID:5344-1784138400-1784142000@www.lombardswimclub.com
SUMMARY:Evening Aquacize
DESCRIPTION:Pool.
URL:https://www.lombardswimclub.com/event/evening-aquacize-2/2026-07-15/
END:VEVENT
BEGIN:VEVENT
DTSTART;TZID=America/New_York:20260715T170000
DTEND;TZID=America/New_York:20260715T180000
DTSTAMP:20260425T102501
CREATED:20230425T173945Z
LAST-MODIFIED:20230425T173945Z
UID:5268-1784134800-1784138400@www.lombardswimclub.com
SUMMARY:Afternoon Art (7+ yo)
DESCRIPTION:Art Room
URL:https://www.lombardswimclub.com/event/afternoon-art/2026-07-15/
END:VEVENT
BEGIN:VEVENT
DTSTART;TZID=America/New_York:20260715T163000
DTEND;TZID=America/New_York:20260715T180000
DTSTAMP:20260425T102501
CREATED:20230425T171414Z
LAST-MODIFIED:20230425T171414Z
UID:4965-1784133000-1784138400@www.lombardswimclub.com
SUMMARY:Poolside Players
DESCRIPTION:Game Room
URL:https://www.lombardswimclub.com/event/poolside-players-3/2026-07-15/
END:VEVENT
BEGIN:VEVENT
DTSTART;TZID=America/New_York:20260715T123000
DTEND;TZID=America/New_York:20260715T133000
DTSTAMP:20260425T102501
CREATED:20230518T184247Z
LAST-MODIFIED:20230518T184247Z
UID:5430-1784118600-1784122200@www.lombardswimclub.com
SUMMARY:Aquacize
DESCRIPTION:Pool.
URL:https://www.lombardswimclub.com/event/aquacize/2026-07-15/
END:VEVENT
BEGIN:VEVENT
DTSTART;TZID=America/New_York:20260715T100000
DTEND;TZID=America/New_York:20260715T114500
DTSTAMP:20260425T102501
CREATED:20230425T173833Z
LAST-MODIFIED:20230425T173833Z
UID:5014-1784109600-1784115900@www.lombardswimclub.com
SUMMARY:Morning Strokes for Little Folks
DESCRIPTION:Pool Deck & Art Room
URL:https://www.lombardswimclub.com/event/morning-strokes-for-little-folks/2026-07-15/
END:VEVENT
BEGIN:VEVENT
DTSTART;TZID=America/New_York:20260715T070000
DTEND;TZID=America/New_York:20260715T090000
DTSTAMP:20260425T102501
CREATED:20240528T162847Z
LAST-MODIFIED:20240528T162847Z
UID:5522-1784098800-1784106000@www.lombardswimclub.com
SUMMARY:Lap Clinic
DESCRIPTION:Pool.
URL:https://www.lombardswimclub.com/event/lap-clinic/2026-07-15/
END:VEVENT
BEGIN:VEVENT
DTSTART;TZID=America/New_York:20260714T190000
DTEND;TZID=America/New_York:20260714T200000
DTSTAMP:20260425T102501
CREATED:20230626T141058Z
LAST-MODIFIED:20260330T193707Z
UID:2548-1784055600-1784059200@www.lombardswimclub.com
SUMMARY:Beer Tasting: Two Locals Brewing Company
DESCRIPTION:Upper Deck.
URL:https://www.lombardswimclub.com/event/beer-tasting-mengistu-koilor-of-two-locals/
END:VEVENT
BEGIN:VEVENT
DTSTART;TZID=America/New_York:20260714T180000
DTEND;TZID=America/New_York:20260714T190000
DTSTAMP:20260425T102501
CREATED:20250531T175042Z
LAST-MODIFIED:20250531T175042Z
UID:5343-1784052000-1784055600@www.lombardswimclub.com
SUMMARY:Evening Aquacize
DESCRIPTION:Pool.
URL:https://www.lombardswimclub.com/event/evening-aquacize-2/2026-07-14/
END:VEVENT
BEGIN:VEVENT
DTSTART;TZID=America/New_York:20260714T173000
DTEND;TZID=America/New_York:20260714T183000
DTSTAMP:20260425T102501
CREATED:20230425T171648Z
LAST-MODIFIED:20230425T171648Z
UID:5171-1784050200-1784053800@www.lombardswimclub.com
SUMMARY:Junior Lifeguard
DESCRIPTION:Pool Deck
URL:https://www.lombardswimclub.com/event/intro-to-swim-team/2026-07-14/
END:VEVENT
BEGIN:VEVENT
DTSTART;TZID=America/New_York:20260714T123000
DTEND;TZID=America/New_York:20260714T133000
DTSTAMP:20260425T102501
CREATED:20230518T184247Z
LAST-MODIFIED:20230518T184247Z
UID:5429-1784032200-1784035800@www.lombardswimclub.com
SUMMARY:Aquacize
DESCRIPTION:Pool.
URL:https://www.lombardswimclub.com/event/aquacize/2026-07-14/
END:VEVENT
BEGIN:VEVENT
DTSTART;TZID=America/New_York:20260714T100000
DTEND;TZID=America/New_York:20260714T114500
DTSTAMP:20260425T102501
CREATED:20230425T173833Z
LAST-MODIFIED:20230425T173833Z
UID:5013-1784023200-1784029500@www.lombardswimclub.com
SUMMARY:Morning Strokes for Little Folks
DESCRIPTION:Pool Deck & Art Room
URL:https://www.lombardswimclub.com/event/morning-strokes-for-little-folks/2026-07-14/
END:VEVENT
BEGIN:VEVENT
DTSTART;TZID=America/New_York:20260714T070000
DTEND;TZID=America/New_York:20260714T090000
DTSTAMP:20260425T102501
CREATED:20240528T162847Z
LAST-MODIFIED:20240528T162847Z
UID:5521-1784012400-1784019600@www.lombardswimclub.com
SUMMARY:Lap Clinic
DESCRIPTION:Pool.
URL:https://www.lombardswimclub.com/event/lap-clinic/2026-07-14/
END:VEVENT
BEGIN:VEVENT
DTSTART;TZID=America/New_York:20260713T193000
DTEND;TZID=America/New_York:20260713T203000
DTSTAMP:20260425T102501
CREATED:20250604T182730Z
LAST-MODIFIED:20250604T182730Z
UID:5175-1783971000-1783974600@www.lombardswimclub.com
SUMMARY:Tween/Teen Trivia
DESCRIPTION:MUST BE 10 YEARS OR OLDER \nArt Room
URL:https://www.lombardswimclub.com/event/tween-teen-trivia/2026-07-13/
END:VEVENT
END:VCALENDAR