BEGIN:VCALENDAR
VERSION:2.0
PRODID:-//Lombard Swim Club - ECPv6.11.2.1//NONSGML v1.0//EN
CALSCALE:GREGORIAN
METHOD:PUBLISH
X-WR-CALNAME:Lombard Swim Club
X-ORIGINAL-URL:https://www.lombardswimclub.com
X-WR-CALDESC:Events for Lombard Swim Club
REFRESH-INTERVAL;VALUE=DURATION:PT1H
X-Robots-Tag:noindex
X-PUBLISHED-TTL:PT1H
BEGIN:VTIMEZONE
TZID:America/New_York
BEGIN:DAYLIGHT
TZOFFSETFROM:-0500
TZOFFSETTO:-0400
TZNAME:EDT
DTSTART:20250309T070000
END:DAYLIGHT
BEGIN:STANDARD
TZOFFSETFROM:-0400
TZOFFSETTO:-0500
TZNAME:EST
DTSTART:20251102T060000
END:STANDARD
BEGIN:DAYLIGHT
TZOFFSETFROM:-0500
TZOFFSETTO:-0400
TZNAME:EDT
DTSTART:20260308T070000
END:DAYLIGHT
BEGIN:STANDARD
TZOFFSETFROM:-0400
TZOFFSETTO:-0500
TZNAME:EST
DTSTART:20261101T060000
END:STANDARD
END:VTIMEZONE
BEGIN:VEVENT
DTSTART;VALUE=DATE:20260131
DTEND;VALUE=DATE:20260201
DTSTAMP:20260425T072515
CREATED:20240123T195612Z
LAST-MODIFIED:20251120T202622Z
UID:2964-1769817600-1769903999@www.lombardswimclub.com
SUMMARY:Associate Applications/Payments Deadline
DESCRIPTION:This includes households that have both Associate and Certificate members. These households may opt to request to fulfill only the Associate member/s dues by this date.
URL:https://www.lombardswimclub.com/event/associate-applications-payments-deadline/
END:VEVENT
BEGIN:VEVENT
DTSTART;VALUE=DATE:20260116
DTEND;VALUE=DATE:20260117
DTSTAMP:20260425T072515
CREATED:20241121T152046Z
LAST-MODIFIED:20251120T202441Z
UID:3882-1768521600-1768607999@www.lombardswimclub.com
SUMMARY:Special Requests Deadline
DESCRIPTION:Deadline to make special application requests\, including: application and payment extensions\, household additions and/or deletions\, and hiatus requests.
URL:https://www.lombardswimclub.com/event/special-requests-deadline-click-for-more/
END:VEVENT
BEGIN:VEVENT
DTSTART;TZID=America/New_York:20260107T080000
DTEND;TZID=America/New_York:20260109T170000
DTSTAMP:20260425T072515
CREATED:20251120T203229Z
LAST-MODIFIED:20251120T203229Z
UID:5146-1767772800-1767978000@www.lombardswimclub.com
SUMMARY:Membership Applications Distribution
DESCRIPTION:All membership applications for current and continuing members will be distributed between January 7th-9th. \nIf you cannot find your application by January 10th\, including following these steps\, please contact us at membership@lombardswimclub.com: \n\nCheck with another joining adult in your household. Membership Applications are sent to one household adult—also known as the “point person.”\nCheck spam and junk folders.\nSearch your email/s for anything from Membership@lombardswimclub.com.\nSearch your email/s for subject line “2026 Membership Application.
URL:https://www.lombardswimclub.com/event/membership-applications-distribution/
END:VEVENT
BEGIN:VEVENT
DTSTART;TZID=America/New_York:20250925T190000
DTEND;TZID=America/New_York:20250925T200000
DTSTAMP:20260425T072515
CREATED:20230425T164706Z
LAST-MODIFIED:20250825T191557Z
UID:1668-1758826800-1758830400@www.lombardswimclub.com
SUMMARY:Game Night: Quizzo
DESCRIPTION:
URL:https://www.lombardswimclub.com/event/bingo-5/
END:VEVENT
BEGIN:VEVENT
DTSTART;TZID=America/New_York:20250924T123000
DTEND;TZID=America/New_York:20250924T133000
DTSTAMP:20260425T072515
CREATED:20230518T184247Z
LAST-MODIFIED:20250512T181543Z
UID:4375-1758717000-1758720600@www.lombardswimclub.com
SUMMARY:Deep Water Aquacize
DESCRIPTION:
URL:https://www.lombardswimclub.com/event/aquacize-2024-05-15-2025-05-21/2025-09-24/
END:VEVENT
BEGIN:VEVENT
DTSTART;TZID=America/New_York:20250922T123000
DTEND;TZID=America/New_York:20250922T133000
DTSTAMP:20260425T072515
CREATED:20230518T184247Z
LAST-MODIFIED:20230518T184247Z
UID:4850-1758544200-1758547800@www.lombardswimclub.com
SUMMARY:Deep Water Aquacize
DESCRIPTION:
URL:https://www.lombardswimclub.com/event/aquacize-2025-07-14/2025-09-22/
END:VEVENT
BEGIN:VEVENT
DTSTART;TZID=America/New_York:20250921T180000
DTEND;TZID=America/New_York:20250921T200000
DTSTAMP:20260425T072515
CREATED:20220804T203432Z
LAST-MODIFIED:20250807T192354Z
UID:1283-1758477600-1758484800@www.lombardswimclub.com
SUMMARY:Annual General Meeting
DESCRIPTION:Upper Deck \nfor Certificate Holders
URL:https://www.lombardswimclub.com/event/annual-general-meeting/
END:VEVENT
BEGIN:VEVENT
DTSTART;TZID=America/New_York:20250918T190000
DTEND;TZID=America/New_York:20250918T190000
DTSTAMP:20260425T072515
CREATED:20230425T163659Z
LAST-MODIFIED:20250527T171344Z
UID:4096-1758222000-1758222000@www.lombardswimclub.com
SUMMARY:Game Night: Bingo
DESCRIPTION:Upper Deck.
URL:https://www.lombardswimclub.com/event/game-night-quizzo-with-johnny-goodtimes-2025-09-18/
END:VEVENT
BEGIN:VEVENT
DTSTART;TZID=America/New_York:20250917T123000
DTEND;TZID=America/New_York:20250917T133000
DTSTAMP:20260425T072515
CREATED:20230518T184247Z
LAST-MODIFIED:20250512T181543Z
UID:4374-1758112200-1758115800@www.lombardswimclub.com
SUMMARY:Deep Water Aquacize
DESCRIPTION:
URL:https://www.lombardswimclub.com/event/aquacize-2024-05-15-2025-05-21/2025-09-17/
END:VEVENT
BEGIN:VEVENT
DTSTART;TZID=America/New_York:20250915T123000
DTEND;TZID=America/New_York:20250915T133000
DTSTAMP:20260425T072515
CREATED:20230518T184247Z
LAST-MODIFIED:20230518T184247Z
UID:4849-1757939400-1757943000@www.lombardswimclub.com
SUMMARY:Deep Water Aquacize
DESCRIPTION:
URL:https://www.lombardswimclub.com/event/aquacize-2025-07-14/2025-09-15/
END:VEVENT
BEGIN:VEVENT
DTSTART;TZID=America/New_York:20250914T163000
DTEND;TZID=America/New_York:20250914T193000
DTSTAMP:20260425T072515
CREATED:20230903T132945Z
LAST-MODIFIED:20250807T192453Z
UID:2654-1757867400-1757878200@www.lombardswimclub.com
SUMMARY:Eagles Tailgate
DESCRIPTION:
URL:https://www.lombardswimclub.com/event/eagles-tailgate/
END:VEVENT
BEGIN:VEVENT
DTSTART;TZID=America/New_York:20250911T190000
DTEND;TZID=America/New_York:20250911T200000
DTSTAMP:20260425T072515
CREATED:20230425T164915Z
LAST-MODIFIED:20250825T191655Z
UID:4106-1757617200-1757620800@www.lombardswimclub.com
SUMMARY:Game Night: Quizzo
DESCRIPTION:Upper Deck.
URL:https://www.lombardswimclub.com/event/trivia-by-table-3-2025-09-11/
END:VEVENT
BEGIN:VEVENT
DTSTART;TZID=America/New_York:20250910T123000
DTEND;TZID=America/New_York:20250910T133000
DTSTAMP:20260425T072515
CREATED:20230518T184247Z
LAST-MODIFIED:20250512T181543Z
UID:4373-1757507400-1757511000@www.lombardswimclub.com
SUMMARY:Deep Water Aquacize
DESCRIPTION:
URL:https://www.lombardswimclub.com/event/aquacize-2024-05-15-2025-05-21/2025-09-10/
END:VEVENT
BEGIN:VEVENT
DTSTART;TZID=America/New_York:20250908T183000
DTEND;TZID=America/New_York:20250908T200000
DTSTAMP:20260425T072515
CREATED:20220804T202718Z
LAST-MODIFIED:20250807T192244Z
UID:1279-1757356200-1757361600@www.lombardswimclub.com
SUMMARY:Meet the Candidates Night
DESCRIPTION:Upper Deck
URL:https://www.lombardswimclub.com/event/meet-the-candidates-night/
END:VEVENT
BEGIN:VEVENT
DTSTART;TZID=America/New_York:20250908T123000
DTEND;TZID=America/New_York:20250908T133000
DTSTAMP:20260425T072515
CREATED:20230518T184247Z
LAST-MODIFIED:20230518T184247Z
UID:4848-1757334600-1757338200@www.lombardswimclub.com
SUMMARY:Deep Water Aquacize
DESCRIPTION:
URL:https://www.lombardswimclub.com/event/aquacize-2025-07-14/2025-09-08/
END:VEVENT
BEGIN:VEVENT
DTSTART;TZID=America/New_York:20250904T190000
DTEND;TZID=America/New_York:20250904T190000
DTSTAMP:20260425T072515
CREATED:20230425T163659Z
LAST-MODIFIED:20250527T171417Z
UID:4095-1757012400-1757012400@www.lombardswimclub.com
SUMMARY:Game Night: Trivia by Table
DESCRIPTION:Upper Deck.
URL:https://www.lombardswimclub.com/event/game-night-quizzo-with-johnny-goodtimes-2025-09-04/
END:VEVENT
BEGIN:VEVENT
DTSTART;TZID=America/New_York:20250903T123000
DTEND;TZID=America/New_York:20250903T133000
DTSTAMP:20260425T072515
CREATED:20230518T184247Z
LAST-MODIFIED:20250512T181543Z
UID:4372-1756902600-1756906200@www.lombardswimclub.com
SUMMARY:Deep Water Aquacize
DESCRIPTION:
URL:https://www.lombardswimclub.com/event/aquacize-2024-05-15-2025-05-21/2025-09-03/
END:VEVENT
BEGIN:VEVENT
DTSTART;TZID=America/New_York:20250831T150000
DTEND;TZID=America/New_York:20250831T160000
DTSTAMP:20260425T072515
CREATED:20230523T173808Z
LAST-MODIFIED:20250606T005622Z
UID:4512-1756652400-1756656000@www.lombardswimclub.com
SUMMARY:Sunday Funday: Family Bingo
DESCRIPTION:Restaurant
URL:https://www.lombardswimclub.com/event/family-bingo-6/2025-08-31/
END:VEVENT
BEGIN:VEVENT
DTSTART;TZID=America/New_York:20250830T200000
DTEND;TZID=America/New_York:20250830T213000
DTSTAMP:20260425T072515
CREATED:20240605T183421Z
LAST-MODIFIED:20250531T172654Z
UID:4534-1756584000-1756589400@www.lombardswimclub.com
SUMMARY:Family Float Night
DESCRIPTION:Pool
URL:https://www.lombardswimclub.com/event/family-float-night-2/2025-08-30/
END:VEVENT
BEGIN:VEVENT
DTSTART;TZID=America/New_York:20250829T200000
DTEND;TZID=America/New_York:20250829T220000
DTSTAMP:20260425T072515
CREATED:20250310T145957Z
LAST-MODIFIED:20250731T181211Z
UID:4014-1756497600-1756504800@www.lombardswimclub.com
SUMMARY:Adult Dive-In Movie Night: THE BREAKFAST CLUB
DESCRIPTION:Pool Deck
URL:https://www.lombardswimclub.com/event/adult-dive-in-movie-night/
END:VEVENT
BEGIN:VEVENT
DTSTART;TZID=America/New_York:20250829T190000
DTEND;TZID=America/New_York:20250829T203000
DTSTAMP:20260425T072515
CREATED:20250527T183028Z
LAST-MODIFIED:20250721T144139Z
UID:4562-1756494000-1756499400@www.lombardswimclub.com
SUMMARY:Kids' Movie Night: Finding Nemo
DESCRIPTION:Game Room
URL:https://www.lombardswimclub.com/event/kids-movie-night-2025-08-29/
LOCATION:Game Room
END:VEVENT
BEGIN:VEVENT
DTSTART;TZID=America/New_York:20250829T073000
DTEND;TZID=America/New_York:20250829T083000
DTSTAMP:20260425T072515
CREATED:20230518T184714Z
LAST-MODIFIED:20250626T190809Z
UID:4468-1756452600-1756456200@www.lombardswimclub.com
SUMMARY:Yoga
DESCRIPTION:Baby Pool
URL:https://www.lombardswimclub.com/event/yoga-2/2025-08-29/
END:VEVENT
BEGIN:VEVENT
DTSTART;TZID=America/New_York:20250828T190000
DTEND;TZID=America/New_York:20250828T200000
DTSTAMP:20260425T072515
CREATED:20230425T164915Z
LAST-MODIFIED:20250825T191617Z
UID:4105-1756407600-1756411200@www.lombardswimclub.com
SUMMARY:Game Night: Bingo
DESCRIPTION:Upper Deck.
URL:https://www.lombardswimclub.com/event/trivia-by-table-3-2025-08-28/
END:VEVENT
BEGIN:VEVENT
DTSTART;TZID=America/New_York:20250828T073000
DTEND;TZID=America/New_York:20250828T083000
DTSTAMP:20260425T072515
CREATED:20230518T184714Z
LAST-MODIFIED:20250626T190809Z
UID:4467-1756366200-1756369800@www.lombardswimclub.com
SUMMARY:Yoga
DESCRIPTION:Baby Pool
URL:https://www.lombardswimclub.com/event/yoga-2/2025-08-28/
END:VEVENT
BEGIN:VEVENT
DTSTART;TZID=America/New_York:20250827T123000
DTEND;TZID=America/New_York:20250827T133000
DTSTAMP:20260425T072515
CREATED:20230518T184247Z
LAST-MODIFIED:20250512T181543Z
UID:4371-1756297800-1756301400@www.lombardswimclub.com
SUMMARY:Deep Water Aquacize
DESCRIPTION:
URL:https://www.lombardswimclub.com/event/aquacize-2024-05-15-2025-05-21/2025-08-27/
END:VEVENT
BEGIN:VEVENT
DTSTART;TZID=America/New_York:20250827T073000
DTEND;TZID=America/New_York:20250827T083000
DTSTAMP:20260425T072515
CREATED:20230518T184714Z
LAST-MODIFIED:20250626T190809Z
UID:4466-1756279800-1756283400@www.lombardswimclub.com
SUMMARY:Yoga
DESCRIPTION:Baby Pool
URL:https://www.lombardswimclub.com/event/yoga-2/2025-08-27/
END:VEVENT
BEGIN:VEVENT
DTSTART;TZID=America/New_York:20250826T170000
DTEND;TZID=America/New_York:20250826T203000
DTSTAMP:20260425T072515
CREATED:20250807T192723Z
LAST-MODIFIED:20250807T192946Z
UID:4882-1756227600-1756240200@www.lombardswimclub.com
SUMMARY:Guest Bartenders: Super Amaro Brothers
DESCRIPTION:
URL:https://www.lombardswimclub.com/event/guest-bartenders-super-amaro-brothers/
END:VEVENT
BEGIN:VEVENT
DTSTART;TZID=America/New_York:20250826T073000
DTEND;TZID=America/New_York:20250826T083000
DTSTAMP:20260425T072515
CREATED:20230518T184714Z
LAST-MODIFIED:20250626T190809Z
UID:4465-1756193400-1756197000@www.lombardswimclub.com
SUMMARY:Yoga
DESCRIPTION:Baby Pool
URL:https://www.lombardswimclub.com/event/yoga-2/2025-08-26/
END:VEVENT
BEGIN:VEVENT
DTSTART;TZID=America/New_York:20250825T183000
DTEND;TZID=America/New_York:20250825T193000
DTSTAMP:20260425T072515
CREATED:20240402T151312Z
LAST-MODIFIED:20250713T180531Z
UID:3005-1756146600-1756150200@www.lombardswimclub.com
SUMMARY:Coffee & Conversation: Sofia Ginzburg & Brian Daly
DESCRIPTION:Kids These Days: An Open-Ended Discussion with a Couple of Child Psychologists on Sex\, Social Media\, Bullying\, and Post-Covid Mental Health\nUpper Deck
URL:https://www.lombardswimclub.com/event/coffee-conversation-joan-becker-life-as-an-artist/
END:VEVENT
BEGIN:VEVENT
DTSTART;TZID=America/New_York:20250825T123000
DTEND;TZID=America/New_York:20250825T133000
DTSTAMP:20260425T072515
CREATED:20230518T184247Z
LAST-MODIFIED:20230518T184247Z
UID:4846-1756125000-1756128600@www.lombardswimclub.com
SUMMARY:Deep Water Aquacize
DESCRIPTION:
URL:https://www.lombardswimclub.com/event/aquacize-2025-07-14/2025-08-25/
END:VEVENT
END:VCALENDAR