BEGIN:VCALENDAR
VERSION:2.0
PRODID:-//Lombard Swim Club - ECPv6.11.2.1//NONSGML v1.0//EN
CALSCALE:GREGORIAN
METHOD:PUBLISH
X-WR-CALNAME:Lombard Swim Club
X-ORIGINAL-URL:https://www.lombardswimclub.com
X-WR-CALDESC:Events for Lombard Swim Club
REFRESH-INTERVAL;VALUE=DURATION:PT1H
X-Robots-Tag:noindex
X-PUBLISHED-TTL:PT1H
BEGIN:VTIMEZONE
TZID:America/New_York
BEGIN:DAYLIGHT
TZOFFSETFROM:-0500
TZOFFSETTO:-0400
TZNAME:EDT
DTSTART:20260308T070000
END:DAYLIGHT
BEGIN:STANDARD
TZOFFSETFROM:-0400
TZOFFSETTO:-0500
TZNAME:EST
DTSTART:20261101T060000
END:STANDARD
END:VTIMEZONE
BEGIN:VEVENT
DTSTART;TZID=America/New_York:20260828T123000
DTEND;TZID=America/New_York:20260828T133000
DTSTAMP:20260425T125027
CREATED:20230518T184247Z
LAST-MODIFIED:20230518T184247Z
UID:5474-1787920200-1787923800@www.lombardswimclub.com
SUMMARY:Aquacize
DESCRIPTION:Pool.
URL:https://www.lombardswimclub.com/event/aquacize/2026-08-28/
END:VEVENT
BEGIN:VEVENT
DTSTART;TZID=America/New_York:20260828T190000
DTEND;TZID=America/New_York:20260828T203000
DTSTAMP:20260425T125027
CREATED:20250527T183028Z
LAST-MODIFIED:20250527T183028Z
UID:5237-1787943600-1787949000@www.lombardswimclub.com
SUMMARY:Movie-in-the-Game-Room
DESCRIPTION:Game Room.
URL:https://www.lombardswimclub.com/event/kids-movie-night/2026-08-28/
LOCATION:Game Room
END:VEVENT
BEGIN:VEVENT
DTSTART;TZID=America/New_York:20260828T200000
DTEND;TZID=America/New_York:20260828T200000
DTSTAMP:20260425T125027
CREATED:20230425T165609Z
LAST-MODIFIED:20260330T194247Z
UID:1682-1787947200-1787947200@www.lombardswimclub.com
SUMMARY:Adult Dive-In Movie Night
DESCRIPTION:Pool Deck.
URL:https://www.lombardswimclub.com/event/adult-movie-night/
END:VEVENT
END:VCALENDAR