BEGIN:VCALENDAR
VERSION:2.0
PRODID:-//Lombard Swim Club - ECPv6.11.2.1//NONSGML v1.0//EN
CALSCALE:GREGORIAN
METHOD:PUBLISH
X-WR-CALNAME:Lombard Swim Club
X-ORIGINAL-URL:https://www.lombardswimclub.com
X-WR-CALDESC:Events for Lombard Swim Club
REFRESH-INTERVAL;VALUE=DURATION:PT1H
X-Robots-Tag:noindex
X-PUBLISHED-TTL:PT1H
BEGIN:VTIMEZONE
TZID:America/New_York
BEGIN:DAYLIGHT
TZOFFSETFROM:-0500
TZOFFSETTO:-0400
TZNAME:EDT
DTSTART:20260308T070000
END:DAYLIGHT
BEGIN:STANDARD
TZOFFSETFROM:-0400
TZOFFSETTO:-0500
TZNAME:EST
DTSTART:20261101T060000
END:STANDARD
END:VTIMEZONE
BEGIN:VEVENT
DTSTART;TZID=America/New_York:20260814T123000
DTEND;TZID=America/New_York:20260814T133000
DTSTAMP:20260425T070910
CREATED:20230518T184247Z
LAST-MODIFIED:20230518T184247Z
UID:5460-1786710600-1786714200@www.lombardswimclub.com
SUMMARY:Aquacize
DESCRIPTION:Pool.
URL:https://www.lombardswimclub.com/event/aquacize/2026-08-14/
END:VEVENT
BEGIN:VEVENT
DTSTART;TZID=America/New_York:20260814T190000
DTEND;TZID=America/New_York:20260814T203000
DTSTAMP:20260425T070910
CREATED:20250527T183028Z
LAST-MODIFIED:20250527T183028Z
UID:5235-1786734000-1786739400@www.lombardswimclub.com
SUMMARY:Movie-in-the-Game-Room
DESCRIPTION:Game Room.
URL:https://www.lombardswimclub.com/event/kids-movie-night/2026-08-14/
LOCATION:Game Room
END:VEVENT
BEGIN:VEVENT
DTSTART;TZID=America/New_York:20260814T190000
DTEND;TZID=America/New_York:20260814T210000
DTSTAMP:20260425T070910
CREATED:20250527T165952Z
LAST-MODIFIED:20260330T193342Z
UID:4478-1786734000-1786741200@www.lombardswimclub.com
SUMMARY:Friday Night Live: Maya Buchanan
DESCRIPTION:Upper Deck.
URL:https://www.lombardswimclub.com/event/friday-night-live-erik-kaszynski/
END:VEVENT
END:VCALENDAR