BEGIN:VCALENDAR
VERSION:2.0
PRODID:-//Lombard Swim Club - ECPv6.11.2.1//NONSGML v1.0//EN
CALSCALE:GREGORIAN
METHOD:PUBLISH
X-ORIGINAL-URL:https://www.lombardswimclub.com
X-WR-CALDESC:Events for Lombard Swim Club
REFRESH-INTERVAL;VALUE=DURATION:PT1H
X-Robots-Tag:noindex
X-PUBLISHED-TTL:PT1H
BEGIN:VTIMEZONE
TZID:America/New_York
BEGIN:DAYLIGHT
TZOFFSETFROM:-0500
TZOFFSETTO:-0400
TZNAME:EDT
DTSTART:20260308T070000
END:DAYLIGHT
BEGIN:STANDARD
TZOFFSETFROM:-0400
TZOFFSETTO:-0500
TZNAME:EST
DTSTART:20261101T060000
END:STANDARD
END:VTIMEZONE
BEGIN:VEVENT
DTSTART;TZID=America/New_York:20260813T070000
DTEND;TZID=America/New_York:20260813T090000
DTSTAMP:20260425T071803
CREATED:20240528T162847Z
LAST-MODIFIED:20240528T162847Z
UID:5539-1786604400-1786611600@www.lombardswimclub.com
SUMMARY:Lap Clinic
DESCRIPTION:Pool.
URL:https://www.lombardswimclub.com/event/lap-clinic/2026-08-13/
END:VEVENT
BEGIN:VEVENT
DTSTART;TZID=America/New_York:20260813T123000
DTEND;TZID=America/New_York:20260813T133000
DTSTAMP:20260425T071803
CREATED:20230518T184247Z
LAST-MODIFIED:20230518T184247Z
UID:5459-1786624200-1786627800@www.lombardswimclub.com
SUMMARY:Aquacize
DESCRIPTION:Pool.
URL:https://www.lombardswimclub.com/event/aquacize/2026-08-13/
END:VEVENT
BEGIN:VEVENT
DTSTART;TZID=America/New_York:20260813T190000
DTEND;TZID=America/New_York:20260813T200000
DTSTAMP:20260425T071803
CREATED:20230425T163659Z
LAST-MODIFIED:20230425T163659Z
UID:5185-1786647600-1786651200@www.lombardswimclub.com
SUMMARY:Game Night: Quizzo
DESCRIPTION:Upper Deck.
URL:https://www.lombardswimclub.com/event/game-night-quizzo-with-johnny-goodtimes/2026-08-13/
END:VEVENT
END:VCALENDAR