BEGIN:VCALENDAR
VERSION:2.0
PRODID:-//Lombard Swim Club - ECPv6.11.2.1//NONSGML v1.0//EN
CALSCALE:GREGORIAN
METHOD:PUBLISH
X-ORIGINAL-URL:https://www.lombardswimclub.com
X-WR-CALDESC:Events for Lombard Swim Club
REFRESH-INTERVAL;VALUE=DURATION:PT1H
X-Robots-Tag:noindex
X-PUBLISHED-TTL:PT1H
BEGIN:VTIMEZONE
TZID:America/New_York
BEGIN:DAYLIGHT
TZOFFSETFROM:-0500
TZOFFSETTO:-0400
TZNAME:EDT
DTSTART:20260308T070000
END:DAYLIGHT
BEGIN:STANDARD
TZOFFSETFROM:-0400
TZOFFSETTO:-0500
TZNAME:EST
DTSTART:20261101T060000
END:STANDARD
END:VTIMEZONE
BEGIN:VEVENT
DTSTART;TZID=America/New_York:20260701T070000
DTEND;TZID=America/New_York:20260701T090000
DTSTAMP:20260424T174515
CREATED:20240528T162847Z
LAST-MODIFIED:20240528T162847Z
UID:5514-1782889200-1782896400@www.lombardswimclub.com
SUMMARY:Lap Clinic
DESCRIPTION:Pool.
URL:https://www.lombardswimclub.com/event/lap-clinic/2026-07-01/
END:VEVENT
BEGIN:VEVENT
DTSTART;TZID=America/New_York:20260701T100000
DTEND;TZID=America/New_York:20260701T114500
DTSTAMP:20260424T174515
CREATED:20230425T173833Z
LAST-MODIFIED:20230425T173833Z
UID:5006-1782900000-1782906300@www.lombardswimclub.com
SUMMARY:Morning Strokes for Little Folks
DESCRIPTION:Pool Deck & Art Room
URL:https://www.lombardswimclub.com/event/morning-strokes-for-little-folks/2026-07-01/
END:VEVENT
BEGIN:VEVENT
DTSTART;TZID=America/New_York:20260701T123000
DTEND;TZID=America/New_York:20260701T133000
DTSTAMP:20260424T174515
CREATED:20230518T184247Z
LAST-MODIFIED:20230518T184247Z
UID:5417-1782909000-1782912600@www.lombardswimclub.com
SUMMARY:Aquacize
DESCRIPTION:Pool.
URL:https://www.lombardswimclub.com/event/aquacize/2026-07-01/
END:VEVENT
BEGIN:VEVENT
DTSTART;TZID=America/New_York:20260701T163000
DTEND;TZID=America/New_York:20260701T180000
DTSTAMP:20260424T174515
CREATED:20230425T171414Z
LAST-MODIFIED:20230425T171414Z
UID:4961-1782923400-1782928800@www.lombardswimclub.com
SUMMARY:Poolside Players
DESCRIPTION:Game Room
URL:https://www.lombardswimclub.com/event/poolside-players-3/2026-07-01/
END:VEVENT
BEGIN:VEVENT
DTSTART;TZID=America/New_York:20260701T170000
DTEND;TZID=America/New_York:20260701T180000
DTSTAMP:20260424T174515
CREATED:20230425T173945Z
LAST-MODIFIED:20230425T173945Z
UID:5266-1782925200-1782928800@www.lombardswimclub.com
SUMMARY:Afternoon Art (7+ yo)
DESCRIPTION:Art Room
URL:https://www.lombardswimclub.com/event/afternoon-art/2026-07-01/
END:VEVENT
BEGIN:VEVENT
DTSTART;TZID=America/New_York:20260701T180000
DTEND;TZID=America/New_York:20260701T190000
DTSTAMP:20260424T174515
CREATED:20250531T175042Z
LAST-MODIFIED:20250531T175042Z
UID:5340-1782928800-1782932400@www.lombardswimclub.com
SUMMARY:Evening Aquacize
DESCRIPTION:Pool.
URL:https://www.lombardswimclub.com/event/evening-aquacize-2/2026-07-01/
END:VEVENT
END:VCALENDAR