BEGIN:VCALENDAR
VERSION:2.0
PRODID:-//Lombard Swim Club - ECPv6.11.2.1//NONSGML v1.0//EN
CALSCALE:GREGORIAN
METHOD:PUBLISH
X-WR-CALNAME:Lombard Swim Club
X-ORIGINAL-URL:https://www.lombardswimclub.com
X-WR-CALDESC:Events for Lombard Swim Club
REFRESH-INTERVAL;VALUE=DURATION:PT1H
X-Robots-Tag:noindex
X-PUBLISHED-TTL:PT1H
BEGIN:VTIMEZONE
TZID:America/New_York
BEGIN:DAYLIGHT
TZOFFSETFROM:-0500
TZOFFSETTO:-0400
TZNAME:EDT
DTSTART:20260308T070000
END:DAYLIGHT
BEGIN:STANDARD
TZOFFSETFROM:-0400
TZOFFSETTO:-0500
TZNAME:EST
DTSTART:20261101T060000
END:STANDARD
END:VTIMEZONE
BEGIN:VEVENT
DTSTART;TZID=America/New_York:20260630T070000
DTEND;TZID=America/New_York:20260630T090000
DTSTAMP:20260424T143412
CREATED:20240528T162847Z
LAST-MODIFIED:20240528T162847Z
UID:5513-1782802800-1782810000@www.lombardswimclub.com
SUMMARY:Lap Clinic
DESCRIPTION:Pool.
URL:https://www.lombardswimclub.com/event/lap-clinic/2026-06-30/
END:VEVENT
BEGIN:VEVENT
DTSTART;TZID=America/New_York:20260630T100000
DTEND;TZID=America/New_York:20260630T114500
DTSTAMP:20260424T143412
CREATED:20230425T173833Z
LAST-MODIFIED:20230425T173833Z
UID:5005-1782813600-1782819900@www.lombardswimclub.com
SUMMARY:Morning Strokes for Little Folks
DESCRIPTION:Pool Deck & Art Room
URL:https://www.lombardswimclub.com/event/morning-strokes-for-little-folks/2026-06-30/
END:VEVENT
BEGIN:VEVENT
DTSTART;TZID=America/New_York:20260630T123000
DTEND;TZID=America/New_York:20260630T133000
DTSTAMP:20260424T143412
CREATED:20230518T184247Z
LAST-MODIFIED:20230518T184247Z
UID:5416-1782822600-1782826200@www.lombardswimclub.com
SUMMARY:Aquacize
DESCRIPTION:Pool.
URL:https://www.lombardswimclub.com/event/aquacize/2026-06-30/
END:VEVENT
BEGIN:VEVENT
DTSTART;TZID=America/New_York:20260630T173000
DTEND;TZID=America/New_York:20260630T183000
DTSTAMP:20260424T143412
CREATED:20230425T171648Z
LAST-MODIFIED:20230425T171648Z
UID:5169-1782840600-1782844200@www.lombardswimclub.com
SUMMARY:Junior Lifeguard
DESCRIPTION:Pool Deck
URL:https://www.lombardswimclub.com/event/intro-to-swim-team/2026-06-30/
END:VEVENT
BEGIN:VEVENT
DTSTART;TZID=America/New_York:20260630T180000
DTEND;TZID=America/New_York:20260630T190000
DTSTAMP:20260424T143412
CREATED:20250531T175042Z
LAST-MODIFIED:20250531T175042Z
UID:5339-1782842400-1782846000@www.lombardswimclub.com
SUMMARY:Evening Aquacize
DESCRIPTION:Pool.
URL:https://www.lombardswimclub.com/event/evening-aquacize-2/2026-06-30/
END:VEVENT
END:VCALENDAR